BEGIN:VCALENDAR
VERSION:2.0
PRODID:-//Maritiem College IJmuiden - ECPv6.15.20//NONSGML v1.0//EN
CALSCALE:GREGORIAN
METHOD:PUBLISH
X-ORIGINAL-URL:https://www.maritiemcollegeijmuiden.nl
X-WR-CALDESC:Evenementen voor Maritiem College IJmuiden
REFRESH-INTERVAL;VALUE=DURATION:PT1H
X-Robots-Tag:noindex
X-PUBLISHED-TTL:PT1H
BEGIN:VTIMEZONE
TZID:Europe/Amsterdam
BEGIN:DAYLIGHT
TZOFFSETFROM:+0100
TZOFFSETTO:+0200
TZNAME:CEST
DTSTART:20250330T010000
END:DAYLIGHT
BEGIN:STANDARD
TZOFFSETFROM:+0200
TZOFFSETTO:+0100
TZNAME:CET
DTSTART:20251026T010000
END:STANDARD
BEGIN:DAYLIGHT
TZOFFSETFROM:+0100
TZOFFSETTO:+0200
TZNAME:CEST
DTSTART:20260329T010000
END:DAYLIGHT
BEGIN:STANDARD
TZOFFSETFROM:+0200
TZOFFSETTO:+0100
TZNAME:CET
DTSTART:20261025T010000
END:STANDARD
BEGIN:DAYLIGHT
TZOFFSETFROM:+0100
TZOFFSETTO:+0200
TZNAME:CEST
DTSTART:20270328T010000
END:DAYLIGHT
BEGIN:STANDARD
TZOFFSETFROM:+0200
TZOFFSETTO:+0100
TZNAME:CET
DTSTART:20271031T010000
END:STANDARD
END:VTIMEZONE
BEGIN:VEVENT
DTSTART;VALUE=DATE:20260303
DTEND;VALUE=DATE:20260304
DTSTAMP:20260420T044452
CREATED:20250630T112700Z
LAST-MODIFIED:20250630T112741Z
UID:7628-1772496000-1772582399@www.maritiemcollegeijmuiden.nl
SUMMARY:On Stage Beroepenfeest\, leerjaar 2 en 3
DESCRIPTION:
URL:https://www.maritiemcollegeijmuiden.nl/event/beroepenfeest-leerjaar-2-en-3/
END:VEVENT
BEGIN:VEVENT
DTSTART;TZID=Europe/Amsterdam:20260316T080000
DTEND;TZID=Europe/Amsterdam:20260320T170000
DTSTAMP:20260420T044452
CREATED:20250617T114015Z
LAST-MODIFIED:20250902T144535Z
UID:7588-1773648000-1774026000@www.maritiemcollegeijmuiden.nl
SUMMARY:Tentamenweek\, leerjaar 4
DESCRIPTION:
URL:https://www.maritiemcollegeijmuiden.nl/event/tentamenweek-leerjaar-4-3/
END:VEVENT
BEGIN:VEVENT
DTSTART;TZID=Europe/Amsterdam:20260316T080000
DTEND;TZID=Europe/Amsterdam:20260320T170000
DTSTAMP:20260420T044452
CREATED:20250707T125305Z
LAST-MODIFIED:20250707T125348Z
UID:7685-1773648000-1774026000@www.maritiemcollegeijmuiden.nl
SUMMARY:Portfolioweek
DESCRIPTION:
URL:https://www.maritiemcollegeijmuiden.nl/event/portfolioweek-10/
END:VEVENT
BEGIN:VEVENT
DTSTART;TZID=Europe/Amsterdam:20260317T083000
DTEND;TZID=Europe/Amsterdam:20260317T130000
DTSTAMP:20260420T044452
CREATED:20250915T111256Z
LAST-MODIFIED:20250915T111256Z
UID:7773-1773736200-1773752400@www.maritiemcollegeijmuiden.nl
SUMMARY:Bliksemstage Lj.1
DESCRIPTION:
URL:https://www.maritiemcollegeijmuiden.nl/event/bliksemstage-lj-1/
END:VEVENT
BEGIN:VEVENT
DTSTART;TZID=Europe/Amsterdam:20260318T083000
DTEND;TZID=Europe/Amsterdam:20260318T130000
DTSTAMP:20260420T044452
CREATED:20250915T111318Z
LAST-MODIFIED:20250915T111318Z
UID:7775-1773822600-1773838800@www.maritiemcollegeijmuiden.nl
SUMMARY:Bliksemstage Lj.1
DESCRIPTION:
URL:https://www.maritiemcollegeijmuiden.nl/event/bliksemstage-lj-1-2/
END:VEVENT
BEGIN:VEVENT
DTSTART;VALUE=DATE:20260324
DTEND;VALUE=DATE:20260325
DTSTAMP:20260420T044452
CREATED:20250630T112847Z
LAST-MODIFIED:20250630T112847Z
UID:7631-1774310400-1774396799@www.maritiemcollegeijmuiden.nl
SUMMARY:On Stage Doe-Dag\, leerjaar 2 en 3
DESCRIPTION:
URL:https://www.maritiemcollegeijmuiden.nl/event/on-stage-doe-dag-leerjaar-2-en-3/
END:VEVENT
BEGIN:VEVENT
DTSTART;TZID=Europe/Amsterdam:20260325T080000
DTEND;TZID=Europe/Amsterdam:20260331T170000
DTSTAMP:20260420T044452
CREATED:20250617T114217Z
LAST-MODIFIED:20250617T114217Z
UID:7590-1774425600-1774976400@www.maritiemcollegeijmuiden.nl
SUMMARY:Landelijke aanmeldweek
DESCRIPTION:
URL:https://www.maritiemcollegeijmuiden.nl/event/landelijke-aanmeldweek-3/
END:VEVENT
BEGIN:VEVENT
DTSTART;TZID=Europe/Amsterdam:20260330T080000
DTEND;TZID=Europe/Amsterdam:20260330T170000
DTSTAMP:20260420T044452
CREATED:20250908T142728Z
LAST-MODIFIED:20250908T142728Z
UID:7757-1774857600-1774890000@www.maritiemcollegeijmuiden.nl
SUMMARY:Herkansing tentamen\, leerjaar 4
DESCRIPTION:
URL:https://www.maritiemcollegeijmuiden.nl/event/herkansing-tentamen-leerjaar-4-3/
END:VEVENT
END:VCALENDAR