BEGIN:VCALENDAR
VERSION:2.0
PRODID:-//Maritiem College IJmuiden - ECPv6.15.20//NONSGML v1.0//EN
CALSCALE:GREGORIAN
METHOD:PUBLISH
X-ORIGINAL-URL:https://www.maritiemcollegeijmuiden.nl
X-WR-CALDESC:Evenementen voor Maritiem College IJmuiden
REFRESH-INTERVAL;VALUE=DURATION:PT1H
X-Robots-Tag:noindex
X-PUBLISHED-TTL:PT1H
BEGIN:VTIMEZONE
TZID:Europe/Amsterdam
BEGIN:DAYLIGHT
TZOFFSETFROM:+0100
TZOFFSETTO:+0200
TZNAME:CEST
DTSTART:20230326T010000
END:DAYLIGHT
BEGIN:STANDARD
TZOFFSETFROM:+0200
TZOFFSETTO:+0100
TZNAME:CET
DTSTART:20231029T010000
END:STANDARD
BEGIN:DAYLIGHT
TZOFFSETFROM:+0100
TZOFFSETTO:+0200
TZNAME:CEST
DTSTART:20240331T010000
END:DAYLIGHT
BEGIN:STANDARD
TZOFFSETFROM:+0200
TZOFFSETTO:+0100
TZNAME:CET
DTSTART:20241027T010000
END:STANDARD
BEGIN:DAYLIGHT
TZOFFSETFROM:+0100
TZOFFSETTO:+0200
TZNAME:CEST
DTSTART:20250330T010000
END:DAYLIGHT
BEGIN:STANDARD
TZOFFSETFROM:+0200
TZOFFSETTO:+0100
TZNAME:CET
DTSTART:20251026T010000
END:STANDARD
END:VTIMEZONE
BEGIN:VEVENT
DTSTART;TZID=Europe/Amsterdam:20240401T080000
DTEND;TZID=Europe/Amsterdam:20240401T170000
DTSTAMP:20260421T211436
CREATED:20230711T075113Z
LAST-MODIFIED:20230711T075113Z
UID:5487-1711958400-1711990800@www.maritiemcollegeijmuiden.nl
SUMMARY:2e paasdag
DESCRIPTION:
URL:https://www.maritiemcollegeijmuiden.nl/event/2e-paasdag/
END:VEVENT
BEGIN:VEVENT
DTSTART;TZID=Europe/Amsterdam:20240405T080000
DTEND;TZID=Europe/Amsterdam:20240405T170000
DTSTAMP:20260421T211436
CREATED:20240129T101616Z
LAST-MODIFIED:20240129T101616Z
UID:6125-1712304000-1712336400@www.maritiemcollegeijmuiden.nl
SUMMARY:Herkansing tentamen\, leerjaar 4
DESCRIPTION:
URL:https://www.maritiemcollegeijmuiden.nl/event/herkansing-tentamen-leerjaar-4/
END:VEVENT
BEGIN:VEVENT
DTSTART;TZID=Europe/Amsterdam:20240416T130000
DTEND;TZID=Europe/Amsterdam:20240416T170000
DTSTAMP:20260421T211436
CREATED:20230918T122940Z
LAST-MODIFIED:20230918T122940Z
UID:5719-1713272400-1713286800@www.maritiemcollegeijmuiden.nl
SUMMARY:Studiemiddag
DESCRIPTION:
URL:https://www.maritiemcollegeijmuiden.nl/event/studiemiddag-16/
END:VEVENT
BEGIN:VEVENT
DTSTART;TZID=Europe/Amsterdam:20240422T080000
DTEND;TZID=Europe/Amsterdam:20240422T170000
DTSTAMP:20260421T211436
CREATED:20240201T152212Z
LAST-MODIFIED:20240201T152212Z
UID:6146-1713772800-1713805200@www.maritiemcollegeijmuiden.nl
SUMMARY:Training CSPE\, leerjaar 3
DESCRIPTION:
URL:https://www.maritiemcollegeijmuiden.nl/event/training-cspe-leerjaar-3/
END:VEVENT
BEGIN:VEVENT
DTSTART;TZID=Europe/Amsterdam:20240422T080000
DTEND;TZID=Europe/Amsterdam:20240422T170000
DTSTAMP:20260421T211436
CREATED:20240201T152314Z
LAST-MODIFIED:20240201T152314Z
UID:6149-1713772800-1713805200@www.maritiemcollegeijmuiden.nl
SUMMARY:Examentraining\, leerjaar 4
DESCRIPTION:
URL:https://www.maritiemcollegeijmuiden.nl/event/examentraining-leerjaar-4/
END:VEVENT
BEGIN:VEVENT
DTSTART;TZID=Europe/Amsterdam:20240422T080000
DTEND;TZID=Europe/Amsterdam:20240426T170000
DTSTAMP:20260421T211436
CREATED:20240201T151824Z
LAST-MODIFIED:20240201T151824Z
UID:6144-1713772800-1714150800@www.maritiemcollegeijmuiden.nl
SUMMARY:CITO toets\, leerjaar 1 en 3
DESCRIPTION:
URL:https://www.maritiemcollegeijmuiden.nl/event/cito-toets-leerjaar-1-en-3/
END:VEVENT
BEGIN:VEVENT
DTSTART;TZID=Europe/Amsterdam:20240427T080000
DTEND;TZID=Europe/Amsterdam:20240512T170000
DTSTAMP:20260421T211436
CREATED:20231002T083224Z
LAST-MODIFIED:20231002T083224Z
UID:5737-1714204800-1715533200@www.maritiemcollegeijmuiden.nl
SUMMARY:Meivakantie
DESCRIPTION:
URL:https://www.maritiemcollegeijmuiden.nl/event/meivakantie-13/
END:VEVENT
END:VCALENDAR