BEGIN:VCALENDAR
VERSION:2.0
PRODID:-//Maritiem College IJmuiden - ECPv6.15.20//NONSGML v1.0//EN
CALSCALE:GREGORIAN
METHOD:PUBLISH
X-ORIGINAL-URL:https://www.maritiemcollegeijmuiden.nl
X-WR-CALDESC:Evenementen voor Maritiem College IJmuiden
REFRESH-INTERVAL;VALUE=DURATION:PT1H
X-Robots-Tag:noindex
X-PUBLISHED-TTL:PT1H
BEGIN:VTIMEZONE
TZID:Europe/Amsterdam
BEGIN:DAYLIGHT
TZOFFSETFROM:+0100
TZOFFSETTO:+0200
TZNAME:CEST
DTSTART:20230326T010000
END:DAYLIGHT
BEGIN:STANDARD
TZOFFSETFROM:+0200
TZOFFSETTO:+0100
TZNAME:CET
DTSTART:20231029T010000
END:STANDARD
BEGIN:DAYLIGHT
TZOFFSETFROM:+0100
TZOFFSETTO:+0200
TZNAME:CEST
DTSTART:20240331T010000
END:DAYLIGHT
BEGIN:STANDARD
TZOFFSETFROM:+0200
TZOFFSETTO:+0100
TZNAME:CET
DTSTART:20241027T010000
END:STANDARD
BEGIN:DAYLIGHT
TZOFFSETFROM:+0100
TZOFFSETTO:+0200
TZNAME:CEST
DTSTART:20250330T010000
END:DAYLIGHT
BEGIN:STANDARD
TZOFFSETFROM:+0200
TZOFFSETTO:+0100
TZNAME:CET
DTSTART:20251026T010000
END:STANDARD
END:VTIMEZONE
BEGIN:VEVENT
DTSTART;TZID=Europe/Amsterdam:20240305T130000
DTEND;TZID=Europe/Amsterdam:20240305T170000
DTSTAMP:20260421T225256
CREATED:20231205T110259Z
LAST-MODIFIED:20231205T110259Z
UID:5907-1709643600-1709658000@www.maritiemcollegeijmuiden.nl
SUMMARY:On Stage IJmond/Zuid-Kennemerland Beroepenfeest
DESCRIPTION:
URL:https://www.maritiemcollegeijmuiden.nl/event/on-stage-ijmond-zuid-kennemerland-beroepenfeest/
END:VEVENT
BEGIN:VEVENT
DTSTART;TZID=Europe/Amsterdam:20240308T180000
DTEND;TZID=Europe/Amsterdam:20240308T210000
DTSTAMP:20260421T225256
CREATED:20230710T130548Z
LAST-MODIFIED:20230710T130548Z
UID:5465-1709920800-1709931600@www.maritiemcollegeijmuiden.nl
SUMMARY:Open avond
DESCRIPTION:
URL:https://www.maritiemcollegeijmuiden.nl/event/open-avond-3/
END:VEVENT
BEGIN:VEVENT
DTSTART;VALUE=DATE:20240319
DTEND;VALUE=DATE:20240320
DTSTAMP:20260421T225256
CREATED:20231205T110412Z
LAST-MODIFIED:20231205T110412Z
UID:5909-1710806400-1710892799@www.maritiemcollegeijmuiden.nl
SUMMARY:On Stage Doe-Dag
DESCRIPTION:
URL:https://www.maritiemcollegeijmuiden.nl/event/on-stage-doe-dag/
END:VEVENT
BEGIN:VEVENT
DTSTART;TZID=Europe/Amsterdam:20240325T080000
DTEND;TZID=Europe/Amsterdam:20240328T170000
DTSTAMP:20260421T225256
CREATED:20231205T110947Z
LAST-MODIFIED:20231205T110947Z
UID:5912-1711353600-1711645200@www.maritiemcollegeijmuiden.nl
SUMMARY:Landelijke aanmeldweek
DESCRIPTION:
URL:https://www.maritiemcollegeijmuiden.nl/event/landelijke-aanmeldweek/
END:VEVENT
BEGIN:VEVENT
DTSTART;TZID=Europe/Amsterdam:20240325T080000
DTEND;TZID=Europe/Amsterdam:20240328T170000
DTSTAMP:20260421T225256
CREATED:20231205T111156Z
LAST-MODIFIED:20231205T111156Z
UID:5915-1711353600-1711645200@www.maritiemcollegeijmuiden.nl
SUMMARY:Portfolioweek
DESCRIPTION:
URL:https://www.maritiemcollegeijmuiden.nl/event/portfolioweek-4/
END:VEVENT
BEGIN:VEVENT
DTSTART;TZID=Europe/Amsterdam:20240325T080000
DTEND;TZID=Europe/Amsterdam:20240328T170000
DTSTAMP:20260421T225256
CREATED:20240129T101316Z
LAST-MODIFIED:20240129T101316Z
UID:6123-1711353600-1711645200@www.maritiemcollegeijmuiden.nl
SUMMARY:Tentamenweek\, leerjaar 4
DESCRIPTION:
URL:https://www.maritiemcollegeijmuiden.nl/event/tentamenweek-leerjaar-4/
END:VEVENT
BEGIN:VEVENT
DTSTART;VALUE=DATE:20240329
DTEND;VALUE=DATE:20240330
DTSTAMP:20260421T225256
CREATED:20231205T111309Z
LAST-MODIFIED:20231205T111309Z
UID:5917-1711670400-1711756799@www.maritiemcollegeijmuiden.nl
SUMMARY:Goede vrijdag
DESCRIPTION:
URL:https://www.maritiemcollegeijmuiden.nl/event/goede-vrijdag-3/
END:VEVENT
END:VCALENDAR