BEGIN:VCALENDAR
VERSION:2.0
PRODID:-//Maritiem College IJmuiden - ECPv6.15.20//NONSGML v1.0//EN
CALSCALE:GREGORIAN
METHOD:PUBLISH
X-ORIGINAL-URL:https://www.maritiemcollegeijmuiden.nl
X-WR-CALDESC:Evenementen voor Maritiem College IJmuiden
REFRESH-INTERVAL;VALUE=DURATION:PT1H
X-Robots-Tag:noindex
X-PUBLISHED-TTL:PT1H
BEGIN:VTIMEZONE
TZID:Europe/Amsterdam
BEGIN:DAYLIGHT
TZOFFSETFROM:+0100
TZOFFSETTO:+0200
TZNAME:CEST
DTSTART:20220327T010000
END:DAYLIGHT
BEGIN:STANDARD
TZOFFSETFROM:+0200
TZOFFSETTO:+0100
TZNAME:CET
DTSTART:20221030T010000
END:STANDARD
BEGIN:DAYLIGHT
TZOFFSETFROM:+0100
TZOFFSETTO:+0200
TZNAME:CEST
DTSTART:20230326T010000
END:DAYLIGHT
BEGIN:STANDARD
TZOFFSETFROM:+0200
TZOFFSETTO:+0100
TZNAME:CET
DTSTART:20231029T010000
END:STANDARD
BEGIN:DAYLIGHT
TZOFFSETFROM:+0100
TZOFFSETTO:+0200
TZNAME:CEST
DTSTART:20240331T010000
END:DAYLIGHT
BEGIN:STANDARD
TZOFFSETFROM:+0200
TZOFFSETTO:+0100
TZNAME:CET
DTSTART:20241027T010000
END:STANDARD
BEGIN:DAYLIGHT
TZOFFSETFROM:+0100
TZOFFSETTO:+0200
TZNAME:CEST
DTSTART:20250330T010000
END:DAYLIGHT
BEGIN:STANDARD
TZOFFSETFROM:+0200
TZOFFSETTO:+0100
TZNAME:CET
DTSTART:20251026T010000
END:STANDARD
END:VTIMEZONE
BEGIN:VEVENT
DTSTART;TZID=Europe/Amsterdam:20231204T080000
DTEND;TZID=Europe/Amsterdam:20231208T170000
DTSTAMP:20260422T034216
CREATED:20230907T075401Z
LAST-MODIFIED:20230907T075401Z
UID:5684-1701676800-1702054800@www.maritiemcollegeijmuiden.nl
SUMMARY:Week van de diversiteit
DESCRIPTION:
URL:https://www.maritiemcollegeijmuiden.nl/event/week-van-de-diversiteit/
END:VEVENT
BEGIN:VEVENT
DTSTART;TZID=Europe/Amsterdam:20231205T070000
DTEND;TZID=Europe/Amsterdam:20231205T090000
DTSTAMP:20260422T034216
CREATED:20231205T111537Z
LAST-MODIFIED:20231205T111537Z
UID:5919-1701759600-1701766800@www.maritiemcollegeijmuiden.nl
SUMMARY:Ondernemersontbijt
DESCRIPTION:
URL:https://www.maritiemcollegeijmuiden.nl/event/ondernemersontbijt-2/
END:VEVENT
BEGIN:VEVENT
DTSTART;TZID=Europe/Amsterdam:20231205T090000
DTEND;TZID=Europe/Amsterdam:20231205T120000
DTSTAMP:20260422T034216
CREATED:20231205T104153Z
LAST-MODIFIED:20231205T104153Z
UID:5894-1701766800-1701777600@www.maritiemcollegeijmuiden.nl
SUMMARY:Kerstviering leerlingen
DESCRIPTION:
URL:https://www.maritiemcollegeijmuiden.nl/event/kerstviering-leerlingen/
END:VEVENT
BEGIN:VEVENT
DTSTART;TZID=Europe/Amsterdam:20231211T080000
DTEND;TZID=Europe/Amsterdam:20231215T170000
DTSTAMP:20260422T034216
CREATED:20231205T104957Z
LAST-MODIFIED:20231205T104957Z
UID:5896-1702281600-1702659600@www.maritiemcollegeijmuiden.nl
SUMMARY:Portfolioweek
DESCRIPTION:
URL:https://www.maritiemcollegeijmuiden.nl/event/portfolioweek-3/
END:VEVENT
BEGIN:VEVENT
DTSTART;TZID=Europe/Amsterdam:20231219T163000
DTEND;TZID=Europe/Amsterdam:20231219T200000
DTSTAMP:20260422T034216
CREATED:20230907T075150Z
LAST-MODIFIED:20231215T172728Z
UID:5682-1703003400-1703016000@www.maritiemcollegeijmuiden.nl
SUMMARY:Kerstmarkt 16.30 - 20.00 uur
DESCRIPTION:
URL:https://www.maritiemcollegeijmuiden.nl/event/kerstmarkt-16-30-19-00-uur/
END:VEVENT
BEGIN:VEVENT
DTSTART;TZID=Europe/Amsterdam:20231225T080000
DTEND;TZID=Europe/Amsterdam:20240105T170000
DTSTAMP:20260422T034216
CREATED:20230710T130248Z
LAST-MODIFIED:20230710T130248Z
UID:5459-1703491200-1704474000@www.maritiemcollegeijmuiden.nl
SUMMARY:Kerstvakantie
DESCRIPTION:
URL:https://www.maritiemcollegeijmuiden.nl/event/kerstvakantie-12/
END:VEVENT
END:VCALENDAR