BEGIN:VCALENDAR
VERSION:2.0
PRODID:-//Maritiem College IJmuiden - ECPv6.15.20//NONSGML v1.0//EN
CALSCALE:GREGORIAN
METHOD:PUBLISH
X-ORIGINAL-URL:https://www.maritiemcollegeijmuiden.nl
X-WR-CALDESC:Evenementen voor Maritiem College IJmuiden
REFRESH-INTERVAL;VALUE=DURATION:PT1H
X-Robots-Tag:noindex
X-PUBLISHED-TTL:PT1H
BEGIN:VTIMEZONE
TZID:Europe/Amsterdam
BEGIN:DAYLIGHT
TZOFFSETFROM:+0100
TZOFFSETTO:+0200
TZNAME:CEST
DTSTART:20210328T010000
END:DAYLIGHT
BEGIN:STANDARD
TZOFFSETFROM:+0200
TZOFFSETTO:+0100
TZNAME:CET
DTSTART:20211031T010000
END:STANDARD
BEGIN:DAYLIGHT
TZOFFSETFROM:+0100
TZOFFSETTO:+0200
TZNAME:CEST
DTSTART:20220327T010000
END:DAYLIGHT
BEGIN:STANDARD
TZOFFSETFROM:+0200
TZOFFSETTO:+0100
TZNAME:CET
DTSTART:20221030T010000
END:STANDARD
BEGIN:DAYLIGHT
TZOFFSETFROM:+0100
TZOFFSETTO:+0200
TZNAME:CEST
DTSTART:20230326T010000
END:DAYLIGHT
BEGIN:STANDARD
TZOFFSETFROM:+0200
TZOFFSETTO:+0100
TZNAME:CET
DTSTART:20231029T010000
END:STANDARD
END:VTIMEZONE
BEGIN:VEVENT
DTSTART;VALUE=DATE:20221004
DTEND;VALUE=DATE:20221005
DTSTAMP:20260423T005506
CREATED:20220713T122155Z
LAST-MODIFIED:20220713T122155Z
UID:4690-1664841600-1664927999@www.maritiemcollegeijmuiden.nl
SUMMARY:Smart Technology Day\, Techport Technology week\, leerjaar 3 en 4
DESCRIPTION:
URL:https://www.maritiemcollegeijmuiden.nl/event/smart-technology-day-techport-technology-week-leerjaar-3-en-4/
END:VEVENT
BEGIN:VEVENT
DTSTART;VALUE=DATE:20221005
DTEND;VALUE=DATE:20221006
DTSTAMP:20260423T005506
CREATED:20220713T122242Z
LAST-MODIFIED:20220713T122322Z
UID:4692-1664928000-1665014399@www.maritiemcollegeijmuiden.nl
SUMMARY:Tech your talent on tour\, Techport Technology Week\, leerjaar 1 en 2
DESCRIPTION:
URL:https://www.maritiemcollegeijmuiden.nl/event/tech-your-talent-on-tour-techport-technology-week-leerjaar-1-en-2/
END:VEVENT
BEGIN:VEVENT
DTSTART;TZID=Europe/Amsterdam:20221012T130000
DTEND;TZID=Europe/Amsterdam:20221012T140000
DTSTAMP:20260423T005506
CREATED:20220713T125041Z
LAST-MODIFIED:20220713T125041Z
UID:4701-1665579600-1665583200@www.maritiemcollegeijmuiden.nl
SUMMARY:Meidenmiddag TCV/MCIJ
DESCRIPTION:
URL:https://www.maritiemcollegeijmuiden.nl/event/meidenmiddag-tcv-mcij/
END:VEVENT
BEGIN:VEVENT
DTSTART;TZID=Europe/Amsterdam:20221014T083000
DTEND;TZID=Europe/Amsterdam:20221014T170000
DTSTAMP:20260423T005506
CREATED:20220713T122349Z
LAST-MODIFIED:20220713T122349Z
UID:4694-1665736200-1665766800@www.maritiemcollegeijmuiden.nl
SUMMARY:Studiedag
DESCRIPTION:
URL:https://www.maritiemcollegeijmuiden.nl/event/studiedag-3/
END:VEVENT
BEGIN:VEVENT
DTSTART;VALUE=DATE:20221015
DTEND;VALUE=DATE:20221024
DTSTAMP:20260423T005506
CREATED:20220713T122417Z
LAST-MODIFIED:20220713T122417Z
UID:4696-1665792000-1666569599@www.maritiemcollegeijmuiden.nl
SUMMARY:Herfstvakantie
DESCRIPTION:
URL:https://www.maritiemcollegeijmuiden.nl/event/herfstvakantie-6/
END:VEVENT
BEGIN:VEVENT
DTSTART;TZID=Europe/Amsterdam:20221026T143000
DTEND;TZID=Europe/Amsterdam:20221026T170000
DTSTAMP:20260423T005506
CREATED:20220713T122446Z
LAST-MODIFIED:20220713T124746Z
UID:4698-1666794600-1666803600@www.maritiemcollegeijmuiden.nl
SUMMARY:Doemiddag
DESCRIPTION:
URL:https://www.maritiemcollegeijmuiden.nl/event/doemiddag-3/
END:VEVENT
END:VCALENDAR