BEGIN:VCALENDAR
VERSION:2.0
PRODID:-//Maritiem College IJmuiden - ECPv6.15.20//NONSGML v1.0//EN
CALSCALE:GREGORIAN
METHOD:PUBLISH
X-WR-CALNAME:Maritiem College IJmuiden
X-ORIGINAL-URL:https://www.maritiemcollegeijmuiden.nl
X-WR-CALDESC:Evenementen voor Maritiem College IJmuiden
REFRESH-INTERVAL;VALUE=DURATION:PT1H
X-Robots-Tag:noindex
X-PUBLISHED-TTL:PT1H
BEGIN:VTIMEZONE
TZID:UTC
BEGIN:STANDARD
TZOFFSETFROM:+0000
TZOFFSETTO:+0000
TZNAME:UTC
DTSTART:20210101T000000
END:STANDARD
END:VTIMEZONE
BEGIN:VEVENT
DTSTART;VALUE=DATE:20220627
DTEND;VALUE=DATE:20220702
DTSTAMP:20260423T124408
CREATED:20210713T070838Z
LAST-MODIFIED:20210713T070849Z
UID:3598-1656288000-1656719999@www.maritiemcollegeijmuiden.nl
SUMMARY:Portfolioweek
DESCRIPTION:
URL:https://www.maritiemcollegeijmuiden.nl/event/portfolioweek-2/
END:VEVENT
BEGIN:VEVENT
DTSTART;TZID=UTC:20220712T080000
DTEND;TZID=UTC:20220712T170000
DTSTAMP:20260423T124408
CREATED:20210713T070917Z
LAST-MODIFIED:20210713T070917Z
UID:3600-1657612800-1657645200@www.maritiemcollegeijmuiden.nl
SUMMARY:Diploma-uitreiking
DESCRIPTION:
URL:https://www.maritiemcollegeijmuiden.nl/event/diploma-uitreiking/
END:VEVENT
BEGIN:VEVENT
DTSTART;VALUE=DATE:20220718
DTEND;VALUE=DATE:20220827
DTSTAMP:20260423T124408
CREATED:20210713T071012Z
LAST-MODIFIED:20210713T071012Z
UID:3602-1658102400-1661558399@www.maritiemcollegeijmuiden.nl
SUMMARY:Zomervakantie
DESCRIPTION:
URL:https://www.maritiemcollegeijmuiden.nl/event/zomervakantie-31/
END:VEVENT
END:VCALENDAR