BEGIN:VCALENDAR
VERSION:2.0
PRODID:-//Maritiem College IJmuiden - ECPv6.15.20//NONSGML v1.0//EN
CALSCALE:GREGORIAN
METHOD:PUBLISH
X-ORIGINAL-URL:https://www.maritiemcollegeijmuiden.nl
X-WR-CALDESC:Evenementen voor Maritiem College IJmuiden
REFRESH-INTERVAL;VALUE=DURATION:PT1H
X-Robots-Tag:noindex
X-PUBLISHED-TTL:PT1H
BEGIN:VTIMEZONE
TZID:UTC
BEGIN:STANDARD
TZOFFSETFROM:+0000
TZOFFSETTO:+0000
TZNAME:UTC
DTSTART:20210101T000000
END:STANDARD
END:VTIMEZONE
BEGIN:VTIMEZONE
TZID:Europe/Amsterdam
BEGIN:DAYLIGHT
TZOFFSETFROM:+0100
TZOFFSETTO:+0200
TZNAME:CEST
DTSTART:20210328T010000
END:DAYLIGHT
BEGIN:STANDARD
TZOFFSETFROM:+0200
TZOFFSETTO:+0100
TZNAME:CET
DTSTART:20211031T010000
END:STANDARD
BEGIN:DAYLIGHT
TZOFFSETFROM:+0100
TZOFFSETTO:+0200
TZNAME:CEST
DTSTART:20220327T010000
END:DAYLIGHT
BEGIN:STANDARD
TZOFFSETFROM:+0200
TZOFFSETTO:+0100
TZNAME:CET
DTSTART:20221030T010000
END:STANDARD
BEGIN:DAYLIGHT
TZOFFSETFROM:+0100
TZOFFSETTO:+0200
TZNAME:CEST
DTSTART:20230326T010000
END:DAYLIGHT
BEGIN:STANDARD
TZOFFSETFROM:+0200
TZOFFSETTO:+0100
TZNAME:CET
DTSTART:20231029T010000
END:STANDARD
END:VTIMEZONE
BEGIN:VEVENT
DTSTART;VALUE=DATE:20220425
DTEND;VALUE=DATE:20220507
DTSTAMP:20260423T125431
CREATED:20210713T070419Z
LAST-MODIFIED:20210713T070451Z
UID:3588-1650844800-1651881599@www.maritiemcollegeijmuiden.nl
SUMMARY:Meivakantie
DESCRIPTION:
URL:https://www.maritiemcollegeijmuiden.nl/event/meivakantie-11/
END:VEVENT
BEGIN:VEVENT
DTSTART;VALUE=DATE:20220505
DTEND;VALUE=DATE:20220506
DTSTAMP:20260423T125431
CREATED:20210202T134948Z
LAST-MODIFIED:20210202T134948Z
UID:2814-1651708800-1651795199@www.maritiemcollegeijmuiden.nl
SUMMARY:Bevrijdingsdag
DESCRIPTION:
URL:https://www.maritiemcollegeijmuiden.nl/event/bevrijdingsdag-2/
END:VEVENT
BEGIN:VEVENT
DTSTART;TZID=UTC:20220523T130000
DTEND;TZID=UTC:20220523T170000
DTSTAMP:20260423T125431
CREATED:20210713T070524Z
LAST-MODIFIED:20210713T070524Z
UID:3590-1653310800-1653325200@www.maritiemcollegeijmuiden.nl
SUMMARY:Studiemiddag
DESCRIPTION:
URL:https://www.maritiemcollegeijmuiden.nl/event/studiemiddag-8/
END:VEVENT
BEGIN:VEVENT
DTSTART;VALUE=DATE:20220526
DTEND;VALUE=DATE:20220527
DTSTAMP:20260423T125431
CREATED:20210202T134948Z
LAST-MODIFIED:20210202T134948Z
UID:2815-1653523200-1653609599@www.maritiemcollegeijmuiden.nl
SUMMARY:Hemelvaartsdag
DESCRIPTION:
URL:https://www.maritiemcollegeijmuiden.nl/event/hemelvaartsdag-2/
END:VEVENT
BEGIN:VEVENT
DTSTART;VALUE=DATE:20220527
DTEND;VALUE=DATE:20220528
DTSTAMP:20260423T125431
CREATED:20210713T070618Z
LAST-MODIFIED:20220423T034652Z
UID:3592-1653609600-1653695999@www.maritiemcollegeijmuiden.nl
SUMMARY:Vrij
DESCRIPTION:
URL:https://www.maritiemcollegeijmuiden.nl/event/schoolreis/
END:VEVENT
END:VCALENDAR