BEGIN:VCALENDAR
VERSION:2.0
PRODID:-//Maritiem College IJmuiden - ECPv6.15.20//NONSGML v1.0//EN
CALSCALE:GREGORIAN
METHOD:PUBLISH
X-WR-CALNAME:Maritiem College IJmuiden
X-ORIGINAL-URL:https://www.maritiemcollegeijmuiden.nl
X-WR-CALDESC:Evenementen voor Maritiem College IJmuiden
REFRESH-INTERVAL;VALUE=DURATION:PT1H
X-Robots-Tag:noindex
X-PUBLISHED-TTL:PT1H
BEGIN:VTIMEZONE
TZID:Europe/Amsterdam
BEGIN:DAYLIGHT
TZOFFSETFROM:+0100
TZOFFSETTO:+0200
TZNAME:CEST
DTSTART:20200329T010000
END:DAYLIGHT
BEGIN:STANDARD
TZOFFSETFROM:+0200
TZOFFSETTO:+0100
TZNAME:CET
DTSTART:20201025T010000
END:STANDARD
BEGIN:DAYLIGHT
TZOFFSETFROM:+0100
TZOFFSETTO:+0200
TZNAME:CEST
DTSTART:20210328T010000
END:DAYLIGHT
BEGIN:STANDARD
TZOFFSETFROM:+0200
TZOFFSETTO:+0100
TZNAME:CET
DTSTART:20211031T010000
END:STANDARD
BEGIN:DAYLIGHT
TZOFFSETFROM:+0100
TZOFFSETTO:+0200
TZNAME:CEST
DTSTART:20220327T010000
END:DAYLIGHT
BEGIN:STANDARD
TZOFFSETFROM:+0200
TZOFFSETTO:+0100
TZNAME:CET
DTSTART:20221030T010000
END:STANDARD
END:VTIMEZONE
BEGIN:VTIMEZONE
TZID:UTC
BEGIN:STANDARD
TZOFFSETFROM:+0000
TZOFFSETTO:+0000
TZNAME:UTC
DTSTART:20200101T000000
END:STANDARD
END:VTIMEZONE
BEGIN:VEVENT
DTSTART;VALUE=DATE:20211205
DTEND;VALUE=DATE:20211206
DTSTAMP:20260423T221259
CREATED:20210202T134946Z
LAST-MODIFIED:20210202T134946Z
UID:2803-1638662400-1638748799@www.maritiemcollegeijmuiden.nl
SUMMARY:Sinterklaasavond
DESCRIPTION:
URL:https://www.maritiemcollegeijmuiden.nl/event/sinterklaasavond/
END:VEVENT
BEGIN:VEVENT
DTSTART;TZID=UTC:20211209T130000
DTEND;TZID=UTC:20211209T170000
DTSTAMP:20260423T221259
CREATED:20210713T064548Z
LAST-MODIFIED:20210713T064548Z
UID:3552-1639054800-1639069200@www.maritiemcollegeijmuiden.nl
SUMMARY:Studiemiddag
DESCRIPTION:
URL:https://www.maritiemcollegeijmuiden.nl/event/studiemiddag-3/
END:VEVENT
BEGIN:VEVENT
DTSTART;VALUE=DATE:20211210
DTEND;VALUE=DATE:20211211
DTSTAMP:20260423T221259
CREATED:20210713T064614Z
LAST-MODIFIED:20210713T064637Z
UID:3554-1639094400-1639180799@www.maritiemcollegeijmuiden.nl
SUMMARY:Paarse vrijdag
DESCRIPTION:
URL:https://www.maritiemcollegeijmuiden.nl/event/paarse-vrijdag/
END:VEVENT
BEGIN:VEVENT
DTSTART;VALUE=DATE:20211224
DTEND;VALUE=DATE:20211225
DTSTAMP:20260423T221259
CREATED:20210202T134947Z
LAST-MODIFIED:20210202T134947Z
UID:2805-1640304000-1640390399@www.maritiemcollegeijmuiden.nl
SUMMARY:Kerstavond
DESCRIPTION:
URL:https://www.maritiemcollegeijmuiden.nl/event/kerstavond/
END:VEVENT
BEGIN:VEVENT
DTSTART;TZID=UTC:20211224T080000
DTEND;TZID=UTC:20211224T170000
DTSTAMP:20260423T221259
CREATED:20210713T064844Z
LAST-MODIFIED:20210713T064844Z
UID:3560-1640332800-1640365200@www.maritiemcollegeijmuiden.nl
SUMMARY:Kerstontbijt
DESCRIPTION:
URL:https://www.maritiemcollegeijmuiden.nl/event/kerstontbijt/
END:VEVENT
BEGIN:VEVENT
DTSTART;VALUE=DATE:20211225
DTEND;VALUE=DATE:20211226
DTSTAMP:20260423T221259
CREATED:20210202T134946Z
LAST-MODIFIED:20210202T134946Z
UID:2804-1640390400-1640476799@www.maritiemcollegeijmuiden.nl
SUMMARY:Eerste Kerstdag
DESCRIPTION:
URL:https://www.maritiemcollegeijmuiden.nl/event/eerste-kerstdag/
END:VEVENT
BEGIN:VEVENT
DTSTART;VALUE=DATE:20211226
DTEND;VALUE=DATE:20211227
DTSTAMP:20260423T221259
CREATED:20210202T134947Z
LAST-MODIFIED:20210202T134947Z
UID:2806-1640476800-1640563199@www.maritiemcollegeijmuiden.nl
SUMMARY:Tweede Kerstdag
DESCRIPTION:
URL:https://www.maritiemcollegeijmuiden.nl/event/tweede-kerstdag/
END:VEVENT
BEGIN:VEVENT
DTSTART;VALUE=DATE:20211227
DTEND;VALUE=DATE:20211228
DTSTAMP:20260423T221259
CREATED:20210308T142907Z
LAST-MODIFIED:20210308T142907Z
UID:3192-1640563200-1640649599@www.maritiemcollegeijmuiden.nl
SUMMARY:Kerstvakantie
DESCRIPTION:
URL:https://www.maritiemcollegeijmuiden.nl/event/kerstvakantie/
END:VEVENT
BEGIN:VEVENT
DTSTART;VALUE=DATE:20211228
DTEND;VALUE=DATE:20211229
DTSTAMP:20260423T221259
CREATED:20210308T142930Z
LAST-MODIFIED:20210308T142930Z
UID:3194-1640649600-1640735999@www.maritiemcollegeijmuiden.nl
SUMMARY:Kerstvakantie
DESCRIPTION:
URL:https://www.maritiemcollegeijmuiden.nl/event/kerstvakantie-2/
END:VEVENT
BEGIN:VEVENT
DTSTART;VALUE=DATE:20211229
DTEND;VALUE=DATE:20211230
DTSTAMP:20260423T221259
CREATED:20210308T142953Z
LAST-MODIFIED:20210308T142953Z
UID:3196-1640736000-1640822399@www.maritiemcollegeijmuiden.nl
SUMMARY:Kerstvakantie
DESCRIPTION:
URL:https://www.maritiemcollegeijmuiden.nl/event/kerstvakantie-3/
END:VEVENT
BEGIN:VEVENT
DTSTART;VALUE=DATE:20211230
DTEND;VALUE=DATE:20211231
DTSTAMP:20260423T221259
CREATED:20210308T143013Z
LAST-MODIFIED:20210308T143013Z
UID:3198-1640822400-1640908799@www.maritiemcollegeijmuiden.nl
SUMMARY:Kerstvakantie
DESCRIPTION:
URL:https://www.maritiemcollegeijmuiden.nl/event/kerstvakantie-4/
END:VEVENT
BEGIN:VEVENT
DTSTART;VALUE=DATE:20211231
DTEND;VALUE=DATE:20220101
DTSTAMP:20260423T221259
CREATED:20210202T134947Z
LAST-MODIFIED:20210202T134947Z
UID:2808-1640908800-1640995199@www.maritiemcollegeijmuiden.nl
SUMMARY:Oudejaarsavond
DESCRIPTION:
URL:https://www.maritiemcollegeijmuiden.nl/event/oudejaarsavond/
END:VEVENT
BEGIN:VEVENT
DTSTART;VALUE=DATE:20211231
DTEND;VALUE=DATE:20220101
DTSTAMP:20260423T221259
CREATED:20210308T143034Z
LAST-MODIFIED:20210308T143034Z
UID:3200-1640908800-1640995199@www.maritiemcollegeijmuiden.nl
SUMMARY:Kerstvakantie
DESCRIPTION:
URL:https://www.maritiemcollegeijmuiden.nl/event/kerstvakantie-5/
END:VEVENT
END:VCALENDAR