BEGIN:VCALENDAR
VERSION:2.0
PRODID:-//Maritiem College IJmuiden - ECPv6.15.20//NONSGML v1.0//EN
CALSCALE:GREGORIAN
METHOD:PUBLISH
X-ORIGINAL-URL:https://www.maritiemcollegeijmuiden.nl
X-WR-CALDESC:Evenementen voor Maritiem College IJmuiden
REFRESH-INTERVAL;VALUE=DURATION:PT1H
X-Robots-Tag:noindex
X-PUBLISHED-TTL:PT1H
BEGIN:VTIMEZONE
TZID:UTC
BEGIN:STANDARD
TZOFFSETFROM:+0000
TZOFFSETTO:+0000
TZNAME:UTC
DTSTART:20200101T000000
END:STANDARD
END:VTIMEZONE
BEGIN:VEVENT
DTSTART;VALUE=DATE:20211004
DTEND;VALUE=DATE:20211009
DTSTAMP:20260424T013146
CREATED:20210713T055713Z
LAST-MODIFIED:20210713T055713Z
UID:3530-1633305600-1633737599@www.maritiemcollegeijmuiden.nl
SUMMARY:Techportweek
DESCRIPTION:
URL:https://www.maritiemcollegeijmuiden.nl/event/techportweek/
END:VEVENT
BEGIN:VEVENT
DTSTART;TZID=UTC:20211006T130000
DTEND;TZID=UTC:20211006T143000
DTSTAMP:20260424T013146
CREATED:20210713T055822Z
LAST-MODIFIED:20210713T055822Z
UID:3532-1633525200-1633530600@www.maritiemcollegeijmuiden.nl
SUMMARY:Meidenmiddag
DESCRIPTION:
URL:https://www.maritiemcollegeijmuiden.nl/event/meidenmiddag-2/
END:VEVENT
BEGIN:VEVENT
DTSTART;TZID=UTC:20211012T130000
DTEND;TZID=UTC:20211012T170000
DTSTAMP:20260424T013146
CREATED:20210713T060104Z
LAST-MODIFIED:20210713T060104Z
UID:3537-1634043600-1634058000@www.maritiemcollegeijmuiden.nl
SUMMARY:Studiemiddag
DESCRIPTION:
URL:https://www.maritiemcollegeijmuiden.nl/event/studiemiddag-2/
END:VEVENT
BEGIN:VEVENT
DTSTART;VALUE=DATE:20211018
DTEND;VALUE=DATE:20211019
DTSTAMP:20260424T013146
CREATED:20210308T142542Z
LAST-MODIFIED:20210308T142542Z
UID:3182-1634515200-1634601599@www.maritiemcollegeijmuiden.nl
SUMMARY:Herfstvakantie
DESCRIPTION:
URL:https://www.maritiemcollegeijmuiden.nl/event/herfstvakantie/
END:VEVENT
BEGIN:VEVENT
DTSTART;VALUE=DATE:20211019
DTEND;VALUE=DATE:20211020
DTSTAMP:20260424T013146
CREATED:20210308T142611Z
LAST-MODIFIED:20210308T142611Z
UID:3184-1634601600-1634687999@www.maritiemcollegeijmuiden.nl
SUMMARY:Herfstvakantie
DESCRIPTION:
URL:https://www.maritiemcollegeijmuiden.nl/event/herfstvakantie-2/
END:VEVENT
BEGIN:VEVENT
DTSTART;VALUE=DATE:20211020
DTEND;VALUE=DATE:20211021
DTSTAMP:20260424T013146
CREATED:20210308T142644Z
LAST-MODIFIED:20210308T142644Z
UID:3186-1634688000-1634774399@www.maritiemcollegeijmuiden.nl
SUMMARY:Herfstvakantie
DESCRIPTION:
URL:https://www.maritiemcollegeijmuiden.nl/event/herfstvakantie-3/
END:VEVENT
BEGIN:VEVENT
DTSTART;VALUE=DATE:20211021
DTEND;VALUE=DATE:20211022
DTSTAMP:20260424T013146
CREATED:20210308T142705Z
LAST-MODIFIED:20210308T142705Z
UID:3188-1634774400-1634860799@www.maritiemcollegeijmuiden.nl
SUMMARY:Herfstvakantie
DESCRIPTION:
URL:https://www.maritiemcollegeijmuiden.nl/event/herfstvakantie-4/
END:VEVENT
BEGIN:VEVENT
DTSTART;VALUE=DATE:20211022
DTEND;VALUE=DATE:20211023
DTSTAMP:20260424T013146
CREATED:20210308T142731Z
LAST-MODIFIED:20210308T142731Z
UID:3190-1634860800-1634947199@www.maritiemcollegeijmuiden.nl
SUMMARY:Herfstvakantie
DESCRIPTION:
URL:https://www.maritiemcollegeijmuiden.nl/event/herfstvakantie-5/
END:VEVENT
END:VCALENDAR