BEGIN:VCALENDAR
VERSION:2.0
PRODID:-//Maritiem College IJmuiden - ECPv6.15.20//NONSGML v1.0//EN
CALSCALE:GREGORIAN
METHOD:PUBLISH
X-WR-CALNAME:Maritiem College IJmuiden
X-ORIGINAL-URL:https://www.maritiemcollegeijmuiden.nl
X-WR-CALDESC:Evenementen voor Maritiem College IJmuiden
REFRESH-INTERVAL;VALUE=DURATION:PT1H
X-Robots-Tag:noindex
X-PUBLISHED-TTL:PT1H
BEGIN:VTIMEZONE
TZID:UTC
BEGIN:STANDARD
TZOFFSETFROM:+0000
TZOFFSETTO:+0000
TZNAME:UTC
DTSTART:20200101T000000
END:STANDARD
END:VTIMEZONE
BEGIN:VEVENT
DTSTART;TZID=UTC:20210610T120000
DTEND;TZID=UTC:20210610T153000
DTSTAMP:20260424T092102
CREATED:20210402T063716Z
LAST-MODIFIED:20210402T063724Z
UID:3275-1623326400-1623339000@www.maritiemcollegeijmuiden.nl
SUMMARY:Uitslag examens GL
DESCRIPTION:
URL:https://www.maritiemcollegeijmuiden.nl/event/uitslag-examens-gl/
END:VEVENT
BEGIN:VEVENT
DTSTART;TZID=UTC:20210616T120000
DTEND;TZID=UTC:20210616T153000
DTSTAMP:20260424T092102
CREATED:20210402T063804Z
LAST-MODIFIED:20210402T063804Z
UID:3277-1623844800-1623857400@www.maritiemcollegeijmuiden.nl
SUMMARY:Uitslag examens basis en kader
DESCRIPTION:
URL:https://www.maritiemcollegeijmuiden.nl/event/uitslag-examens-basis-en-kader/
END:VEVENT
END:VCALENDAR