BEGIN:VCALENDAR
VERSION:2.0
PRODID:-//Maritiem College IJmuiden - ECPv6.15.20//NONSGML v1.0//EN
CALSCALE:GREGORIAN
METHOD:PUBLISH
X-WR-CALNAME:Maritiem College IJmuiden
X-ORIGINAL-URL:https://www.maritiemcollegeijmuiden.nl
X-WR-CALDESC:Evenementen voor Maritiem College IJmuiden
REFRESH-INTERVAL;VALUE=DURATION:PT1H
X-Robots-Tag:noindex
X-PUBLISHED-TTL:PT1H
BEGIN:VTIMEZONE
TZID:Europe/Amsterdam
BEGIN:DAYLIGHT
TZOFFSETFROM:+0100
TZOFFSETTO:+0200
TZNAME:CEST
DTSTART:20230326T010000
END:DAYLIGHT
BEGIN:STANDARD
TZOFFSETFROM:+0200
TZOFFSETTO:+0100
TZNAME:CET
DTSTART:20231029T010000
END:STANDARD
BEGIN:DAYLIGHT
TZOFFSETFROM:+0100
TZOFFSETTO:+0200
TZNAME:CEST
DTSTART:20240331T010000
END:DAYLIGHT
BEGIN:STANDARD
TZOFFSETFROM:+0200
TZOFFSETTO:+0100
TZNAME:CET
DTSTART:20241027T010000
END:STANDARD
BEGIN:DAYLIGHT
TZOFFSETFROM:+0100
TZOFFSETTO:+0200
TZNAME:CEST
DTSTART:20250330T010000
END:DAYLIGHT
BEGIN:STANDARD
TZOFFSETFROM:+0200
TZOFFSETTO:+0100
TZNAME:CET
DTSTART:20251026T010000
END:STANDARD
END:VTIMEZONE
BEGIN:VEVENT
DTSTART;VALUE=DATE:20240924
DTEND;VALUE=DATE:20240925
DTSTAMP:20260421T025234
CREATED:20240708T142223Z
LAST-MODIFIED:20240708T142223Z
UID:6634-1727136000-1727222399@www.maritiemcollegeijmuiden.nl
SUMMARY:Sportdag (leerjaar 1 + 2)
DESCRIPTION:
URL:https://www.maritiemcollegeijmuiden.nl/event/sportdag-leerjaar-1-2/
END:VEVENT
BEGIN:VEVENT
DTSTART;TZID=Europe/Amsterdam:20240923T080000
DTEND;TZID=Europe/Amsterdam:20240927T170000
DTSTAMP:20260421T025234
CREATED:20240708T131430Z
LAST-MODIFIED:20240708T131430Z
UID:6596-1727078400-1727456400@www.maritiemcollegeijmuiden.nl
SUMMARY:Week tegen het pesten
DESCRIPTION:
URL:https://www.maritiemcollegeijmuiden.nl/event/week-tegen-het-pesten-2/
END:VEVENT
BEGIN:VEVENT
DTSTART;TZID=Europe/Amsterdam:20240722T080000
DTEND;TZID=Europe/Amsterdam:20240830T170000
DTSTAMP:20260421T025234
CREATED:20230711T075854Z
LAST-MODIFIED:20230711T075854Z
UID:5491-1721635200-1725037200@www.maritiemcollegeijmuiden.nl
SUMMARY:Zomervakantie
DESCRIPTION:
URL:https://www.maritiemcollegeijmuiden.nl/event/zomervakantie-33/
END:VEVENT
BEGIN:VEVENT
DTSTART;VALUE=DATE:20240716
DTEND;VALUE=DATE:20240717
DTSTAMP:20260421T025234
CREATED:20231205T122713Z
LAST-MODIFIED:20231205T122713Z
UID:5931-1721088000-1721174399@www.maritiemcollegeijmuiden.nl
SUMMARY:Diploma-uitreiking
DESCRIPTION:
URL:https://www.maritiemcollegeijmuiden.nl/event/diploma-uitreiking-3/
END:VEVENT
BEGIN:VEVENT
DTSTART;TZID=Europe/Amsterdam:20240708T080000
DTEND;TZID=Europe/Amsterdam:20240712T170000
DTSTAMP:20260421T025234
CREATED:20240129T103545Z
LAST-MODIFIED:20240129T103545Z
UID:6139-1720425600-1720803600@www.maritiemcollegeijmuiden.nl
SUMMARY:Blokstage\, leerjaar 3
DESCRIPTION:
URL:https://www.maritiemcollegeijmuiden.nl/event/blokstage-leerjaar-3-2/
END:VEVENT
BEGIN:VEVENT
DTSTART;TZID=Europe/Amsterdam:20240708T080000
DTEND;TZID=Europe/Amsterdam:20240712T170000
DTSTAMP:20260421T025234
CREATED:20231205T122627Z
LAST-MODIFIED:20231205T122627Z
UID:5929-1720425600-1720803600@www.maritiemcollegeijmuiden.nl
SUMMARY:Portfolioweek
DESCRIPTION:
URL:https://www.maritiemcollegeijmuiden.nl/event/portfolioweek-5/
END:VEVENT
BEGIN:VEVENT
DTSTART;TZID=Europe/Amsterdam:20240701T080000
DTEND;TZID=Europe/Amsterdam:20240705T170000
DTSTAMP:20260421T025234
CREATED:20240129T103520Z
LAST-MODIFIED:20240205T101728Z
UID:6137-1719820800-1720198800@www.maritiemcollegeijmuiden.nl
SUMMARY:Blokstage\, leerjaar 3 (Scheeps- en Jachtbouw)
DESCRIPTION:
URL:https://www.maritiemcollegeijmuiden.nl/event/blokstage-leerjaar-3/
END:VEVENT
BEGIN:VEVENT
DTSTART;TZID=Europe/Amsterdam:20240628T080000
DTEND;TZID=Europe/Amsterdam:20240628T170000
DTSTAMP:20260421T025234
CREATED:20240129T103313Z
LAST-MODIFIED:20240129T103313Z
UID:6135-1719561600-1719594000@www.maritiemcollegeijmuiden.nl
SUMMARY:Herkansing tentamen\, leerjaar 3
DESCRIPTION:
URL:https://www.maritiemcollegeijmuiden.nl/event/herkansing-tentamen-leerjaar-3/
END:VEVENT
BEGIN:VEVENT
DTSTART;TZID=Europe/Amsterdam:20240621T180000
DTEND;TZID=Europe/Amsterdam:20240621T210000
DTSTAMP:20260421T025234
CREATED:20231205T112710Z
LAST-MODIFIED:20231205T112710Z
UID:5927-1718992800-1719003600@www.maritiemcollegeijmuiden.nl
SUMMARY:Grachtenloop
DESCRIPTION:
URL:https://www.maritiemcollegeijmuiden.nl/event/grachtenloop/
END:VEVENT
BEGIN:VEVENT
DTSTART;VALUE=DATE:20240620
DTEND;VALUE=DATE:20240621
DTSTAMP:20260421T025234
CREATED:20231205T112339Z
LAST-MODIFIED:20231205T112339Z
UID:5925-1718841600-1718927999@www.maritiemcollegeijmuiden.nl
SUMMARY:Sportdag
DESCRIPTION:
URL:https://www.maritiemcollegeijmuiden.nl/event/sportdag-7/
END:VEVENT
BEGIN:VEVENT
DTSTART;TZID=Europe/Amsterdam:20240617T080000
DTEND;TZID=Europe/Amsterdam:20240619T170000
DTSTAMP:20260421T025234
CREATED:20240129T102731Z
LAST-MODIFIED:20240129T102731Z
UID:6133-1718611200-1718816400@www.maritiemcollegeijmuiden.nl
SUMMARY:Tentamens\, leerjaar 3
DESCRIPTION:
URL:https://www.maritiemcollegeijmuiden.nl/event/tentamens-leerjaar-3/
END:VEVENT
BEGIN:VEVENT
DTSTART;VALUE=DATE:20240607
DTEND;VALUE=DATE:20240608
DTSTAMP:20260421T025234
CREATED:20231205T112213Z
LAST-MODIFIED:20231205T112213Z
UID:5923-1717718400-1717804799@www.maritiemcollegeijmuiden.nl
SUMMARY:Schoolreis
DESCRIPTION:
URL:https://www.maritiemcollegeijmuiden.nl/event/schoolreis-3/
END:VEVENT
BEGIN:VEVENT
DTSTART;TZID=Europe/Amsterdam:20240605T180000
DTEND;TZID=Europe/Amsterdam:20240605T200000
DTSTAMP:20260421T025234
CREATED:20231205T112116Z
LAST-MODIFIED:20231205T112116Z
UID:5921-1717610400-1717617600@www.maritiemcollegeijmuiden.nl
SUMMARY:Kennismaking + informatieavond nieuwe eerstejaars
DESCRIPTION:
URL:https://www.maritiemcollegeijmuiden.nl/event/kennismaking-informatieavond-nieuwe-eerstejaars/
END:VEVENT
BEGIN:VEVENT
DTSTART;TZID=Europe/Amsterdam:20240605T143000
DTEND;TZID=Europe/Amsterdam:20240605T170000
DTSTAMP:20260421T025234
CREATED:20230710T131131Z
LAST-MODIFIED:20230710T131222Z
UID:5471-1717597800-1717606800@www.maritiemcollegeijmuiden.nl
SUMMARY:Doe-middag (groep 7)
DESCRIPTION:Maak kennis! \nMeld je aan via Zo leuk is onze school! – Maritiem College IJmuiden
URL:https://www.maritiemcollegeijmuiden.nl/event/open-avond-4/
END:VEVENT
BEGIN:VEVENT
DTSTART;TZID=Europe/Amsterdam:20240521T080000
DTEND;TZID=Europe/Amsterdam:20240524T170000
DTSTAMP:20260421T025234
CREATED:20240129T102217Z
LAST-MODIFIED:20240129T102217Z
UID:6129-1716278400-1716570000@www.maritiemcollegeijmuiden.nl
SUMMARY:Centraal eindexamen\, leerjaar 4
DESCRIPTION:
URL:https://www.maritiemcollegeijmuiden.nl/event/centraal-eindexamen-leerjaar-4-2/
END:VEVENT
BEGIN:VEVENT
DTSTART;TZID=Europe/Amsterdam:20240520T080000
DTEND;TZID=Europe/Amsterdam:20240520T170000
DTSTAMP:20260421T025234
CREATED:20230711T075226Z
LAST-MODIFIED:20230711T084507Z
UID:5489-1716192000-1716224400@www.maritiemcollegeijmuiden.nl
SUMMARY:2e pinksterdag
DESCRIPTION:
URL:https://www.maritiemcollegeijmuiden.nl/event/2e-pinksterdag/
END:VEVENT
BEGIN:VEVENT
DTSTART;TZID=Europe/Amsterdam:20240516T080000
DTEND;TZID=Europe/Amsterdam:20240531T170000
DTSTAMP:20260421T025234
CREATED:20240201T152641Z
LAST-MODIFIED:20240201T152641Z
UID:6155-1715846400-1717174800@www.maritiemcollegeijmuiden.nl
SUMMARY:CSPE\, leerjaar 3
DESCRIPTION:
URL:https://www.maritiemcollegeijmuiden.nl/event/cspe-leerjaar-3/
END:VEVENT
BEGIN:VEVENT
DTSTART;TZID=Europe/Amsterdam:20240514T080000
DTEND;TZID=Europe/Amsterdam:20240517T170000
DTSTAMP:20260421T025234
CREATED:20240129T102044Z
LAST-MODIFIED:20240129T102044Z
UID:6127-1715673600-1715965200@www.maritiemcollegeijmuiden.nl
SUMMARY:Centraal eindexamen\, leerjaar 4
DESCRIPTION:
URL:https://www.maritiemcollegeijmuiden.nl/event/centraal-eindexamen-leerjaar-4/
END:VEVENT
BEGIN:VEVENT
DTSTART;TZID=Europe/Amsterdam:20240513T080000
DTEND;TZID=Europe/Amsterdam:20240515T170000
DTSTAMP:20260421T025234
CREATED:20240129T102358Z
LAST-MODIFIED:20240129T102358Z
UID:6131-1715587200-1715792400@www.maritiemcollegeijmuiden.nl
SUMMARY:Uitwisseling Don Bosco Haacht\, leerjaar 3 GL
DESCRIPTION:
URL:https://www.maritiemcollegeijmuiden.nl/event/uitwisseling-don-bosco-haacht-leerjaar-3-gl/
END:VEVENT
BEGIN:VEVENT
DTSTART;TZID=Europe/Amsterdam:20240427T080000
DTEND;TZID=Europe/Amsterdam:20240512T170000
DTSTAMP:20260421T025234
CREATED:20231002T083224Z
LAST-MODIFIED:20231002T083224Z
UID:5737-1714204800-1715533200@www.maritiemcollegeijmuiden.nl
SUMMARY:Meivakantie
DESCRIPTION:
URL:https://www.maritiemcollegeijmuiden.nl/event/meivakantie-13/
END:VEVENT
BEGIN:VEVENT
DTSTART;TZID=Europe/Amsterdam:20240422T080000
DTEND;TZID=Europe/Amsterdam:20240426T170000
DTSTAMP:20260421T025234
CREATED:20240201T151824Z
LAST-MODIFIED:20240201T151824Z
UID:6144-1713772800-1714150800@www.maritiemcollegeijmuiden.nl
SUMMARY:CITO toets\, leerjaar 1 en 3
DESCRIPTION:
URL:https://www.maritiemcollegeijmuiden.nl/event/cito-toets-leerjaar-1-en-3/
END:VEVENT
BEGIN:VEVENT
DTSTART;TZID=Europe/Amsterdam:20240422T080000
DTEND;TZID=Europe/Amsterdam:20240422T170000
DTSTAMP:20260421T025234
CREATED:20240201T152314Z
LAST-MODIFIED:20240201T152314Z
UID:6149-1713772800-1713805200@www.maritiemcollegeijmuiden.nl
SUMMARY:Examentraining\, leerjaar 4
DESCRIPTION:
URL:https://www.maritiemcollegeijmuiden.nl/event/examentraining-leerjaar-4/
END:VEVENT
BEGIN:VEVENT
DTSTART;TZID=Europe/Amsterdam:20240422T080000
DTEND;TZID=Europe/Amsterdam:20240422T170000
DTSTAMP:20260421T025234
CREATED:20240201T152212Z
LAST-MODIFIED:20240201T152212Z
UID:6146-1713772800-1713805200@www.maritiemcollegeijmuiden.nl
SUMMARY:Training CSPE\, leerjaar 3
DESCRIPTION:
URL:https://www.maritiemcollegeijmuiden.nl/event/training-cspe-leerjaar-3/
END:VEVENT
BEGIN:VEVENT
DTSTART;TZID=Europe/Amsterdam:20240416T130000
DTEND;TZID=Europe/Amsterdam:20240416T170000
DTSTAMP:20260421T025234
CREATED:20230918T122940Z
LAST-MODIFIED:20230918T122940Z
UID:5719-1713272400-1713286800@www.maritiemcollegeijmuiden.nl
SUMMARY:Studiemiddag
DESCRIPTION:
URL:https://www.maritiemcollegeijmuiden.nl/event/studiemiddag-16/
END:VEVENT
BEGIN:VEVENT
DTSTART;TZID=Europe/Amsterdam:20240405T080000
DTEND;TZID=Europe/Amsterdam:20240405T170000
DTSTAMP:20260421T025234
CREATED:20240129T101616Z
LAST-MODIFIED:20240129T101616Z
UID:6125-1712304000-1712336400@www.maritiemcollegeijmuiden.nl
SUMMARY:Herkansing tentamen\, leerjaar 4
DESCRIPTION:
URL:https://www.maritiemcollegeijmuiden.nl/event/herkansing-tentamen-leerjaar-4/
END:VEVENT
BEGIN:VEVENT
DTSTART;TZID=Europe/Amsterdam:20240401T080000
DTEND;TZID=Europe/Amsterdam:20240401T170000
DTSTAMP:20260421T025234
CREATED:20230711T075113Z
LAST-MODIFIED:20230711T075113Z
UID:5487-1711958400-1711990800@www.maritiemcollegeijmuiden.nl
SUMMARY:2e paasdag
DESCRIPTION:
URL:https://www.maritiemcollegeijmuiden.nl/event/2e-paasdag/
END:VEVENT
BEGIN:VEVENT
DTSTART;VALUE=DATE:20240329
DTEND;VALUE=DATE:20240330
DTSTAMP:20260421T025234
CREATED:20231205T111309Z
LAST-MODIFIED:20231205T111309Z
UID:5917-1711670400-1711756799@www.maritiemcollegeijmuiden.nl
SUMMARY:Goede vrijdag
DESCRIPTION:
URL:https://www.maritiemcollegeijmuiden.nl/event/goede-vrijdag-3/
END:VEVENT
BEGIN:VEVENT
DTSTART;TZID=Europe/Amsterdam:20240325T080000
DTEND;TZID=Europe/Amsterdam:20240328T170000
DTSTAMP:20260421T025234
CREATED:20240129T101316Z
LAST-MODIFIED:20240129T101316Z
UID:6123-1711353600-1711645200@www.maritiemcollegeijmuiden.nl
SUMMARY:Tentamenweek\, leerjaar 4
DESCRIPTION:
URL:https://www.maritiemcollegeijmuiden.nl/event/tentamenweek-leerjaar-4/
END:VEVENT
BEGIN:VEVENT
DTSTART;TZID=Europe/Amsterdam:20240325T080000
DTEND;TZID=Europe/Amsterdam:20240328T170000
DTSTAMP:20260421T025234
CREATED:20231205T111156Z
LAST-MODIFIED:20231205T111156Z
UID:5915-1711353600-1711645200@www.maritiemcollegeijmuiden.nl
SUMMARY:Portfolioweek
DESCRIPTION:
URL:https://www.maritiemcollegeijmuiden.nl/event/portfolioweek-4/
END:VEVENT
BEGIN:VEVENT
DTSTART;TZID=Europe/Amsterdam:20240325T080000
DTEND;TZID=Europe/Amsterdam:20240328T170000
DTSTAMP:20260421T025234
CREATED:20231205T110947Z
LAST-MODIFIED:20231205T110947Z
UID:5912-1711353600-1711645200@www.maritiemcollegeijmuiden.nl
SUMMARY:Landelijke aanmeldweek
DESCRIPTION:
URL:https://www.maritiemcollegeijmuiden.nl/event/landelijke-aanmeldweek/
END:VEVENT
END:VCALENDAR