BEGIN:VCALENDAR
VERSION:2.0
PRODID:-//Maritiem College IJmuiden - ECPv6.15.20//NONSGML v1.0//EN
CALSCALE:GREGORIAN
METHOD:PUBLISH
X-WR-CALNAME:Maritiem College IJmuiden
X-ORIGINAL-URL:https://www.maritiemcollegeijmuiden.nl
X-WR-CALDESC:Evenementen voor Maritiem College IJmuiden
REFRESH-INTERVAL;VALUE=DURATION:PT1H
X-Robots-Tag:noindex
X-PUBLISHED-TTL:PT1H
BEGIN:VTIMEZONE
TZID:Europe/Amsterdam
BEGIN:DAYLIGHT
TZOFFSETFROM:+0100
TZOFFSETTO:+0200
TZNAME:CEST
DTSTART:20230326T010000
END:DAYLIGHT
BEGIN:STANDARD
TZOFFSETFROM:+0200
TZOFFSETTO:+0100
TZNAME:CET
DTSTART:20231029T010000
END:STANDARD
BEGIN:DAYLIGHT
TZOFFSETFROM:+0100
TZOFFSETTO:+0200
TZNAME:CEST
DTSTART:20240331T010000
END:DAYLIGHT
BEGIN:STANDARD
TZOFFSETFROM:+0200
TZOFFSETTO:+0100
TZNAME:CET
DTSTART:20241027T010000
END:STANDARD
BEGIN:DAYLIGHT
TZOFFSETFROM:+0100
TZOFFSETTO:+0200
TZNAME:CEST
DTSTART:20250330T010000
END:DAYLIGHT
BEGIN:STANDARD
TZOFFSETFROM:+0200
TZOFFSETTO:+0100
TZNAME:CET
DTSTART:20251026T010000
END:STANDARD
BEGIN:DAYLIGHT
TZOFFSETFROM:+0100
TZOFFSETTO:+0200
TZNAME:CEST
DTSTART:20260329T010000
END:DAYLIGHT
BEGIN:STANDARD
TZOFFSETFROM:+0200
TZOFFSETTO:+0100
TZNAME:CET
DTSTART:20261025T010000
END:STANDARD
END:VTIMEZONE
BEGIN:VEVENT
DTSTART;TZID=Europe/Amsterdam:20250514T080000
DTEND;TZID=Europe/Amsterdam:20250516T170000
DTSTAMP:20260420T151521
CREATED:20240709T100155Z
LAST-MODIFIED:20240709T100155Z
UID:6675-1747209600-1747414800@www.maritiemcollegeijmuiden.nl
SUMMARY:Uitwisseling Don Bosco\, Leerjaar 3GL
DESCRIPTION:
URL:https://www.maritiemcollegeijmuiden.nl/event/uitwisseling-don-bosco-leerjaar-3gl-2/
END:VEVENT
BEGIN:VEVENT
DTSTART;TZID=Europe/Amsterdam:20250512T080000
DTEND;TZID=Europe/Amsterdam:20250528T170000
DTSTAMP:20260420T151521
CREATED:20240709T100024Z
LAST-MODIFIED:20240709T100024Z
UID:6673-1747036800-1748451600@www.maritiemcollegeijmuiden.nl
SUMMARY:CSPE\, Leerjaar 3
DESCRIPTION:
URL:https://www.maritiemcollegeijmuiden.nl/event/cspe-leerjaar-3-2/
END:VEVENT
BEGIN:VEVENT
DTSTART;TZID=Europe/Amsterdam:20250507T080000
DTEND;TZID=Europe/Amsterdam:20250522T170000
DTSTAMP:20260420T151521
CREATED:20240709T095238Z
LAST-MODIFIED:20240916T093343Z
UID:6671-1746604800-1747933200@www.maritiemcollegeijmuiden.nl
SUMMARY:Centaal eindexamen\, Leerjaar 4
DESCRIPTION:
URL:https://www.maritiemcollegeijmuiden.nl/event/centaal-eindexamen-leerjaar-4/
END:VEVENT
BEGIN:VEVENT
DTSTART;TZID=Europe/Amsterdam:20250505T080000
DTEND;TZID=Europe/Amsterdam:20250505T170000
DTSTAMP:20260420T151521
CREATED:20240423T083807Z
LAST-MODIFIED:20240423T083807Z
UID:6420-1746432000-1746464400@www.maritiemcollegeijmuiden.nl
SUMMARY:Bevrijdingsdag
DESCRIPTION:
URL:https://www.maritiemcollegeijmuiden.nl/event/bevrijdingsdag-3/
END:VEVENT
BEGIN:VEVENT
DTSTART;TZID=Europe/Amsterdam:20250421T080000
DTEND;TZID=Europe/Amsterdam:20250505T170000
DTSTAMP:20260420T151521
CREATED:20240423T083743Z
LAST-MODIFIED:20240423T083743Z
UID:6418-1745222400-1746464400@www.maritiemcollegeijmuiden.nl
SUMMARY:Meivakantie
DESCRIPTION:
URL:https://www.maritiemcollegeijmuiden.nl/event/meivakantie-14/
END:VEVENT
BEGIN:VEVENT
DTSTART;TZID=Europe/Amsterdam:20250421T080000
DTEND;TZID=Europe/Amsterdam:20250421T170000
DTSTAMP:20260420T151521
CREATED:20240423T083719Z
LAST-MODIFIED:20240423T083719Z
UID:6416-1745222400-1745254800@www.maritiemcollegeijmuiden.nl
SUMMARY:Tweede Paasdag
DESCRIPTION:
URL:https://www.maritiemcollegeijmuiden.nl/event/tweede-paasdag-3/
END:VEVENT
BEGIN:VEVENT
DTSTART;VALUE=DATE:20250418
DTEND;VALUE=DATE:20250419
DTSTAMP:20260420T151521
CREATED:20240709T094922Z
LAST-MODIFIED:20250303T122446Z
UID:6665-1744934400-1745020799@www.maritiemcollegeijmuiden.nl
SUMMARY:Goede vrijdag (lesdag volgens rooster)
DESCRIPTION:
URL:https://www.maritiemcollegeijmuiden.nl/event/goede-vrijdag-4/
END:VEVENT
BEGIN:VEVENT
DTSTART;TZID=Europe/Amsterdam:20250408T130000
DTEND;TZID=Europe/Amsterdam:20250408T170000
DTSTAMP:20260420T151521
CREATED:20240709T094717Z
LAST-MODIFIED:20240709T094717Z
UID:6663-1744117200-1744131600@www.maritiemcollegeijmuiden.nl
SUMMARY:Studiemiddag
DESCRIPTION:
URL:https://www.maritiemcollegeijmuiden.nl/event/studiemiddag-22/
END:VEVENT
BEGIN:VEVENT
DTSTART;VALUE=DATE:20250404
DTEND;VALUE=DATE:20250405
DTSTAMP:20260420T151521
CREATED:20240709T094639Z
LAST-MODIFIED:20240709T094639Z
UID:6661-1743724800-1743811199@www.maritiemcollegeijmuiden.nl
SUMMARY:Herkansing tentamen\, Leerjaar 4
DESCRIPTION:
URL:https://www.maritiemcollegeijmuiden.nl/event/herkansing-tentamen-leerjaar-4-2/
END:VEVENT
BEGIN:VEVENT
DTSTART;TZID=Europe/Amsterdam:20250325T080000
DTEND;TZID=Europe/Amsterdam:20250331T170000
DTSTAMP:20260420T151521
CREATED:20240708T143613Z
LAST-MODIFIED:20240708T143613Z
UID:6653-1742889600-1743440400@www.maritiemcollegeijmuiden.nl
SUMMARY:Landelijke aanmeldweek
DESCRIPTION:
URL:https://www.maritiemcollegeijmuiden.nl/event/landelijke-aanmeldweek-2/
END:VEVENT
BEGIN:VEVENT
DTSTART;VALUE=DATE:20250325
DTEND;VALUE=DATE:20250326
DTSTAMP:20260420T151521
CREATED:20240910T141845Z
LAST-MODIFIED:20240910T141845Z
UID:6781-1742860800-1742947199@www.maritiemcollegeijmuiden.nl
SUMMARY:Doe-dag On stage
DESCRIPTION:
URL:https://www.maritiemcollegeijmuiden.nl/event/doe-dag-on-stage/
END:VEVENT
BEGIN:VEVENT
DTSTART;TZID=Europe/Amsterdam:20250324T080000
DTEND;TZID=Europe/Amsterdam:20250328T170000
DTSTAMP:20260420T151521
CREATED:20240708T143457Z
LAST-MODIFIED:20240708T143457Z
UID:6650-1742803200-1743181200@www.maritiemcollegeijmuiden.nl
SUMMARY:Tentamenweek\, Leerjaar 4
DESCRIPTION:
URL:https://www.maritiemcollegeijmuiden.nl/event/tentamenweek-leerjaar-4-2/
END:VEVENT
BEGIN:VEVENT
DTSTART;TZID=Europe/Amsterdam:20250324T080000
DTEND;TZID=Europe/Amsterdam:20250328T170000
DTSTAMP:20260420T151521
CREATED:20240708T143134Z
LAST-MODIFIED:20240709T094210Z
UID:6648-1742803200-1743181200@www.maritiemcollegeijmuiden.nl
SUMMARY:Portfolioweek
DESCRIPTION:
URL:https://www.maritiemcollegeijmuiden.nl/event/portfolioweek-7/
END:VEVENT
BEGIN:VEVENT
DTSTART;VALUE=DATE:20250311
DTEND;VALUE=DATE:20250312
DTSTAMP:20260420T151521
CREATED:20240708T142959Z
LAST-MODIFIED:20240708T142959Z
UID:6646-1741651200-1741737599@www.maritiemcollegeijmuiden.nl
SUMMARY:Beroepenfeest
DESCRIPTION:
URL:https://www.maritiemcollegeijmuiden.nl/event/beroepenfeest/
END:VEVENT
BEGIN:VEVENT
DTSTART;TZID=Europe/Amsterdam:20250307T180000
DTEND;TZID=Europe/Amsterdam:20250307T210000
DTSTAMP:20260420T151521
CREATED:20240708T142829Z
LAST-MODIFIED:20240708T142829Z
UID:6644-1741370400-1741381200@www.maritiemcollegeijmuiden.nl
SUMMARY:Open avond
DESCRIPTION:
URL:https://www.maritiemcollegeijmuiden.nl/event/open-avond-5/
END:VEVENT
BEGIN:VEVENT
DTSTART;TZID=Europe/Amsterdam:20250224T083000
DTEND;TZID=Europe/Amsterdam:20250224T123000
DTSTAMP:20260420T151521
CREATED:20240708T142756Z
LAST-MODIFIED:20240708T142756Z
UID:6642-1740385800-1740400200@www.maritiemcollegeijmuiden.nl
SUMMARY:Studieochtend
DESCRIPTION:
URL:https://www.maritiemcollegeijmuiden.nl/event/studieochtend/
END:VEVENT
BEGIN:VEVENT
DTSTART;TZID=Europe/Amsterdam:20250217T080000
DTEND;TZID=Europe/Amsterdam:20250221T170000
DTSTAMP:20260420T151521
CREATED:20240423T083656Z
LAST-MODIFIED:20240423T083656Z
UID:6414-1739779200-1740157200@www.maritiemcollegeijmuiden.nl
SUMMARY:Voorjaarsvakantie
DESCRIPTION:
URL:https://www.maritiemcollegeijmuiden.nl/event/voorjaarsvakantie-4/
END:VEVENT
BEGIN:VEVENT
DTSTART;TZID=Europe/Amsterdam:20250212T143000
DTEND;TZID=Europe/Amsterdam:20250212T170000
DTSTAMP:20260420T151521
CREATED:20240708T142520Z
LAST-MODIFIED:20240708T142520Z
UID:6638-1739370600-1739379600@www.maritiemcollegeijmuiden.nl
SUMMARY:Doe-middag (groep 8)
DESCRIPTION:
URL:https://www.maritiemcollegeijmuiden.nl/event/doe-middag-groep-8-6/
END:VEVENT
BEGIN:VEVENT
DTSTART;TZID=Europe/Amsterdam:20250212T080000
DTEND;TZID=Europe/Amsterdam:20250214T170000
DTSTAMP:20260420T151521
CREATED:20240708T142617Z
LAST-MODIFIED:20240708T142617Z
UID:6640-1739347200-1739552400@www.maritiemcollegeijmuiden.nl
SUMMARY:Uitwisseling Don Bosco\, Leerjaar 3GL
DESCRIPTION:
URL:https://www.maritiemcollegeijmuiden.nl/event/uitwisseling-don-bosco-leerjaar-3gl/
END:VEVENT
BEGIN:VEVENT
DTSTART;TZID=Europe/Amsterdam:20250210T080000
DTEND;TZID=Europe/Amsterdam:20250213T170000
DTSTAMP:20260420T151521
CREATED:20240708T142403Z
LAST-MODIFIED:20240708T142403Z
UID:6636-1739174400-1739466000@www.maritiemcollegeijmuiden.nl
SUMMARY:CITO toets\, Leerjaar 2
DESCRIPTION:
URL:https://www.maritiemcollegeijmuiden.nl/event/cito-toets-leerjaar-2/
END:VEVENT
BEGIN:VEVENT
DTSTART;TZID=Europe/Amsterdam:20250204T183000
DTEND;TZID=Europe/Amsterdam:20250204T210000
DTSTAMP:20260420T151521
CREATED:20240708T141954Z
LAST-MODIFIED:20240708T141954Z
UID:6632-1738693800-1738702800@www.maritiemcollegeijmuiden.nl
SUMMARY:Girls Night (groep 7 en 8)
DESCRIPTION:
URL:https://www.maritiemcollegeijmuiden.nl/event/girls-night-groep-7-en-8/
END:VEVENT
BEGIN:VEVENT
DTSTART;VALUE=DATE:20250204
DTEND;VALUE=DATE:20250205
DTSTAMP:20260420T151521
CREATED:20240708T141918Z
LAST-MODIFIED:20240708T141918Z
UID:6630-1738627200-1738713599@www.maritiemcollegeijmuiden.nl
SUMMARY:Sportdag
DESCRIPTION:
URL:https://www.maritiemcollegeijmuiden.nl/event/sportdag-8/
END:VEVENT
BEGIN:VEVENT
DTSTART;TZID=Europe/Amsterdam:20250121T130000
DTEND;TZID=Europe/Amsterdam:20250121T170000
DTSTAMP:20260420T151521
CREATED:20240708T141808Z
LAST-MODIFIED:20240708T141808Z
UID:6628-1737464400-1737478800@www.maritiemcollegeijmuiden.nl
SUMMARY:Studiemiddag
DESCRIPTION:
URL:https://www.maritiemcollegeijmuiden.nl/event/studiemiddag-21/
END:VEVENT
BEGIN:VEVENT
DTSTART;TZID=Europe/Amsterdam:20241223T080000
DTEND;TZID=Europe/Amsterdam:20250103T170000
DTSTAMP:20260420T151521
CREATED:20240423T083633Z
LAST-MODIFIED:20240423T083633Z
UID:6412-1734940800-1735923600@www.maritiemcollegeijmuiden.nl
SUMMARY:Kerstvakantie
DESCRIPTION:
URL:https://www.maritiemcollegeijmuiden.nl/event/kerstvakantie-13/
END:VEVENT
BEGIN:VEVENT
DTSTART;TZID=Europe/Amsterdam:20241220T090000
DTEND;TZID=Europe/Amsterdam:20241220T120000
DTSTAMP:20260420T151521
CREATED:20240708T140525Z
LAST-MODIFIED:20240708T140525Z
UID:6624-1734685200-1734696000@www.maritiemcollegeijmuiden.nl
SUMMARY:Kerstviering leerlingen
DESCRIPTION:
URL:https://www.maritiemcollegeijmuiden.nl/event/kerstviering-leerlingen-2/
END:VEVENT
BEGIN:VEVENT
DTSTART;TZID=Europe/Amsterdam:20241219T163000
DTEND;TZID=Europe/Amsterdam:20241219T200000
DTSTAMP:20260420T151521
CREATED:20240708T140421Z
LAST-MODIFIED:20241119T133853Z
UID:6622-1734625800-1734638400@www.maritiemcollegeijmuiden.nl
SUMMARY:Kerstmarkt
DESCRIPTION:
URL:https://www.maritiemcollegeijmuiden.nl/event/kerstmarkt-2/
END:VEVENT
BEGIN:VEVENT
DTSTART;VALUE=DATE:20241213
DTEND;VALUE=DATE:20241214
DTSTAMP:20260420T151521
CREATED:20240708T135737Z
LAST-MODIFIED:20241209T094650Z
UID:6616-1734048000-1734134399@www.maritiemcollegeijmuiden.nl
SUMMARY:Paarse vrijdag
DESCRIPTION:
URL:https://www.maritiemcollegeijmuiden.nl/event/paarse-vrijdag-3/
END:VEVENT
BEGIN:VEVENT
DTSTART;TZID=Europe/Amsterdam:20241209T080000
DTEND;TZID=Europe/Amsterdam:20241213T170000
DTSTAMP:20260420T151521
CREATED:20240708T140220Z
LAST-MODIFIED:20240708T140220Z
UID:6620-1733731200-1734109200@www.maritiemcollegeijmuiden.nl
SUMMARY:Portfolioweek
DESCRIPTION:
URL:https://www.maritiemcollegeijmuiden.nl/event/portfolioweek-6/
END:VEVENT
BEGIN:VEVENT
DTSTART;TZID=Europe/Amsterdam:20241206T130000
DTEND;TZID=Europe/Amsterdam:20241206T170000
DTSTAMP:20260420T151521
CREATED:20240708T135800Z
LAST-MODIFIED:20240708T135800Z
UID:6618-1733490000-1733504400@www.maritiemcollegeijmuiden.nl
SUMMARY:Studiemiddag
DESCRIPTION:
URL:https://www.maritiemcollegeijmuiden.nl/event/studiemiddag-20/
END:VEVENT
BEGIN:VEVENT
DTSTART;TZID=Europe/Amsterdam:20241127T143000
DTEND;TZID=Europe/Amsterdam:20241127T170000
DTSTAMP:20260420T151521
CREATED:20240708T134748Z
LAST-MODIFIED:20241015T074204Z
UID:6610-1732717800-1732726800@www.maritiemcollegeijmuiden.nl
SUMMARY:Doe-middag (groep 8)
DESCRIPTION:Aanmelden kan via: Zo leuk is onze school! – Maritiem College IJmuiden
URL:https://www.maritiemcollegeijmuiden.nl/event/doe-middag-groep-8-5/
END:VEVENT
END:VCALENDAR