BEGIN:VCALENDAR
VERSION:2.0
PRODID:-//Maritiem College IJmuiden - ECPv6.15.20//NONSGML v1.0//EN
CALSCALE:GREGORIAN
METHOD:PUBLISH
X-ORIGINAL-URL:https://www.maritiemcollegeijmuiden.nl
X-WR-CALDESC:Evenementen voor Maritiem College IJmuiden
REFRESH-INTERVAL;VALUE=DURATION:PT1H
X-Robots-Tag:noindex
X-PUBLISHED-TTL:PT1H
BEGIN:VTIMEZONE
TZID:Europe/Amsterdam
BEGIN:DAYLIGHT
TZOFFSETFROM:+0100
TZOFFSETTO:+0200
TZNAME:CEST
DTSTART:20240331T010000
END:DAYLIGHT
BEGIN:STANDARD
TZOFFSETFROM:+0200
TZOFFSETTO:+0100
TZNAME:CET
DTSTART:20241027T010000
END:STANDARD
BEGIN:DAYLIGHT
TZOFFSETFROM:+0100
TZOFFSETTO:+0200
TZNAME:CEST
DTSTART:20250330T010000
END:DAYLIGHT
BEGIN:STANDARD
TZOFFSETFROM:+0200
TZOFFSETTO:+0100
TZNAME:CET
DTSTART:20251026T010000
END:STANDARD
BEGIN:DAYLIGHT
TZOFFSETFROM:+0100
TZOFFSETTO:+0200
TZNAME:CEST
DTSTART:20260329T010000
END:DAYLIGHT
BEGIN:STANDARD
TZOFFSETFROM:+0200
TZOFFSETTO:+0100
TZNAME:CET
DTSTART:20261025T010000
END:STANDARD
END:VTIMEZONE
BEGIN:VEVENT
DTSTART;TZID=Europe/Amsterdam:20251210T150000
DTEND;TZID=Europe/Amsterdam:20251210T170000
DTSTAMP:20260420T101456
CREATED:20251125T140235Z
LAST-MODIFIED:20251125T140235Z
UID:8009-1765378800-1765386000@www.maritiemcollegeijmuiden.nl
SUMMARY:Doe-middag op de Maxima (groep 7\, 8 en zij-instroom)
DESCRIPTION:
URL:https://www.maritiemcollegeijmuiden.nl/event/doe-middag-op-de-maxima-groep-7-8-en-zij-instroom/
END:VEVENT
BEGIN:VEVENT
DTSTART;TZID=Europe/Amsterdam:20251201T080000
DTEND;TZID=Europe/Amsterdam:20251212T170000
DTSTAMP:20260420T101457
CREATED:20250630T111948Z
LAST-MODIFIED:20250630T111948Z
UID:7622-1764576000-1765558800@www.maritiemcollegeijmuiden.nl
SUMMARY:Blokstage\, leerjaar 4 GL
DESCRIPTION:
URL:https://www.maritiemcollegeijmuiden.nl/event/blokstage-leerjaar-4-gl/
END:VEVENT
BEGIN:VEVENT
DTSTART;TZID=Europe/Amsterdam:20251201T080000
DTEND;TZID=Europe/Amsterdam:20251205T170000
DTSTAMP:20260420T101457
CREATED:20250707T125212Z
LAST-MODIFIED:20250707T125212Z
UID:7683-1764576000-1764954000@www.maritiemcollegeijmuiden.nl
SUMMARY:Portfolioweek
DESCRIPTION:
URL:https://www.maritiemcollegeijmuiden.nl/event/portfolioweek-9/
END:VEVENT
BEGIN:VEVENT
DTSTART;TZID=Europe/Amsterdam:20251126T080000
DTEND;TZID=Europe/Amsterdam:20251126T170000
DTSTAMP:20260420T101457
CREATED:20250617T110638Z
LAST-MODIFIED:20250617T110638Z
UID:7571-1764144000-1764176400@www.maritiemcollegeijmuiden.nl
SUMMARY:Doe-middag (groep 8)
DESCRIPTION:
URL:https://www.maritiemcollegeijmuiden.nl/event/doe-middag-groep-8-8/
END:VEVENT
BEGIN:VEVENT
DTSTART;VALUE=DATE:20251124
DTEND;VALUE=DATE:20251125
DTSTAMP:20260420T101457
CREATED:20250630T111755Z
LAST-MODIFIED:20250630T111755Z
UID:7620-1763942400-1764028799@www.maritiemcollegeijmuiden.nl
SUMMARY:Roostervrije dag\, leerlingen
DESCRIPTION:
URL:https://www.maritiemcollegeijmuiden.nl/event/roostervrije-dag-leerlingen/
END:VEVENT
BEGIN:VEVENT
DTSTART;TZID=Europe/Amsterdam:20251122T100000
DTEND;TZID=Europe/Amsterdam:20251122T130000
DTSTAMP:20260420T101457
CREATED:20250617T105821Z
LAST-MODIFIED:20250617T105821Z
UID:7567-1763805600-1763816400@www.maritiemcollegeijmuiden.nl
SUMMARY:Open dag
DESCRIPTION:
URL:https://www.maritiemcollegeijmuiden.nl/event/open-dag-5/
END:VEVENT
BEGIN:VEVENT
DTSTART;TZID=Europe/Amsterdam:20251107T083000
DTEND;TZID=Europe/Amsterdam:20251107T130000
DTSTAMP:20260420T101457
CREATED:20250915T111219Z
LAST-MODIFIED:20250915T111219Z
UID:7771-1762504200-1762520400@www.maritiemcollegeijmuiden.nl
SUMMARY:Bliksemstage Lj.2
DESCRIPTION:
URL:https://www.maritiemcollegeijmuiden.nl/event/bliksemstage-lj-2/
END:VEVENT
BEGIN:VEVENT
DTSTART;TZID=Europe/Amsterdam:20251105T080000
DTEND;TZID=Europe/Amsterdam:20251107T170000
DTSTAMP:20260420T101457
CREATED:20250630T112248Z
LAST-MODIFIED:20250630T112423Z
UID:7624-1762329600-1762534800@www.maritiemcollegeijmuiden.nl
SUMMARY:Uitwisseling Don Bosco Haacht België\, leerjaar 3 GL
DESCRIPTION:
URL:https://www.maritiemcollegeijmuiden.nl/event/uitwisseling-don-bosco-haacht-belgie-leerjaar-3-gl/
END:VEVENT
BEGIN:VEVENT
DTSTART;TZID=Europe/Amsterdam:20251104T190000
DTEND;TZID=Europe/Amsterdam:20251104T203000
DTSTAMP:20260420T101457
CREATED:20250825T132204Z
LAST-MODIFIED:20250825T132204Z
UID:7705-1762282800-1762288200@www.maritiemcollegeijmuiden.nl
SUMMARY:MBO opleidingenmarkt\, leerjaar 3
DESCRIPTION:
URL:https://www.maritiemcollegeijmuiden.nl/event/mbo-opleidingenmarkt-leerjaar-3/
END:VEVENT
BEGIN:VEVENT
DTSTART;TZID=Europe/Amsterdam:20251029T143000
DTEND;TZID=Europe/Amsterdam:20251029T170000
DTSTAMP:20260420T101457
CREATED:20250617T105911Z
LAST-MODIFIED:20250617T105911Z
UID:7569-1761748200-1761757200@www.maritiemcollegeijmuiden.nl
SUMMARY:Doe-middag (groep 8)
DESCRIPTION:
URL:https://www.maritiemcollegeijmuiden.nl/event/doe-middag-groep-8-7/
END:VEVENT
BEGIN:VEVENT
DTSTART;TZID=Europe/Amsterdam:20251020T080000
DTEND;TZID=Europe/Amsterdam:20251024T170000
DTSTAMP:20260420T101457
CREATED:20250211T110354Z
LAST-MODIFIED:20250211T110354Z
UID:7181-1760947200-1761325200@www.maritiemcollegeijmuiden.nl
SUMMARY:Herfstvakantie
DESCRIPTION:
URL:https://www.maritiemcollegeijmuiden.nl/event/herfstvakantie-9/
END:VEVENT
BEGIN:VEVENT
DTSTART;TZID=Europe/Amsterdam:20251013T080000
DTEND;TZID=Europe/Amsterdam:20251014T170000
DTSTAMP:20260420T101457
CREATED:20250630T111500Z
LAST-MODIFIED:20250630T111607Z
UID:7617-1760342400-1760461200@www.maritiemcollegeijmuiden.nl
SUMMARY:CITO toets\, leerjaar 1
DESCRIPTION:
URL:https://www.maritiemcollegeijmuiden.nl/event/cito-toets-klas-1/
END:VEVENT
BEGIN:VEVENT
DTSTART;TZID=Europe/Amsterdam:20250922T080000
DTEND;TZID=Europe/Amsterdam:20250926T170000
DTSTAMP:20260420T101457
CREATED:20250617T105635Z
LAST-MODIFIED:20250617T105635Z
UID:7564-1758528000-1758906000@www.maritiemcollegeijmuiden.nl
SUMMARY:Week tegen het pesten
DESCRIPTION:
URL:https://www.maritiemcollegeijmuiden.nl/event/week-tegen-het-pesten-3/
END:VEVENT
BEGIN:VEVENT
DTSTART;TZID=Europe/Amsterdam:20250714T080000
DTEND;TZID=Europe/Amsterdam:20250822T170000
DTSTAMP:20260420T101457
CREATED:20240423T084134Z
LAST-MODIFIED:20240423T084134Z
UID:6428-1752480000-1755882000@www.maritiemcollegeijmuiden.nl
SUMMARY:Zomervakantie
DESCRIPTION:
URL:https://www.maritiemcollegeijmuiden.nl/event/zomervakantie-34/
END:VEVENT
BEGIN:VEVENT
DTSTART;TZID=Europe/Amsterdam:20250630T080000
DTEND;TZID=Europe/Amsterdam:20250704T170000
DTSTAMP:20260420T101457
CREATED:20240709T112028Z
LAST-MODIFIED:20240709T112028Z
UID:6700-1751270400-1751648400@www.maritiemcollegeijmuiden.nl
SUMMARY:Portfolioweek
DESCRIPTION:
URL:https://www.maritiemcollegeijmuiden.nl/event/portfolioweek-8/
END:VEVENT
BEGIN:VEVENT
DTSTART;VALUE=DATE:20250625
DTEND;VALUE=DATE:20250626
DTSTAMP:20260420T101457
CREATED:20240709T100922Z
LAST-MODIFIED:20240910T142717Z
UID:6683-1750809600-1750895999@www.maritiemcollegeijmuiden.nl
SUMMARY:Kennismaking + informatieavond nieuwe eerstejaars
DESCRIPTION:
URL:https://www.maritiemcollegeijmuiden.nl/event/kennismaking-informatieavond-nieuwe-eerstejaars-2/
END:VEVENT
BEGIN:VEVENT
DTSTART;TZID=Europe/Amsterdam:20250623T080000
DTEND;TZID=Europe/Amsterdam:20250704T170000
DTSTAMP:20260420T101457
CREATED:20240709T112003Z
LAST-MODIFIED:20240709T112003Z
UID:6698-1750665600-1751648400@www.maritiemcollegeijmuiden.nl
SUMMARY:Blokstage\, leerjaar 3 (scheeps- en Jachtbouw)
DESCRIPTION:
URL:https://www.maritiemcollegeijmuiden.nl/event/blokstage-leerjaar-3-scheeps-en-jachtbouw/
END:VEVENT
BEGIN:VEVENT
DTSTART;TZID=Europe/Amsterdam:20250620T183000
DTEND;TZID=Europe/Amsterdam:20250620T203000
DTSTAMP:20260420T101457
CREATED:20240709T111649Z
LAST-MODIFIED:20240709T111649Z
UID:6694-1750444200-1750451400@www.maritiemcollegeijmuiden.nl
SUMMARY:Grachtenloop\, Leerjaar 1
DESCRIPTION:
URL:https://www.maritiemcollegeijmuiden.nl/event/grachtenloop-leerjaar-1/
END:VEVENT
BEGIN:VEVENT
DTSTART;VALUE=DATE:20250620
DTEND;VALUE=DATE:20250621
DTSTAMP:20260420T101457
CREATED:20240709T111724Z
LAST-MODIFIED:20240709T111724Z
UID:6696-1750377600-1750463999@www.maritiemcollegeijmuiden.nl
SUMMARY:Herkansing tentamen\, leerjaar 3
DESCRIPTION:
URL:https://www.maritiemcollegeijmuiden.nl/event/herkansing-tentamen-leerjaar-3-2/
END:VEVENT
BEGIN:VEVENT
DTSTART;VALUE=DATE:20250618
DTEND;VALUE=DATE:20250619
DTSTAMP:20260420T101457
CREATED:20240709T111509Z
LAST-MODIFIED:20250520T090413Z
UID:6692-1750204800-1750291199@www.maritiemcollegeijmuiden.nl
SUMMARY:Sportdag
DESCRIPTION:
URL:https://www.maritiemcollegeijmuiden.nl/event/sportdag-9/
END:VEVENT
BEGIN:VEVENT
DTSTART;VALUE=DATE:20250613
DTEND;VALUE=DATE:20250614
DTSTAMP:20260420T101457
CREATED:20240709T111353Z
LAST-MODIFIED:20240709T111430Z
UID:6689-1749772800-1749859199@www.maritiemcollegeijmuiden.nl
SUMMARY:Schoolreis
DESCRIPTION:
URL:https://www.maritiemcollegeijmuiden.nl/event/schoolreis-4/
END:VEVENT
BEGIN:VEVENT
DTSTART;TZID=Europe/Amsterdam:20250610T080000
DTEND;TZID=Europe/Amsterdam:20250612T170000
DTSTAMP:20260420T101457
CREATED:20240709T111327Z
LAST-MODIFIED:20240709T111327Z
UID:6687-1749542400-1749747600@www.maritiemcollegeijmuiden.nl
SUMMARY:Tentamens\, Leerjaar 3
DESCRIPTION:
URL:https://www.maritiemcollegeijmuiden.nl/event/tentamens-leerjaar-3-2/
END:VEVENT
BEGIN:VEVENT
DTSTART;TZID=Europe/Amsterdam:20250609T080000
DTEND;TZID=Europe/Amsterdam:20250609T170000
DTSTAMP:20260420T101457
CREATED:20240423T084109Z
LAST-MODIFIED:20240423T084109Z
UID:6426-1749456000-1749488400@www.maritiemcollegeijmuiden.nl
SUMMARY:Tweede Pinksterdag
DESCRIPTION:
URL:https://www.maritiemcollegeijmuiden.nl/event/tweede-pinksterdag-3/
END:VEVENT
BEGIN:VEVENT
DTSTART;TZID=Europe/Amsterdam:20250604T143000
DTEND;TZID=Europe/Amsterdam:20250604T170000
DTSTAMP:20260420T101457
CREATED:20240709T100812Z
LAST-MODIFIED:20240709T100812Z
UID:6681-1749047400-1749056400@www.maritiemcollegeijmuiden.nl
SUMMARY:Doe-middag (groep 7)
DESCRIPTION:
URL:https://www.maritiemcollegeijmuiden.nl/event/doe-middag-groep-7/
END:VEVENT
BEGIN:VEVENT
DTSTART;TZID=Europe/Amsterdam:20250530T080000
DTEND;TZID=Europe/Amsterdam:20250530T170000
DTSTAMP:20260420T101457
CREATED:20240423T084007Z
LAST-MODIFIED:20240423T084007Z
UID:6424-1748592000-1748624400@www.maritiemcollegeijmuiden.nl
SUMMARY:Vrije dag
DESCRIPTION:
URL:https://www.maritiemcollegeijmuiden.nl/event/vrije-dag/
END:VEVENT
BEGIN:VEVENT
DTSTART;TZID=Europe/Amsterdam:20250529T080000
DTEND;TZID=Europe/Amsterdam:20250529T170000
DTSTAMP:20260420T101457
CREATED:20240423T083900Z
LAST-MODIFIED:20240423T083900Z
UID:6422-1748505600-1748538000@www.maritiemcollegeijmuiden.nl
SUMMARY:Hemelvaartsdag
DESCRIPTION:
URL:https://www.maritiemcollegeijmuiden.nl/event/hemelvaartsdag-4/
END:VEVENT
BEGIN:VEVENT
DTSTART;TZID=Europe/Amsterdam:20250514T080000
DTEND;TZID=Europe/Amsterdam:20250516T170000
DTSTAMP:20260420T101457
CREATED:20240709T100155Z
LAST-MODIFIED:20240709T100155Z
UID:6675-1747209600-1747414800@www.maritiemcollegeijmuiden.nl
SUMMARY:Uitwisseling Don Bosco\, Leerjaar 3GL
DESCRIPTION:
URL:https://www.maritiemcollegeijmuiden.nl/event/uitwisseling-don-bosco-leerjaar-3gl-2/
END:VEVENT
BEGIN:VEVENT
DTSTART;TZID=Europe/Amsterdam:20250512T080000
DTEND;TZID=Europe/Amsterdam:20250528T170000
DTSTAMP:20260420T101457
CREATED:20240709T100024Z
LAST-MODIFIED:20240709T100024Z
UID:6673-1747036800-1748451600@www.maritiemcollegeijmuiden.nl
SUMMARY:CSPE\, Leerjaar 3
DESCRIPTION:
URL:https://www.maritiemcollegeijmuiden.nl/event/cspe-leerjaar-3-2/
END:VEVENT
BEGIN:VEVENT
DTSTART;TZID=Europe/Amsterdam:20250507T080000
DTEND;TZID=Europe/Amsterdam:20250522T170000
DTSTAMP:20260420T101457
CREATED:20240709T095238Z
LAST-MODIFIED:20240916T093343Z
UID:6671-1746604800-1747933200@www.maritiemcollegeijmuiden.nl
SUMMARY:Centaal eindexamen\, Leerjaar 4
DESCRIPTION:
URL:https://www.maritiemcollegeijmuiden.nl/event/centaal-eindexamen-leerjaar-4/
END:VEVENT
BEGIN:VEVENT
DTSTART;TZID=Europe/Amsterdam:20250505T080000
DTEND;TZID=Europe/Amsterdam:20250505T170000
DTSTAMP:20260420T101457
CREATED:20240423T083807Z
LAST-MODIFIED:20240423T083807Z
UID:6420-1746432000-1746464400@www.maritiemcollegeijmuiden.nl
SUMMARY:Bevrijdingsdag
DESCRIPTION:
URL:https://www.maritiemcollegeijmuiden.nl/event/bevrijdingsdag-3/
END:VEVENT
END:VCALENDAR