BEGIN:VCALENDAR
VERSION:2.0
PRODID:-//Maritiem College IJmuiden - ECPv6.15.20//NONSGML v1.0//EN
CALSCALE:GREGORIAN
METHOD:PUBLISH
X-WR-CALNAME:Maritiem College IJmuiden
X-ORIGINAL-URL:https://www.maritiemcollegeijmuiden.nl
X-WR-CALDESC:Evenementen voor Maritiem College IJmuiden
REFRESH-INTERVAL;VALUE=DURATION:PT1H
X-Robots-Tag:noindex
X-PUBLISHED-TTL:PT1H
BEGIN:VTIMEZONE
TZID:Europe/Amsterdam
BEGIN:DAYLIGHT
TZOFFSETFROM:+0100
TZOFFSETTO:+0200
TZNAME:CEST
DTSTART:20250330T010000
END:DAYLIGHT
BEGIN:STANDARD
TZOFFSETFROM:+0200
TZOFFSETTO:+0100
TZNAME:CET
DTSTART:20251026T010000
END:STANDARD
BEGIN:DAYLIGHT
TZOFFSETFROM:+0100
TZOFFSETTO:+0200
TZNAME:CEST
DTSTART:20260329T010000
END:DAYLIGHT
BEGIN:STANDARD
TZOFFSETFROM:+0200
TZOFFSETTO:+0100
TZNAME:CET
DTSTART:20261025T010000
END:STANDARD
BEGIN:DAYLIGHT
TZOFFSETFROM:+0100
TZOFFSETTO:+0200
TZNAME:CEST
DTSTART:20270328T010000
END:DAYLIGHT
BEGIN:STANDARD
TZOFFSETFROM:+0200
TZOFFSETTO:+0100
TZNAME:CET
DTSTART:20271031T010000
END:STANDARD
END:VTIMEZONE
BEGIN:VEVENT
DTSTART;TZID=Europe/Amsterdam:20260615T080000
DTEND;TZID=Europe/Amsterdam:20260626T170000
DTSTAMP:20260420T083437
CREATED:20250630T113153Z
LAST-MODIFIED:20250630T113215Z
UID:7633-1781510400-1782493200@www.maritiemcollegeijmuiden.nl
SUMMARY:Blokstage\, leerjaar 3 (alleen Scheeps- en Jachtbouw)
DESCRIPTION:
URL:https://www.maritiemcollegeijmuiden.nl/event/blokstage-leerjaar-3-3/
END:VEVENT
BEGIN:VEVENT
DTSTART;TZID=Europe/Amsterdam:20260619T180000
DTEND;TZID=Europe/Amsterdam:20260619T200000
DTSTAMP:20260420T083437
CREATED:20250908T143547Z
LAST-MODIFIED:20250908T143547Z
UID:7761-1781892000-1781899200@www.maritiemcollegeijmuiden.nl
SUMMARY:Grachtenloop
DESCRIPTION:
URL:https://www.maritiemcollegeijmuiden.nl/event/grachtenloop-2/
END:VEVENT
BEGIN:VEVENT
DTSTART;TZID=Europe/Amsterdam:20260622T080000
DTEND;TZID=Europe/Amsterdam:20260626T170000
DTSTAMP:20260420T083437
CREATED:20250707T125540Z
LAST-MODIFIED:20250707T125540Z
UID:7687-1782115200-1782493200@www.maritiemcollegeijmuiden.nl
SUMMARY:Portfolioweek
DESCRIPTION:
URL:https://www.maritiemcollegeijmuiden.nl/event/portfolioweek-11/
END:VEVENT
BEGIN:VEVENT
DTSTART;VALUE=DATE:20260630
DTEND;VALUE=DATE:20260701
DTSTAMP:20260420T083437
CREATED:20250630T113406Z
LAST-MODIFIED:20250630T113406Z
UID:7636-1782777600-1782863999@www.maritiemcollegeijmuiden.nl
SUMMARY:Diploma-uitreiking
DESCRIPTION:
URL:https://www.maritiemcollegeijmuiden.nl/event/diploma-uitreiking-4/
END:VEVENT
BEGIN:VEVENT
DTSTART;TZID=Europe/Amsterdam:20260706T080000
DTEND;TZID=Europe/Amsterdam:20260814T170000
DTSTAMP:20260420T083437
CREATED:20250211T110805Z
LAST-MODIFIED:20250211T110805Z
UID:7196-1783324800-1786726800@www.maritiemcollegeijmuiden.nl
SUMMARY:Zomervakantie
DESCRIPTION:
URL:https://www.maritiemcollegeijmuiden.nl/event/zomervakantie-35/
END:VEVENT
END:VCALENDAR