BEGIN:VCALENDAR
VERSION:2.0
PRODID:-//Maritiem College IJmuiden - ECPv6.15.20//NONSGML v1.0//EN
CALSCALE:GREGORIAN
METHOD:PUBLISH
X-WR-CALNAME:Maritiem College IJmuiden
X-ORIGINAL-URL:https://www.maritiemcollegeijmuiden.nl
X-WR-CALDESC:Evenementen voor Maritiem College IJmuiden
REFRESH-INTERVAL;VALUE=DURATION:PT1H
X-Robots-Tag:noindex
X-PUBLISHED-TTL:PT1H
BEGIN:VTIMEZONE
TZID:UTC
BEGIN:STANDARD
TZOFFSETFROM:+0000
TZOFFSETTO:+0000
TZNAME:UTC
DTSTART:20200101T000000
END:STANDARD
END:VTIMEZONE
BEGIN:VTIMEZONE
TZID:Europe/Amsterdam
BEGIN:DAYLIGHT
TZOFFSETFROM:+0100
TZOFFSETTO:+0200
TZNAME:CEST
DTSTART:20200329T010000
END:DAYLIGHT
BEGIN:STANDARD
TZOFFSETFROM:+0200
TZOFFSETTO:+0100
TZNAME:CET
DTSTART:20201025T010000
END:STANDARD
BEGIN:DAYLIGHT
TZOFFSETFROM:+0100
TZOFFSETTO:+0200
TZNAME:CEST
DTSTART:20210328T010000
END:DAYLIGHT
BEGIN:STANDARD
TZOFFSETFROM:+0200
TZOFFSETTO:+0100
TZNAME:CET
DTSTART:20211031T010000
END:STANDARD
BEGIN:DAYLIGHT
TZOFFSETFROM:+0100
TZOFFSETTO:+0200
TZNAME:CEST
DTSTART:20220327T010000
END:DAYLIGHT
BEGIN:STANDARD
TZOFFSETFROM:+0200
TZOFFSETTO:+0100
TZNAME:CET
DTSTART:20221030T010000
END:STANDARD
END:VTIMEZONE
BEGIN:VEVENT
DTSTART;VALUE=DATE:20210803
DTEND;VALUE=DATE:20210804
DTSTAMP:20260423T002148
CREATED:20210308T141839Z
LAST-MODIFIED:20210308T141839Z
UID:3152-1627948800-1628035199@www.maritiemcollegeijmuiden.nl
SUMMARY:Zomervakantie
DESCRIPTION:
URL:https://www.maritiemcollegeijmuiden.nl/event/zomervakantie-16/
END:VEVENT
BEGIN:VEVENT
DTSTART;VALUE=DATE:20210802
DTEND;VALUE=DATE:20210803
DTSTAMP:20260423T002148
CREATED:20210308T141818Z
LAST-MODIFIED:20210308T141818Z
UID:3150-1627862400-1627948799@www.maritiemcollegeijmuiden.nl
SUMMARY:Zomervakantie
DESCRIPTION:
URL:https://www.maritiemcollegeijmuiden.nl/event/zomervakantie-15/
END:VEVENT
BEGIN:VEVENT
DTSTART;VALUE=DATE:20210730
DTEND;VALUE=DATE:20210731
DTSTAMP:20260423T002148
CREATED:20210308T141759Z
LAST-MODIFIED:20210308T141759Z
UID:3148-1627603200-1627689599@www.maritiemcollegeijmuiden.nl
SUMMARY:Zomervakantie
DESCRIPTION:
URL:https://www.maritiemcollegeijmuiden.nl/event/zomervakantie-14/
END:VEVENT
BEGIN:VEVENT
DTSTART;VALUE=DATE:20210729
DTEND;VALUE=DATE:20210730
DTSTAMP:20260423T002148
CREATED:20210308T141740Z
LAST-MODIFIED:20210308T141740Z
UID:3146-1627516800-1627603199@www.maritiemcollegeijmuiden.nl
SUMMARY:Zomervakantie
DESCRIPTION:
URL:https://www.maritiemcollegeijmuiden.nl/event/zomervakantie-13/
END:VEVENT
BEGIN:VEVENT
DTSTART;VALUE=DATE:20210728
DTEND;VALUE=DATE:20210729
DTSTAMP:20260423T002148
CREATED:20210308T141716Z
LAST-MODIFIED:20210308T141716Z
UID:3144-1627430400-1627516799@www.maritiemcollegeijmuiden.nl
SUMMARY:Zomervakantie
DESCRIPTION:
URL:https://www.maritiemcollegeijmuiden.nl/event/zomervakantie-12/
END:VEVENT
BEGIN:VEVENT
DTSTART;VALUE=DATE:20210727
DTEND;VALUE=DATE:20210728
DTSTAMP:20260423T002148
CREATED:20210308T142033Z
LAST-MODIFIED:20210308T142039Z
UID:3160-1627344000-1627430399@www.maritiemcollegeijmuiden.nl
SUMMARY:Zomervakantie
DESCRIPTION:
URL:https://www.maritiemcollegeijmuiden.nl/event/zomervakantie-20/
END:VEVENT
BEGIN:VEVENT
DTSTART;VALUE=DATE:20210726
DTEND;VALUE=DATE:20210727
DTSTAMP:20260423T002148
CREATED:20210308T141657Z
LAST-MODIFIED:20210308T141657Z
UID:3142-1627257600-1627343999@www.maritiemcollegeijmuiden.nl
SUMMARY:Zomervakantie
DESCRIPTION:
URL:https://www.maritiemcollegeijmuiden.nl/event/zomervakantie-9/
END:VEVENT
BEGIN:VEVENT
DTSTART;VALUE=DATE:20210723
DTEND;VALUE=DATE:20210724
DTSTAMP:20260423T002148
CREATED:20210308T141552Z
LAST-MODIFIED:20210308T141552Z
UID:3140-1626998400-1627084799@www.maritiemcollegeijmuiden.nl
SUMMARY:Zomervakantie
DESCRIPTION:
URL:https://www.maritiemcollegeijmuiden.nl/event/zomervakantie-11/
END:VEVENT
BEGIN:VEVENT
DTSTART;VALUE=DATE:20210722
DTEND;VALUE=DATE:20210723
DTSTAMP:20260423T002148
CREATED:20210308T141533Z
LAST-MODIFIED:20210308T141533Z
UID:3138-1626912000-1626998399@www.maritiemcollegeijmuiden.nl
SUMMARY:Zomervakantie
DESCRIPTION:
URL:https://www.maritiemcollegeijmuiden.nl/event/zomervakantie-10/
END:VEVENT
BEGIN:VEVENT
DTSTART;VALUE=DATE:20210721
DTEND;VALUE=DATE:20210722
DTSTAMP:20260423T002148
CREATED:20210308T141436Z
LAST-MODIFIED:20210308T141436Z
UID:3134-1626825600-1626911999@www.maritiemcollegeijmuiden.nl
SUMMARY:Zomervakantie
DESCRIPTION:
URL:https://www.maritiemcollegeijmuiden.nl/event/zomervakantie-8/
END:VEVENT
BEGIN:VEVENT
DTSTART;VALUE=DATE:20210720
DTEND;VALUE=DATE:20210721
DTSTAMP:20260423T002148
CREATED:20210308T141417Z
LAST-MODIFIED:20210308T141417Z
UID:3132-1626739200-1626825599@www.maritiemcollegeijmuiden.nl
SUMMARY:Zomervakantie
DESCRIPTION:
URL:https://www.maritiemcollegeijmuiden.nl/event/zomervakantie-7/
END:VEVENT
BEGIN:VEVENT
DTSTART;VALUE=DATE:20210719
DTEND;VALUE=DATE:20210720
DTSTAMP:20260423T002148
CREATED:20210308T141349Z
LAST-MODIFIED:20210308T141349Z
UID:3130-1626652800-1626739199@www.maritiemcollegeijmuiden.nl
SUMMARY:Zomervakantie
DESCRIPTION:
URL:https://www.maritiemcollegeijmuiden.nl/event/zomervakantie-4/
END:VEVENT
BEGIN:VEVENT
DTSTART;VALUE=DATE:20210716
DTEND;VALUE=DATE:20210717
DTSTAMP:20260423T002148
CREATED:20210308T140635Z
LAST-MODIFIED:20210308T140635Z
UID:3127-1626393600-1626479999@www.maritiemcollegeijmuiden.nl
SUMMARY:Zomervakantie
DESCRIPTION:
URL:https://www.maritiemcollegeijmuiden.nl/event/zomervakantie-6/
END:VEVENT
BEGIN:VEVENT
DTSTART;VALUE=DATE:20210715
DTEND;VALUE=DATE:20210716
DTSTAMP:20260423T002148
CREATED:20210402T063927Z
LAST-MODIFIED:20210402T070532Z
UID:3281-1626307200-1626393599@www.maritiemcollegeijmuiden.nl
SUMMARY:Diplomauitreiking voor GL-leerlingen die gebruik hebben gemaakt van het derde tijdvak
DESCRIPTION:
URL:https://www.maritiemcollegeijmuiden.nl/event/diplomauitreiking-voor-gl-leerlingen-die-gebruik-hebben-gemaakt-van-het-derde-tijdvak/
END:VEVENT
BEGIN:VEVENT
DTSTART;VALUE=DATE:20210715
DTEND;VALUE=DATE:20210716
DTSTAMP:20260423T002148
CREATED:20210308T140613Z
LAST-MODIFIED:20210308T140613Z
UID:3125-1626307200-1626393599@www.maritiemcollegeijmuiden.nl
SUMMARY:Zomervakantie
DESCRIPTION:
URL:https://www.maritiemcollegeijmuiden.nl/event/zomervakantie-5/
END:VEVENT
BEGIN:VEVENT
DTSTART;VALUE=DATE:20210714
DTEND;VALUE=DATE:20210715
DTSTAMP:20260423T002148
CREATED:20210308T140533Z
LAST-MODIFIED:20210308T140533Z
UID:3121-1626220800-1626307199@www.maritiemcollegeijmuiden.nl
SUMMARY:Zomervakantie
DESCRIPTION:
URL:https://www.maritiemcollegeijmuiden.nl/event/zomervakantie-3/
END:VEVENT
BEGIN:VEVENT
DTSTART;VALUE=DATE:20210713
DTEND;VALUE=DATE:20210714
DTSTAMP:20260423T002148
CREATED:20210308T140503Z
LAST-MODIFIED:20210308T140503Z
UID:3119-1626134400-1626220799@www.maritiemcollegeijmuiden.nl
SUMMARY:Zomervakantie
DESCRIPTION:
URL:https://www.maritiemcollegeijmuiden.nl/event/zomervakantie-2/
END:VEVENT
BEGIN:VEVENT
DTSTART;VALUE=DATE:20210712
DTEND;VALUE=DATE:20210713
DTSTAMP:20260423T002148
CREATED:20210308T140438Z
LAST-MODIFIED:20210308T140438Z
UID:3117-1626048000-1626134399@www.maritiemcollegeijmuiden.nl
SUMMARY:Zomervakantie
DESCRIPTION:
URL:https://www.maritiemcollegeijmuiden.nl/event/zomervakantie/
END:VEVENT
BEGIN:VEVENT
DTSTART;VALUE=DATE:20210706
DTEND;VALUE=DATE:20210707
DTSTAMP:20260423T002148
CREATED:20210402T063833Z
LAST-MODIFIED:20210402T070333Z
UID:3279-1625529600-1625615999@www.maritiemcollegeijmuiden.nl
SUMMARY:Diplomauitreiking
DESCRIPTION:
URL:https://www.maritiemcollegeijmuiden.nl/event/diplomauitreiking/
END:VEVENT
BEGIN:VEVENT
DTSTART;TZID=UTC:20210702T120000
DTEND;TZID=UTC:20210702T153000
DTSTAMP:20260423T002148
CREATED:20210402T064016Z
LAST-MODIFIED:20210402T064016Z
UID:3283-1625227200-1625239800@www.maritiemcollegeijmuiden.nl
SUMMARY:Uitslag herkansingen
DESCRIPTION:
URL:https://www.maritiemcollegeijmuiden.nl/event/uitslag-herkansingen/
END:VEVENT
BEGIN:VEVENT
DTSTART;TZID=UTC:20210616T120000
DTEND;TZID=UTC:20210616T153000
DTSTAMP:20260423T002148
CREATED:20210402T063804Z
LAST-MODIFIED:20210402T063804Z
UID:3277-1623844800-1623857400@www.maritiemcollegeijmuiden.nl
SUMMARY:Uitslag examens basis en kader
DESCRIPTION:
URL:https://www.maritiemcollegeijmuiden.nl/event/uitslag-examens-basis-en-kader/
END:VEVENT
BEGIN:VEVENT
DTSTART;TZID=UTC:20210610T120000
DTEND;TZID=UTC:20210610T153000
DTSTAMP:20260423T002148
CREATED:20210402T063716Z
LAST-MODIFIED:20210402T063724Z
UID:3275-1623326400-1623339000@www.maritiemcollegeijmuiden.nl
SUMMARY:Uitslag examens GL
DESCRIPTION:
URL:https://www.maritiemcollegeijmuiden.nl/event/uitslag-examens-gl/
END:VEVENT
BEGIN:VEVENT
DTSTART;VALUE=DATE:20210524
DTEND;VALUE=DATE:20210525
DTSTAMP:20260423T002148
CREATED:20210202T134946Z
LAST-MODIFIED:20210202T134946Z
UID:2802-1621814400-1621900799@www.maritiemcollegeijmuiden.nl
SUMMARY:Tweede Pinksterdag
DESCRIPTION:
URL:https://www.maritiemcollegeijmuiden.nl/event/tweede-pinksterdag/
END:VEVENT
BEGIN:VEVENT
DTSTART;VALUE=DATE:20210523
DTEND;VALUE=DATE:20210524
DTSTAMP:20260423T002148
CREATED:20210202T134946Z
LAST-MODIFIED:20210202T134946Z
UID:2801-1621728000-1621814399@www.maritiemcollegeijmuiden.nl
SUMMARY:Eerste Pinksterdag
DESCRIPTION:
URL:https://www.maritiemcollegeijmuiden.nl/event/eerste-pinksterdag/
END:VEVENT
BEGIN:VEVENT
DTSTART;VALUE=DATE:20210514
DTEND;VALUE=DATE:20210515
DTSTAMP:20260423T002148
CREATED:20210308T120808Z
LAST-MODIFIED:20210308T120808Z
UID:3112-1620950400-1621036799@www.maritiemcollegeijmuiden.nl
SUMMARY:Meivakantie
DESCRIPTION:
URL:https://www.maritiemcollegeijmuiden.nl/event/meivakantie-9/
END:VEVENT
BEGIN:VEVENT
DTSTART;VALUE=DATE:20210513
DTEND;VALUE=DATE:20210514
DTSTAMP:20260423T002148
CREATED:20210308T120702Z
LAST-MODIFIED:20210308T120702Z
UID:3110-1620864000-1620950399@www.maritiemcollegeijmuiden.nl
SUMMARY:Meivakantie
DESCRIPTION:
URL:https://www.maritiemcollegeijmuiden.nl/event/meivakantie-8/
END:VEVENT
BEGIN:VEVENT
DTSTART;VALUE=DATE:20210513
DTEND;VALUE=DATE:20210514
DTSTAMP:20260423T002148
CREATED:20210202T134946Z
LAST-MODIFIED:20210202T134946Z
UID:2800-1620864000-1620950399@www.maritiemcollegeijmuiden.nl
SUMMARY:Hemelvaartsdag
DESCRIPTION:
URL:https://www.maritiemcollegeijmuiden.nl/event/hemelvaartsdag/
END:VEVENT
BEGIN:VEVENT
DTSTART;VALUE=DATE:20210512
DTEND;VALUE=DATE:20210513
DTSTAMP:20260423T002148
CREATED:20210308T120625Z
LAST-MODIFIED:20210308T120625Z
UID:3108-1620777600-1620863999@www.maritiemcollegeijmuiden.nl
SUMMARY:Meivakantie
DESCRIPTION:
URL:https://www.maritiemcollegeijmuiden.nl/event/meivakantie-7/
END:VEVENT
BEGIN:VEVENT
DTSTART;VALUE=DATE:20210511
DTEND;VALUE=DATE:20210512
DTSTAMP:20260423T002148
CREATED:20210308T120605Z
LAST-MODIFIED:20210308T120605Z
UID:3106-1620691200-1620777599@www.maritiemcollegeijmuiden.nl
SUMMARY:Meivakantie
DESCRIPTION:
URL:https://www.maritiemcollegeijmuiden.nl/event/meivakantie-6/
END:VEVENT
BEGIN:VEVENT
DTSTART;VALUE=DATE:20210510
DTEND;VALUE=DATE:20210511
DTSTAMP:20260423T002148
CREATED:20210308T120538Z
LAST-MODIFIED:20210308T120538Z
UID:3104-1620604800-1620691199@www.maritiemcollegeijmuiden.nl
SUMMARY:Meivakantie
DESCRIPTION:
URL:https://www.maritiemcollegeijmuiden.nl/event/meivakantie-5/
END:VEVENT
END:VCALENDAR