BEGIN:VCALENDAR
VERSION:2.0
PRODID:-//Maritiem College IJmuiden - ECPv6.15.20//NONSGML v1.0//EN
CALSCALE:GREGORIAN
METHOD:PUBLISH
X-WR-CALNAME:Maritiem College IJmuiden
X-ORIGINAL-URL:https://www.maritiemcollegeijmuiden.nl
X-WR-CALDESC:Evenementen voor Maritiem College IJmuiden
REFRESH-INTERVAL;VALUE=DURATION:PT1H
X-Robots-Tag:noindex
X-PUBLISHED-TTL:PT1H
BEGIN:VTIMEZONE
TZID:Europe/Amsterdam
BEGIN:DAYLIGHT
TZOFFSETFROM:+0100
TZOFFSETTO:+0200
TZNAME:CEST
DTSTART:20210328T010000
END:DAYLIGHT
BEGIN:STANDARD
TZOFFSETFROM:+0200
TZOFFSETTO:+0100
TZNAME:CET
DTSTART:20211031T010000
END:STANDARD
BEGIN:DAYLIGHT
TZOFFSETFROM:+0100
TZOFFSETTO:+0200
TZNAME:CEST
DTSTART:20220327T010000
END:DAYLIGHT
BEGIN:STANDARD
TZOFFSETFROM:+0200
TZOFFSETTO:+0100
TZNAME:CET
DTSTART:20221030T010000
END:STANDARD
BEGIN:DAYLIGHT
TZOFFSETFROM:+0100
TZOFFSETTO:+0200
TZNAME:CEST
DTSTART:20230326T010000
END:DAYLIGHT
BEGIN:STANDARD
TZOFFSETFROM:+0200
TZOFFSETTO:+0100
TZNAME:CET
DTSTART:20231029T010000
END:STANDARD
BEGIN:DAYLIGHT
TZOFFSETFROM:+0100
TZOFFSETTO:+0200
TZNAME:CEST
DTSTART:20240331T010000
END:DAYLIGHT
BEGIN:STANDARD
TZOFFSETFROM:+0200
TZOFFSETTO:+0100
TZNAME:CET
DTSTART:20241027T010000
END:STANDARD
END:VTIMEZONE
BEGIN:VEVENT
DTSTART;TZID=Europe/Amsterdam:20230210T180000
DTEND;TZID=Europe/Amsterdam:20230210T210000
DTSTAMP:20260421T080559
CREATED:20220713T130852Z
LAST-MODIFIED:20220713T130852Z
UID:4727-1676052000-1676062800@www.maritiemcollegeijmuiden.nl
SUMMARY:Open avond
DESCRIPTION:
URL:https://www.maritiemcollegeijmuiden.nl/event/open-avond-2/
END:VEVENT
BEGIN:VEVENT
DTSTART;TZID=Europe/Amsterdam:20230207T183000
DTEND;TZID=Europe/Amsterdam:20230207T210000
DTSTAMP:20260421T080559
CREATED:20220713T130818Z
LAST-MODIFIED:20220713T130818Z
UID:4725-1675794600-1675803600@www.maritiemcollegeijmuiden.nl
SUMMARY:Girls Night
DESCRIPTION:
URL:https://www.maritiemcollegeijmuiden.nl/event/girls-night/
END:VEVENT
BEGIN:VEVENT
DTSTART;VALUE=DATE:20230207
DTEND;VALUE=DATE:20230208
DTSTAMP:20260421T080559
CREATED:20220713T130747Z
LAST-MODIFIED:20220713T130747Z
UID:4723-1675728000-1675814399@www.maritiemcollegeijmuiden.nl
SUMMARY:Sportdag
DESCRIPTION:
URL:https://www.maritiemcollegeijmuiden.nl/event/sportdag-4/
END:VEVENT
BEGIN:VEVENT
DTSTART;TZID=Europe/Amsterdam:20230124T130000
DTEND;TZID=Europe/Amsterdam:20230124T170000
DTSTAMP:20260421T080559
CREATED:20220713T130713Z
LAST-MODIFIED:20220713T130713Z
UID:4721-1674565200-1674579600@www.maritiemcollegeijmuiden.nl
SUMMARY:Studiemiddag
DESCRIPTION:
URL:https://www.maritiemcollegeijmuiden.nl/event/studiemiddag-12/
END:VEVENT
BEGIN:VEVENT
DTSTART;TZID=Europe/Amsterdam:20230118T130000
DTEND;TZID=Europe/Amsterdam:20230118T140000
DTSTAMP:20260421T080559
CREATED:20220713T130649Z
LAST-MODIFIED:20220713T130649Z
UID:4719-1674046800-1674050400@www.maritiemcollegeijmuiden.nl
SUMMARY:Meidenmiddag TCV/MCIJ
DESCRIPTION:
URL:https://www.maritiemcollegeijmuiden.nl/event/meidenmiddag-tcv-mcij-2/
END:VEVENT
BEGIN:VEVENT
DTSTART;TZID=Europe/Amsterdam:20230111T130000
DTEND;TZID=Europe/Amsterdam:20230111T170000
DTSTAMP:20260421T080559
CREATED:20220713T130608Z
LAST-MODIFIED:20220713T130608Z
UID:4717-1673442000-1673456400@www.maritiemcollegeijmuiden.nl
SUMMARY:Debatwedstrijd leerjaar 2
DESCRIPTION:
URL:https://www.maritiemcollegeijmuiden.nl/event/debatwedstrijd-leerjaar-2/
END:VEVENT
BEGIN:VEVENT
DTSTART;VALUE=DATE:20221231
DTEND;VALUE=DATE:20230101
DTSTAMP:20260421T080559
CREATED:20210202T134949Z
LAST-MODIFIED:20210202T134949Z
UID:2822-1672444800-1672531199@www.maritiemcollegeijmuiden.nl
SUMMARY:Oudejaarsavond
DESCRIPTION:
URL:https://www.maritiemcollegeijmuiden.nl/event/oudejaarsavond-2/
END:VEVENT
BEGIN:VEVENT
DTSTART;VALUE=DATE:20221226
DTEND;VALUE=DATE:20221227
DTSTAMP:20260421T080559
CREATED:20210202T134948Z
LAST-MODIFIED:20210202T134948Z
UID:2820-1672012800-1672099199@www.maritiemcollegeijmuiden.nl
SUMMARY:Tweede Kerstdag
DESCRIPTION:
URL:https://www.maritiemcollegeijmuiden.nl/event/tweede-kerstdag-2/
END:VEVENT
BEGIN:VEVENT
DTSTART;VALUE=DATE:20221225
DTEND;VALUE=DATE:20221226
DTSTAMP:20260421T080559
CREATED:20210202T134949Z
LAST-MODIFIED:20210202T134949Z
UID:2821-1671926400-1672012799@www.maritiemcollegeijmuiden.nl
SUMMARY:Eerste Kerstdag
DESCRIPTION:
URL:https://www.maritiemcollegeijmuiden.nl/event/eerste-kerstdag-2/
END:VEVENT
BEGIN:VEVENT
DTSTART;VALUE=DATE:20221224
DTEND;VALUE=DATE:20230109
DTSTAMP:20260421T080559
CREATED:20220713T130239Z
LAST-MODIFIED:20220713T130239Z
UID:4715-1671840000-1673222399@www.maritiemcollegeijmuiden.nl
SUMMARY:Kerstvakantie
DESCRIPTION:
URL:https://www.maritiemcollegeijmuiden.nl/event/kerstvakantie-11/
END:VEVENT
BEGIN:VEVENT
DTSTART;VALUE=DATE:20221224
DTEND;VALUE=DATE:20221225
DTSTAMP:20260421T080559
CREATED:20210202T134948Z
LAST-MODIFIED:20210202T134948Z
UID:2819-1671840000-1671926399@www.maritiemcollegeijmuiden.nl
SUMMARY:Kerstavond
DESCRIPTION:
URL:https://www.maritiemcollegeijmuiden.nl/event/kerstavond-2/
END:VEVENT
BEGIN:VEVENT
DTSTART;TZID=Europe/Amsterdam:20221221T160000
DTEND;TZID=Europe/Amsterdam:20221221T200000
DTSTAMP:20260421T080559
CREATED:20220713T130156Z
LAST-MODIFIED:20220713T130156Z
UID:4713-1671638400-1671652800@www.maritiemcollegeijmuiden.nl
SUMMARY:Kerstmarkt
DESCRIPTION:
URL:https://www.maritiemcollegeijmuiden.nl/event/kerstmarkt/
END:VEVENT
BEGIN:VEVENT
DTSTART;TZID=Europe/Amsterdam:20221215T130000
DTEND;TZID=Europe/Amsterdam:20221215T170000
DTSTAMP:20260421T080559
CREATED:20220713T130115Z
LAST-MODIFIED:20220713T130118Z
UID:4711-1671109200-1671123600@www.maritiemcollegeijmuiden.nl
SUMMARY:Studiemiddag
DESCRIPTION:
URL:https://www.maritiemcollegeijmuiden.nl/event/studiemiddag-11/
END:VEVENT
BEGIN:VEVENT
DTSTART;VALUE=DATE:20221209
DTEND;VALUE=DATE:20221210
DTSTAMP:20260421T080559
CREATED:20220713T130038Z
LAST-MODIFIED:20220713T130038Z
UID:4709-1670544000-1670630399@www.maritiemcollegeijmuiden.nl
SUMMARY:Paarse vrijdag
DESCRIPTION:
URL:https://www.maritiemcollegeijmuiden.nl/event/paarse-vrijdag-2/
END:VEVENT
BEGIN:VEVENT
DTSTART;VALUE=DATE:20221205
DTEND;VALUE=DATE:20221206
DTSTAMP:20260421T080559
CREATED:20210202T134948Z
LAST-MODIFIED:20210202T134948Z
UID:2818-1670198400-1670284799@www.maritiemcollegeijmuiden.nl
SUMMARY:Sinterklaasavond
DESCRIPTION:
URL:https://www.maritiemcollegeijmuiden.nl/event/sinterklaasavond-2/
END:VEVENT
BEGIN:VEVENT
DTSTART;TZID=Europe/Amsterdam:20221130T143000
DTEND;TZID=Europe/Amsterdam:20221130T170000
DTSTAMP:20260421T080559
CREATED:20220713T125625Z
LAST-MODIFIED:20220713T125625Z
UID:4707-1669818600-1669827600@www.maritiemcollegeijmuiden.nl
SUMMARY:Doemiddag
DESCRIPTION:
URL:https://www.maritiemcollegeijmuiden.nl/event/doemiddag-4/
END:VEVENT
BEGIN:VEVENT
DTSTART;TZID=Europe/Amsterdam:20221126T100000
DTEND;TZID=Europe/Amsterdam:20221126T130000
DTSTAMP:20260421T080559
CREATED:20220713T125552Z
LAST-MODIFIED:20220713T125552Z
UID:4705-1669456800-1669467600@www.maritiemcollegeijmuiden.nl
SUMMARY:Open dag
DESCRIPTION:
URL:https://www.maritiemcollegeijmuiden.nl/event/open-dag-2/
END:VEVENT
BEGIN:VEVENT
DTSTART;TZID=Europe/Amsterdam:20221108T130000
DTEND;TZID=Europe/Amsterdam:20221108T170000
DTSTAMP:20260421T080559
CREATED:20220713T125236Z
LAST-MODIFIED:20220713T125516Z
UID:4703-1667912400-1667926800@www.maritiemcollegeijmuiden.nl
SUMMARY:Studiemiddag
DESCRIPTION:
URL:https://www.maritiemcollegeijmuiden.nl/event/studiemiddag-10/
END:VEVENT
BEGIN:VEVENT
DTSTART;TZID=Europe/Amsterdam:20221026T143000
DTEND;TZID=Europe/Amsterdam:20221026T170000
DTSTAMP:20260421T080559
CREATED:20220713T122446Z
LAST-MODIFIED:20220713T124746Z
UID:4698-1666794600-1666803600@www.maritiemcollegeijmuiden.nl
SUMMARY:Doemiddag
DESCRIPTION:
URL:https://www.maritiemcollegeijmuiden.nl/event/doemiddag-3/
END:VEVENT
BEGIN:VEVENT
DTSTART;VALUE=DATE:20221015
DTEND;VALUE=DATE:20221024
DTSTAMP:20260421T080559
CREATED:20220713T122417Z
LAST-MODIFIED:20220713T122417Z
UID:4696-1665792000-1666569599@www.maritiemcollegeijmuiden.nl
SUMMARY:Herfstvakantie
DESCRIPTION:
URL:https://www.maritiemcollegeijmuiden.nl/event/herfstvakantie-6/
END:VEVENT
BEGIN:VEVENT
DTSTART;TZID=Europe/Amsterdam:20221014T083000
DTEND;TZID=Europe/Amsterdam:20221014T170000
DTSTAMP:20260421T080559
CREATED:20220713T122349Z
LAST-MODIFIED:20220713T122349Z
UID:4694-1665736200-1665766800@www.maritiemcollegeijmuiden.nl
SUMMARY:Studiedag
DESCRIPTION:
URL:https://www.maritiemcollegeijmuiden.nl/event/studiedag-3/
END:VEVENT
BEGIN:VEVENT
DTSTART;TZID=Europe/Amsterdam:20221012T130000
DTEND;TZID=Europe/Amsterdam:20221012T140000
DTSTAMP:20260421T080559
CREATED:20220713T125041Z
LAST-MODIFIED:20220713T125041Z
UID:4701-1665579600-1665583200@www.maritiemcollegeijmuiden.nl
SUMMARY:Meidenmiddag TCV/MCIJ
DESCRIPTION:
URL:https://www.maritiemcollegeijmuiden.nl/event/meidenmiddag-tcv-mcij/
END:VEVENT
BEGIN:VEVENT
DTSTART;VALUE=DATE:20221005
DTEND;VALUE=DATE:20221006
DTSTAMP:20260421T080559
CREATED:20220713T122242Z
LAST-MODIFIED:20220713T122322Z
UID:4692-1664928000-1665014399@www.maritiemcollegeijmuiden.nl
SUMMARY:Tech your talent on tour\, Techport Technology Week\, leerjaar 1 en 2
DESCRIPTION:
URL:https://www.maritiemcollegeijmuiden.nl/event/tech-your-talent-on-tour-techport-technology-week-leerjaar-1-en-2/
END:VEVENT
BEGIN:VEVENT
DTSTART;VALUE=DATE:20221004
DTEND;VALUE=DATE:20221005
DTSTAMP:20260421T080559
CREATED:20220713T122155Z
LAST-MODIFIED:20220713T122155Z
UID:4690-1664841600-1664927999@www.maritiemcollegeijmuiden.nl
SUMMARY:Smart Technology Day\, Techport Technology week\, leerjaar 3 en 4
DESCRIPTION:
URL:https://www.maritiemcollegeijmuiden.nl/event/smart-technology-day-techport-technology-week-leerjaar-3-en-4/
END:VEVENT
BEGIN:VEVENT
DTSTART;TZID=Europe/Amsterdam:20220920T190000
DTEND;TZID=Europe/Amsterdam:20220920T210000
DTSTAMP:20260421T080559
CREATED:20220713T121915Z
LAST-MODIFIED:20220713T122052Z
UID:4688-1663700400-1663707600@www.maritiemcollegeijmuiden.nl
SUMMARY:Informatieavond leerjaar 1\, 2\, 3 en 4
DESCRIPTION:
URL:https://www.maritiemcollegeijmuiden.nl/event/informatieavond-leerjaar-1-2-3-en-4/
END:VEVENT
BEGIN:VEVENT
DTSTART;VALUE=DATE:20220920
DTEND;VALUE=DATE:20220921
DTSTAMP:20260421T080559
CREATED:20220713T121833Z
LAST-MODIFIED:20220713T121833Z
UID:4686-1663632000-1663718399@www.maritiemcollegeijmuiden.nl
SUMMARY:Sportdag
DESCRIPTION:
URL:https://www.maritiemcollegeijmuiden.nl/event/sportdag-3/
END:VEVENT
BEGIN:VEVENT
DTSTART;TZID=Europe/Amsterdam:20220914T130000
DTEND;TZID=Europe/Amsterdam:20220914T170000
DTSTAMP:20260421T080559
CREATED:20220713T121703Z
LAST-MODIFIED:20220713T121754Z
UID:4684-1663160400-1663174800@www.maritiemcollegeijmuiden.nl
SUMMARY:Studiemiddag
DESCRIPTION:
URL:https://www.maritiemcollegeijmuiden.nl/event/studiemiddag-9/
END:VEVENT
BEGIN:VEVENT
DTSTART;VALUE=DATE:20220913
DTEND;VALUE=DATE:20220914
DTSTAMP:20260421T080559
CREATED:20220713T121625Z
LAST-MODIFIED:20220713T121630Z
UID:4682-1663027200-1663113599@www.maritiemcollegeijmuiden.nl
SUMMARY:Schoolfotograaf
DESCRIPTION:
URL:https://www.maritiemcollegeijmuiden.nl/event/schoolfotograaf-2/
END:VEVENT
BEGIN:VEVENT
DTSTART;VALUE=DATE:20220830
DTEND;VALUE=DATE:20220831
DTSTAMP:20260421T080559
CREATED:20220713T121336Z
LAST-MODIFIED:20220713T121336Z
UID:4678-1661817600-1661903999@www.maritiemcollegeijmuiden.nl
SUMMARY:Leerjaar 4 start lessen
DESCRIPTION:
URL:https://www.maritiemcollegeijmuiden.nl/event/leerjaar-4-start-lessen/
END:VEVENT
BEGIN:VEVENT
DTSTART;VALUE=DATE:20220829
DTEND;VALUE=DATE:20220903
DTSTAMP:20260421T080559
CREATED:20220713T121426Z
LAST-MODIFIED:20220713T145104Z
UID:4680-1661731200-1662163199@www.maritiemcollegeijmuiden.nl
SUMMARY:Introductieprogramma leerjaar 1\, 2 en 3
DESCRIPTION:
URL:https://www.maritiemcollegeijmuiden.nl/event/introductieprogramma-leerjaar-1-2-en-3/
END:VEVENT
END:VCALENDAR