BEGIN:VCALENDAR
VERSION:2.0
PRODID:-//Maritiem College IJmuiden - ECPv6.15.20//NONSGML v1.0//EN
CALSCALE:GREGORIAN
METHOD:PUBLISH
X-WR-CALNAME:Maritiem College IJmuiden
X-ORIGINAL-URL:https://www.maritiemcollegeijmuiden.nl
X-WR-CALDESC:Evenementen voor Maritiem College IJmuiden
REFRESH-INTERVAL;VALUE=DURATION:PT1H
X-Robots-Tag:noindex
X-PUBLISHED-TTL:PT1H
BEGIN:VTIMEZONE
TZID:UTC
BEGIN:STANDARD
TZOFFSETFROM:+0000
TZOFFSETTO:+0000
TZNAME:UTC
DTSTART:20200101T000000
END:STANDARD
END:VTIMEZONE
BEGIN:VEVENT
DTSTART;TZID=UTC:20210929T130000
DTEND;TZID=UTC:20210929T143000
DTSTAMP:20260423T003833
CREATED:20210712T112151Z
LAST-MODIFIED:20210712T112151Z
UID:3522-1632920400-1632925800@www.maritiemcollegeijmuiden.nl
SUMMARY:Meidenmiddag
DESCRIPTION:
URL:https://www.maritiemcollegeijmuiden.nl/event/meidenmiddag/
END:VEVENT
BEGIN:VEVENT
DTSTART;VALUE=DATE:20210927
DTEND;VALUE=DATE:20210928
DTSTAMP:20260423T003833
CREATED:20210712T112101Z
LAST-MODIFIED:20210712T112101Z
UID:3520-1632700800-1632787199@www.maritiemcollegeijmuiden.nl
SUMMARY:Start week tegen het pesten
DESCRIPTION:
URL:https://www.maritiemcollegeijmuiden.nl/event/start-week-tegen-het-pesten/
END:VEVENT
BEGIN:VEVENT
DTSTART;TZID=UTC:20210914T180000
DTEND;TZID=UTC:20210914T210000
DTSTAMP:20260423T003833
CREATED:20210712T111955Z
LAST-MODIFIED:20210906T101824Z
UID:3518-1631642400-1631653200@www.maritiemcollegeijmuiden.nl
SUMMARY:Informatieavond LJ 1-2-3-4
DESCRIPTION:
URL:https://www.maritiemcollegeijmuiden.nl/event/informatieavond-lj-1-2-3-4/
END:VEVENT
BEGIN:VEVENT
DTSTART;TZID=UTC:20210908T130000
DTEND;TZID=UTC:20210908T170000
DTSTAMP:20260423T003833
CREATED:20210713T055428Z
LAST-MODIFIED:20210713T055545Z
UID:3528-1631106000-1631120400@www.maritiemcollegeijmuiden.nl
SUMMARY:Studiemiddag
DESCRIPTION:
URL:https://www.maritiemcollegeijmuiden.nl/event/studiemiddag/
END:VEVENT
BEGIN:VEVENT
DTSTART;VALUE=DATE:20210907
DTEND;VALUE=DATE:20210908
DTSTAMP:20260423T003833
CREATED:20210712T111853Z
LAST-MODIFIED:20210712T111853Z
UID:3516-1630972800-1631059199@www.maritiemcollegeijmuiden.nl
SUMMARY:Sportdag (1)
DESCRIPTION:
URL:https://www.maritiemcollegeijmuiden.nl/event/sportdag-1/
END:VEVENT
BEGIN:VEVENT
DTSTART;TZID=UTC:20210824T080000
DTEND;TZID=UTC:20210824T170000
DTSTAMP:20260423T003833
CREATED:20210712T110339Z
LAST-MODIFIED:20210820T095116Z
UID:3507-1629792000-1629824400@www.maritiemcollegeijmuiden.nl
SUMMARY:Introductieprogramma leerjaar 1 en 2
DESCRIPTION:
URL:https://www.maritiemcollegeijmuiden.nl/event/introductieweek/
END:VEVENT
BEGIN:VEVENT
DTSTART;TZID=UTC:20210824T080000
DTEND;TZID=UTC:20210824T170000
DTSTAMP:20260423T003833
CREATED:20210712T110113Z
LAST-MODIFIED:20210712T110113Z
UID:3505-1629792000-1629824400@www.maritiemcollegeijmuiden.nl
SUMMARY:Schoolfotograaf
DESCRIPTION:
URL:https://www.maritiemcollegeijmuiden.nl/event/schoolfotograaf/
END:VEVENT
BEGIN:VEVENT
DTSTART;TZID=UTC:20210823T080000
DTEND;TZID=UTC:20210823T170000
DTSTAMP:20260423T003833
CREATED:20210712T105839Z
LAST-MODIFIED:20210820T094535Z
UID:3503-1629705600-1629738000@www.maritiemcollegeijmuiden.nl
SUMMARY:Start schooljaar 2021-2022
DESCRIPTION:
URL:https://www.maritiemcollegeijmuiden.nl/event/start-schooljaar-2021-2022/
END:VEVENT
BEGIN:VEVENT
DTSTART;VALUE=DATE:20210820
DTEND;VALUE=DATE:20210821
DTSTAMP:20260423T003833
CREATED:20210308T142453Z
LAST-MODIFIED:20210308T142453Z
UID:3180-1629417600-1629503999@www.maritiemcollegeijmuiden.nl
SUMMARY:Zomervakantie
DESCRIPTION:
URL:https://www.maritiemcollegeijmuiden.nl/event/zomervakantie-30/
END:VEVENT
BEGIN:VEVENT
DTSTART;VALUE=DATE:20210819
DTEND;VALUE=DATE:20210820
DTSTAMP:20260423T003833
CREATED:20210308T142428Z
LAST-MODIFIED:20210308T142428Z
UID:3178-1629331200-1629417599@www.maritiemcollegeijmuiden.nl
SUMMARY:Zomervakantie
DESCRIPTION:
URL:https://www.maritiemcollegeijmuiden.nl/event/zomervakantie-29/
END:VEVENT
BEGIN:VEVENT
DTSTART;VALUE=DATE:20210818
DTEND;VALUE=DATE:20210819
DTSTAMP:20260423T003833
CREATED:20210308T142411Z
LAST-MODIFIED:20210308T142411Z
UID:3176-1629244800-1629331199@www.maritiemcollegeijmuiden.nl
SUMMARY:Zomervakantie
DESCRIPTION:
URL:https://www.maritiemcollegeijmuiden.nl/event/zomervakantie-28/
END:VEVENT
BEGIN:VEVENT
DTSTART;VALUE=DATE:20210817
DTEND;VALUE=DATE:20210818
DTSTAMP:20260423T003833
CREATED:20210308T142351Z
LAST-MODIFIED:20210308T142351Z
UID:3174-1629158400-1629244799@www.maritiemcollegeijmuiden.nl
SUMMARY:Zomervakantie
DESCRIPTION:
URL:https://www.maritiemcollegeijmuiden.nl/event/zomervakantie-27/
END:VEVENT
BEGIN:VEVENT
DTSTART;VALUE=DATE:20210816
DTEND;VALUE=DATE:20210817
DTSTAMP:20260423T003833
CREATED:20210308T142333Z
LAST-MODIFIED:20210308T142333Z
UID:3172-1629072000-1629158399@www.maritiemcollegeijmuiden.nl
SUMMARY:Zomervakantie
DESCRIPTION:
URL:https://www.maritiemcollegeijmuiden.nl/event/zomervakantie-26/
END:VEVENT
BEGIN:VEVENT
DTSTART;VALUE=DATE:20210813
DTEND;VALUE=DATE:20210814
DTSTAMP:20260423T003833
CREATED:20210308T142310Z
LAST-MODIFIED:20210308T142310Z
UID:3170-1628812800-1628899199@www.maritiemcollegeijmuiden.nl
SUMMARY:Zomervakantie
DESCRIPTION:
URL:https://www.maritiemcollegeijmuiden.nl/event/zomervakantie-25/
END:VEVENT
BEGIN:VEVENT
DTSTART;VALUE=DATE:20210812
DTEND;VALUE=DATE:20210813
DTSTAMP:20260423T003833
CREATED:20210308T142248Z
LAST-MODIFIED:20210308T142248Z
UID:3168-1628726400-1628812799@www.maritiemcollegeijmuiden.nl
SUMMARY:Zomervakantie
DESCRIPTION:
URL:https://www.maritiemcollegeijmuiden.nl/event/zomervakantie-24/
END:VEVENT
BEGIN:VEVENT
DTSTART;VALUE=DATE:20210811
DTEND;VALUE=DATE:20210812
DTSTAMP:20260423T003833
CREATED:20210308T142227Z
LAST-MODIFIED:20210308T142227Z
UID:3166-1628640000-1628726399@www.maritiemcollegeijmuiden.nl
SUMMARY:Zomervakantie
DESCRIPTION:
URL:https://www.maritiemcollegeijmuiden.nl/event/zomervakantie-23/
END:VEVENT
BEGIN:VEVENT
DTSTART;VALUE=DATE:20210810
DTEND;VALUE=DATE:20210811
DTSTAMP:20260423T003833
CREATED:20210308T142209Z
LAST-MODIFIED:20210308T142209Z
UID:3164-1628553600-1628639999@www.maritiemcollegeijmuiden.nl
SUMMARY:Zomervakantie
DESCRIPTION:
URL:https://www.maritiemcollegeijmuiden.nl/event/zomervakantie-22/
END:VEVENT
BEGIN:VEVENT
DTSTART;VALUE=DATE:20210809
DTEND;VALUE=DATE:20210810
DTSTAMP:20260423T003833
CREATED:20210308T141952Z
LAST-MODIFIED:20210308T141952Z
UID:3158-1628467200-1628553599@www.maritiemcollegeijmuiden.nl
SUMMARY:Zomervakantie
DESCRIPTION:
URL:https://www.maritiemcollegeijmuiden.nl/event/zomervakantie-19/
END:VEVENT
BEGIN:VEVENT
DTSTART;VALUE=DATE:20210806
DTEND;VALUE=DATE:20210807
DTSTAMP:20260423T003833
CREATED:20210308T142059Z
LAST-MODIFIED:20210308T142059Z
UID:3162-1628208000-1628294399@www.maritiemcollegeijmuiden.nl
SUMMARY:Zomervakantie
DESCRIPTION:
URL:https://www.maritiemcollegeijmuiden.nl/event/zomervakantie-21/
END:VEVENT
BEGIN:VEVENT
DTSTART;VALUE=DATE:20210805
DTEND;VALUE=DATE:20210806
DTSTAMP:20260423T003833
CREATED:20210308T141918Z
LAST-MODIFIED:20210308T141929Z
UID:3156-1628121600-1628207999@www.maritiemcollegeijmuiden.nl
SUMMARY:Zomervakantie
DESCRIPTION:
URL:https://www.maritiemcollegeijmuiden.nl/event/zomervakantie-18/
END:VEVENT
BEGIN:VEVENT
DTSTART;VALUE=DATE:20210804
DTEND;VALUE=DATE:20210805
DTSTAMP:20260423T003833
CREATED:20210308T141859Z
LAST-MODIFIED:20210308T141859Z
UID:3154-1628035200-1628121599@www.maritiemcollegeijmuiden.nl
SUMMARY:Zomervakantie
DESCRIPTION:
URL:https://www.maritiemcollegeijmuiden.nl/event/zomervakantie-17/
END:VEVENT
BEGIN:VEVENT
DTSTART;VALUE=DATE:20210803
DTEND;VALUE=DATE:20210804
DTSTAMP:20260423T003833
CREATED:20210308T141839Z
LAST-MODIFIED:20210308T141839Z
UID:3152-1627948800-1628035199@www.maritiemcollegeijmuiden.nl
SUMMARY:Zomervakantie
DESCRIPTION:
URL:https://www.maritiemcollegeijmuiden.nl/event/zomervakantie-16/
END:VEVENT
BEGIN:VEVENT
DTSTART;VALUE=DATE:20210802
DTEND;VALUE=DATE:20210803
DTSTAMP:20260423T003833
CREATED:20210308T141818Z
LAST-MODIFIED:20210308T141818Z
UID:3150-1627862400-1627948799@www.maritiemcollegeijmuiden.nl
SUMMARY:Zomervakantie
DESCRIPTION:
URL:https://www.maritiemcollegeijmuiden.nl/event/zomervakantie-15/
END:VEVENT
BEGIN:VEVENT
DTSTART;VALUE=DATE:20210730
DTEND;VALUE=DATE:20210731
DTSTAMP:20260423T003833
CREATED:20210308T141759Z
LAST-MODIFIED:20210308T141759Z
UID:3148-1627603200-1627689599@www.maritiemcollegeijmuiden.nl
SUMMARY:Zomervakantie
DESCRIPTION:
URL:https://www.maritiemcollegeijmuiden.nl/event/zomervakantie-14/
END:VEVENT
BEGIN:VEVENT
DTSTART;VALUE=DATE:20210729
DTEND;VALUE=DATE:20210730
DTSTAMP:20260423T003833
CREATED:20210308T141740Z
LAST-MODIFIED:20210308T141740Z
UID:3146-1627516800-1627603199@www.maritiemcollegeijmuiden.nl
SUMMARY:Zomervakantie
DESCRIPTION:
URL:https://www.maritiemcollegeijmuiden.nl/event/zomervakantie-13/
END:VEVENT
BEGIN:VEVENT
DTSTART;VALUE=DATE:20210728
DTEND;VALUE=DATE:20210729
DTSTAMP:20260423T003833
CREATED:20210308T141716Z
LAST-MODIFIED:20210308T141716Z
UID:3144-1627430400-1627516799@www.maritiemcollegeijmuiden.nl
SUMMARY:Zomervakantie
DESCRIPTION:
URL:https://www.maritiemcollegeijmuiden.nl/event/zomervakantie-12/
END:VEVENT
BEGIN:VEVENT
DTSTART;VALUE=DATE:20210727
DTEND;VALUE=DATE:20210728
DTSTAMP:20260423T003833
CREATED:20210308T142033Z
LAST-MODIFIED:20210308T142039Z
UID:3160-1627344000-1627430399@www.maritiemcollegeijmuiden.nl
SUMMARY:Zomervakantie
DESCRIPTION:
URL:https://www.maritiemcollegeijmuiden.nl/event/zomervakantie-20/
END:VEVENT
BEGIN:VEVENT
DTSTART;VALUE=DATE:20210726
DTEND;VALUE=DATE:20210727
DTSTAMP:20260423T003833
CREATED:20210308T141657Z
LAST-MODIFIED:20210308T141657Z
UID:3142-1627257600-1627343999@www.maritiemcollegeijmuiden.nl
SUMMARY:Zomervakantie
DESCRIPTION:
URL:https://www.maritiemcollegeijmuiden.nl/event/zomervakantie-9/
END:VEVENT
BEGIN:VEVENT
DTSTART;VALUE=DATE:20210723
DTEND;VALUE=DATE:20210724
DTSTAMP:20260423T003833
CREATED:20210308T141552Z
LAST-MODIFIED:20210308T141552Z
UID:3140-1626998400-1627084799@www.maritiemcollegeijmuiden.nl
SUMMARY:Zomervakantie
DESCRIPTION:
URL:https://www.maritiemcollegeijmuiden.nl/event/zomervakantie-11/
END:VEVENT
BEGIN:VEVENT
DTSTART;VALUE=DATE:20210722
DTEND;VALUE=DATE:20210723
DTSTAMP:20260423T003833
CREATED:20210308T141533Z
LAST-MODIFIED:20210308T141533Z
UID:3138-1626912000-1626998399@www.maritiemcollegeijmuiden.nl
SUMMARY:Zomervakantie
DESCRIPTION:
URL:https://www.maritiemcollegeijmuiden.nl/event/zomervakantie-10/
END:VEVENT
END:VCALENDAR