BEGIN:VCALENDAR
VERSION:2.0
PRODID:-//Maritiem College IJmuiden - ECPv6.15.20//NONSGML v1.0//EN
CALSCALE:GREGORIAN
METHOD:PUBLISH
X-WR-CALNAME:Maritiem College IJmuiden
X-ORIGINAL-URL:https://www.maritiemcollegeijmuiden.nl
X-WR-CALDESC:Evenementen voor Maritiem College IJmuiden
REFRESH-INTERVAL;VALUE=DURATION:PT1H
X-Robots-Tag:noindex
X-PUBLISHED-TTL:PT1H
BEGIN:VTIMEZONE
TZID:Europe/Amsterdam
BEGIN:DAYLIGHT
TZOFFSETFROM:+0100
TZOFFSETTO:+0200
TZNAME:CEST
DTSTART:20200329T010000
END:DAYLIGHT
BEGIN:STANDARD
TZOFFSETFROM:+0200
TZOFFSETTO:+0100
TZNAME:CET
DTSTART:20201025T010000
END:STANDARD
BEGIN:DAYLIGHT
TZOFFSETFROM:+0100
TZOFFSETTO:+0200
TZNAME:CEST
DTSTART:20210328T010000
END:DAYLIGHT
BEGIN:STANDARD
TZOFFSETFROM:+0200
TZOFFSETTO:+0100
TZNAME:CET
DTSTART:20211031T010000
END:STANDARD
BEGIN:DAYLIGHT
TZOFFSETFROM:+0100
TZOFFSETTO:+0200
TZNAME:CEST
DTSTART:20220327T010000
END:DAYLIGHT
BEGIN:STANDARD
TZOFFSETFROM:+0200
TZOFFSETTO:+0100
TZNAME:CET
DTSTART:20221030T010000
END:STANDARD
BEGIN:DAYLIGHT
TZOFFSETFROM:+0100
TZOFFSETTO:+0200
TZNAME:CEST
DTSTART:20230326T010000
END:DAYLIGHT
BEGIN:STANDARD
TZOFFSETFROM:+0200
TZOFFSETTO:+0100
TZNAME:CET
DTSTART:20231029T010000
END:STANDARD
END:VTIMEZONE
BEGIN:VTIMEZONE
TZID:UTC
BEGIN:STANDARD
TZOFFSETFROM:+0000
TZOFFSETTO:+0000
TZNAME:UTC
DTSTART:20200101T000000
END:STANDARD
END:VTIMEZONE
BEGIN:VEVENT
DTSTART;VALUE=DATE:20220505
DTEND;VALUE=DATE:20220506
DTSTAMP:20260423T010432
CREATED:20210202T134948Z
LAST-MODIFIED:20210202T134948Z
UID:2814-1651708800-1651795199@www.maritiemcollegeijmuiden.nl
SUMMARY:Bevrijdingsdag
DESCRIPTION:
URL:https://www.maritiemcollegeijmuiden.nl/event/bevrijdingsdag-2/
END:VEVENT
BEGIN:VEVENT
DTSTART;VALUE=DATE:20220427
DTEND;VALUE=DATE:20220428
DTSTAMP:20260423T010432
CREATED:20210202T134948Z
LAST-MODIFIED:20210202T134948Z
UID:2813-1651017600-1651103999@www.maritiemcollegeijmuiden.nl
SUMMARY:Koningsdag
DESCRIPTION:
URL:https://www.maritiemcollegeijmuiden.nl/event/koningsdag-2/
END:VEVENT
BEGIN:VEVENT
DTSTART;VALUE=DATE:20220425
DTEND;VALUE=DATE:20220507
DTSTAMP:20260423T010432
CREATED:20210713T070419Z
LAST-MODIFIED:20210713T070451Z
UID:3588-1650844800-1651881599@www.maritiemcollegeijmuiden.nl
SUMMARY:Meivakantie
DESCRIPTION:
URL:https://www.maritiemcollegeijmuiden.nl/event/meivakantie-11/
END:VEVENT
BEGIN:VEVENT
DTSTART;TZID=UTC:20220421T130000
DTEND;TZID=UTC:20220421T170000
DTSTAMP:20260423T010432
CREATED:20210713T070313Z
LAST-MODIFIED:20210713T070322Z
UID:3586-1650546000-1650560400@www.maritiemcollegeijmuiden.nl
SUMMARY:Studiemiddag
DESCRIPTION:
URL:https://www.maritiemcollegeijmuiden.nl/event/studiemiddag-7/
END:VEVENT
BEGIN:VEVENT
DTSTART;VALUE=DATE:20220418
DTEND;VALUE=DATE:20220419
DTSTAMP:20260423T010432
CREATED:20210713T070234Z
LAST-MODIFIED:20210713T070234Z
UID:3584-1650240000-1650326399@www.maritiemcollegeijmuiden.nl
SUMMARY:Pasen
DESCRIPTION:
URL:https://www.maritiemcollegeijmuiden.nl/event/pasen/
END:VEVENT
BEGIN:VEVENT
DTSTART;VALUE=DATE:20220418
DTEND;VALUE=DATE:20220419
DTSTAMP:20260423T010432
CREATED:20210202T134947Z
LAST-MODIFIED:20210202T134947Z
UID:2812-1650240000-1650326399@www.maritiemcollegeijmuiden.nl
SUMMARY:Tweede Paasdag
DESCRIPTION:
URL:https://www.maritiemcollegeijmuiden.nl/event/tweede-paasdag-2/
END:VEVENT
BEGIN:VEVENT
DTSTART;VALUE=DATE:20220417
DTEND;VALUE=DATE:20220418
DTSTAMP:20260423T010432
CREATED:20210202T134947Z
LAST-MODIFIED:20210202T134947Z
UID:2811-1650153600-1650239999@www.maritiemcollegeijmuiden.nl
SUMMARY:Eerste Paasdag
DESCRIPTION:
URL:https://www.maritiemcollegeijmuiden.nl/event/eerste-paasdag-2/
END:VEVENT
BEGIN:VEVENT
DTSTART;TZID=UTC:20220413T123000
DTEND;TZID=UTC:20220413T143000
DTSTAMP:20260423T010432
CREATED:20210713T070110Z
LAST-MODIFIED:20210713T070204Z
UID:3582-1649853000-1649860200@www.maritiemcollegeijmuiden.nl
SUMMARY:Meidenmiddag
DESCRIPTION:
URL:https://www.maritiemcollegeijmuiden.nl/event/meidenmiddag-4/
END:VEVENT
BEGIN:VEVENT
DTSTART;TZID=UTC:20220323T130000
DTEND;TZID=UTC:20220323T170000
DTSTAMP:20260423T010432
CREATED:20210713T070020Z
LAST-MODIFIED:20210713T070020Z
UID:3580-1648040400-1648054800@www.maritiemcollegeijmuiden.nl
SUMMARY:Studiemiddag
DESCRIPTION:
URL:https://www.maritiemcollegeijmuiden.nl/event/studiemiddag-6/
END:VEVENT
BEGIN:VEVENT
DTSTART;VALUE=DATE:20220221
DTEND;VALUE=DATE:20220226
DTSTAMP:20260423T010432
CREATED:20210713T065933Z
LAST-MODIFIED:20210713T065933Z
UID:3578-1645401600-1645833599@www.maritiemcollegeijmuiden.nl
SUMMARY:Voorjaarsvakantie
DESCRIPTION:
URL:https://www.maritiemcollegeijmuiden.nl/event/voorjaarsvakantie/
END:VEVENT
BEGIN:VEVENT
DTSTART;TZID=Europe/Amsterdam:20220216T143000
DTEND;TZID=Europe/Amsterdam:20220216T170000
DTSTAMP:20260423T010432
CREATED:20220126T111349Z
LAST-MODIFIED:20220126T111349Z
UID:4287-1645021800-1645030800@www.maritiemcollegeijmuiden.nl
SUMMARY:Doemiddag
DESCRIPTION:
URL:https://www.maritiemcollegeijmuiden.nl/event/doemiddag/
END:VEVENT
BEGIN:VEVENT
DTSTART;VALUE=DATE:20220214
DTEND;VALUE=DATE:20220219
DTSTAMP:20260423T010432
CREATED:20210713T065829Z
LAST-MODIFIED:20210713T065829Z
UID:3576-1644796800-1645228799@www.maritiemcollegeijmuiden.nl
SUMMARY:Portfolioweek
DESCRIPTION:
URL:https://www.maritiemcollegeijmuiden.nl/event/portfolioweek/
END:VEVENT
BEGIN:VEVENT
DTSTART;TZID=UTC:20220211T130000
DTEND;TZID=UTC:20220211T170000
DTSTAMP:20260423T010432
CREATED:20210713T065740Z
LAST-MODIFIED:20210713T065740Z
UID:3574-1644584400-1644598800@www.maritiemcollegeijmuiden.nl
SUMMARY:Studiemiddag
DESCRIPTION:
URL:https://www.maritiemcollegeijmuiden.nl/event/studiemiddag-5/
END:VEVENT
BEGIN:VEVENT
DTSTART;VALUE=DATE:20220208
DTEND;VALUE=DATE:20220209
DTSTAMP:20260423T010432
CREATED:20210713T065706Z
LAST-MODIFIED:20210713T065706Z
UID:3572-1644278400-1644364799@www.maritiemcollegeijmuiden.nl
SUMMARY:Sportdag
DESCRIPTION:
URL:https://www.maritiemcollegeijmuiden.nl/event/sportdag/
END:VEVENT
BEGIN:VEVENT
DTSTART;TZID=UTC:20220204T190000
DTEND;TZID=UTC:20220204T203000
DTSTAMP:20260423T010432
CREATED:20210713T065619Z
LAST-MODIFIED:20220126T111426Z
UID:3570-1644001200-1644006600@www.maritiemcollegeijmuiden.nl
SUMMARY:Open avond - online
DESCRIPTION:
URL:https://www.maritiemcollegeijmuiden.nl/event/open-avond/
END:VEVENT
BEGIN:VEVENT
DTSTART;TZID=UTC:20220201T183000
DTEND;TZID=UTC:20220201T210000
DTSTAMP:20260423T010432
CREATED:20210713T065423Z
LAST-MODIFIED:20220126T111728Z
UID:3568-1643740200-1643749200@www.maritiemcollegeijmuiden.nl
SUMMARY:Girlsnight - geannuleerd -> Doemiddag 16 februari
DESCRIPTION:
URL:https://www.maritiemcollegeijmuiden.nl/event/girlsnight/
END:VEVENT
BEGIN:VEVENT
DTSTART;TZID=UTC:20220126T143000
DTEND;TZID=UTC:20220126T170000
DTSTAMP:20260423T010432
CREATED:20210713T065237Z
LAST-MODIFIED:20220126T111310Z
UID:3566-1643207400-1643216400@www.maritiemcollegeijmuiden.nl
SUMMARY:Doemiddag ->verplaatst naar 16 februari!
DESCRIPTION:
URL:https://www.maritiemcollegeijmuiden.nl/event/doemiddag-2/
END:VEVENT
BEGIN:VEVENT
DTSTART;TZID=UTC:20220125T130000
DTEND;TZID=UTC:20220125T170000
DTSTAMP:20260423T010432
CREATED:20210713T065205Z
LAST-MODIFIED:20210713T065205Z
UID:3564-1643115600-1643130000@www.maritiemcollegeijmuiden.nl
SUMMARY:Studiemiddag
DESCRIPTION:
URL:https://www.maritiemcollegeijmuiden.nl/event/studiemiddag-4/
END:VEVENT
BEGIN:VEVENT
DTSTART;TZID=UTC:20220119T130000
DTEND;TZID=UTC:20220119T143000
DTSTAMP:20260423T010432
CREATED:20210713T065119Z
LAST-MODIFIED:20210713T065119Z
UID:3562-1642597200-1642602600@www.maritiemcollegeijmuiden.nl
SUMMARY:Meidenmiddag
DESCRIPTION:
URL:https://www.maritiemcollegeijmuiden.nl/event/meidenmiddag-3/
END:VEVENT
BEGIN:VEVENT
DTSTART;VALUE=DATE:20220107
DTEND;VALUE=DATE:20220108
DTSTAMP:20260423T010432
CREATED:20210308T143207Z
LAST-MODIFIED:20210308T143207Z
UID:3208-1641513600-1641599999@www.maritiemcollegeijmuiden.nl
SUMMARY:Kerstvakantie
DESCRIPTION:
URL:https://www.maritiemcollegeijmuiden.nl/event/kerstvakantie-9/
END:VEVENT
BEGIN:VEVENT
DTSTART;VALUE=DATE:20220106
DTEND;VALUE=DATE:20220107
DTSTAMP:20260423T010432
CREATED:20210308T143142Z
LAST-MODIFIED:20210308T143142Z
UID:3206-1641427200-1641513599@www.maritiemcollegeijmuiden.nl
SUMMARY:Kerstvakantie
DESCRIPTION:
URL:https://www.maritiemcollegeijmuiden.nl/event/kerstvakantie-8/
END:VEVENT
BEGIN:VEVENT
DTSTART;VALUE=DATE:20220105
DTEND;VALUE=DATE:20220106
DTSTAMP:20260423T010432
CREATED:20210308T143118Z
LAST-MODIFIED:20210308T143118Z
UID:3204-1641340800-1641427199@www.maritiemcollegeijmuiden.nl
SUMMARY:Kerstvakantie
DESCRIPTION:
URL:https://www.maritiemcollegeijmuiden.nl/event/kerstvakantie-7/
END:VEVENT
BEGIN:VEVENT
DTSTART;VALUE=DATE:20220104
DTEND;VALUE=DATE:20220105
DTSTAMP:20260423T010432
CREATED:20210308T143253Z
LAST-MODIFIED:20210308T143253Z
UID:3210-1641254400-1641340799@www.maritiemcollegeijmuiden.nl
SUMMARY:Kerstvakantie
DESCRIPTION:
URL:https://www.maritiemcollegeijmuiden.nl/event/kerstvakantie-10/
END:VEVENT
BEGIN:VEVENT
DTSTART;VALUE=DATE:20220103
DTEND;VALUE=DATE:20220104
DTSTAMP:20260423T010432
CREATED:20210308T143052Z
LAST-MODIFIED:20210308T143052Z
UID:3202-1641168000-1641254399@www.maritiemcollegeijmuiden.nl
SUMMARY:Kerstvakantie
DESCRIPTION:
URL:https://www.maritiemcollegeijmuiden.nl/event/kerstvakantie-6/
END:VEVENT
BEGIN:VEVENT
DTSTART;VALUE=DATE:20220101
DTEND;VALUE=DATE:20220102
DTSTAMP:20260423T010432
CREATED:20210202T134947Z
LAST-MODIFIED:20210202T134947Z
UID:2807-1640995200-1641081599@www.maritiemcollegeijmuiden.nl
SUMMARY:Nieuwjaarsdag
DESCRIPTION:
URL:https://www.maritiemcollegeijmuiden.nl/event/nieuwjaarsdag/
END:VEVENT
BEGIN:VEVENT
DTSTART;VALUE=DATE:20211231
DTEND;VALUE=DATE:20220101
DTSTAMP:20260423T010432
CREATED:20210308T143034Z
LAST-MODIFIED:20210308T143034Z
UID:3200-1640908800-1640995199@www.maritiemcollegeijmuiden.nl
SUMMARY:Kerstvakantie
DESCRIPTION:
URL:https://www.maritiemcollegeijmuiden.nl/event/kerstvakantie-5/
END:VEVENT
BEGIN:VEVENT
DTSTART;VALUE=DATE:20211231
DTEND;VALUE=DATE:20220101
DTSTAMP:20260423T010432
CREATED:20210202T134947Z
LAST-MODIFIED:20210202T134947Z
UID:2808-1640908800-1640995199@www.maritiemcollegeijmuiden.nl
SUMMARY:Oudejaarsavond
DESCRIPTION:
URL:https://www.maritiemcollegeijmuiden.nl/event/oudejaarsavond/
END:VEVENT
BEGIN:VEVENT
DTSTART;VALUE=DATE:20211230
DTEND;VALUE=DATE:20211231
DTSTAMP:20260423T010432
CREATED:20210308T143013Z
LAST-MODIFIED:20210308T143013Z
UID:3198-1640822400-1640908799@www.maritiemcollegeijmuiden.nl
SUMMARY:Kerstvakantie
DESCRIPTION:
URL:https://www.maritiemcollegeijmuiden.nl/event/kerstvakantie-4/
END:VEVENT
BEGIN:VEVENT
DTSTART;VALUE=DATE:20211229
DTEND;VALUE=DATE:20211230
DTSTAMP:20260423T010432
CREATED:20210308T142953Z
LAST-MODIFIED:20210308T142953Z
UID:3196-1640736000-1640822399@www.maritiemcollegeijmuiden.nl
SUMMARY:Kerstvakantie
DESCRIPTION:
URL:https://www.maritiemcollegeijmuiden.nl/event/kerstvakantie-3/
END:VEVENT
BEGIN:VEVENT
DTSTART;VALUE=DATE:20211228
DTEND;VALUE=DATE:20211229
DTSTAMP:20260423T010432
CREATED:20210308T142930Z
LAST-MODIFIED:20210308T142930Z
UID:3194-1640649600-1640735999@www.maritiemcollegeijmuiden.nl
SUMMARY:Kerstvakantie
DESCRIPTION:
URL:https://www.maritiemcollegeijmuiden.nl/event/kerstvakantie-2/
END:VEVENT
END:VCALENDAR