BEGIN:VCALENDAR
VERSION:2.0
PRODID:-//Maritiem College IJmuiden - ECPv6.15.20//NONSGML v1.0//EN
CALSCALE:GREGORIAN
METHOD:PUBLISH
X-WR-CALNAME:Maritiem College IJmuiden
X-ORIGINAL-URL:https://www.maritiemcollegeijmuiden.nl
X-WR-CALDESC:Evenementen voor Maritiem College IJmuiden
REFRESH-INTERVAL;VALUE=DURATION:PT1H
X-Robots-Tag:noindex
X-PUBLISHED-TTL:PT1H
BEGIN:VTIMEZONE
TZID:Europe/Amsterdam
BEGIN:DAYLIGHT
TZOFFSETFROM:+0100
TZOFFSETTO:+0200
TZNAME:CEST
DTSTART:20210328T010000
END:DAYLIGHT
BEGIN:STANDARD
TZOFFSETFROM:+0200
TZOFFSETTO:+0100
TZNAME:CET
DTSTART:20211031T010000
END:STANDARD
BEGIN:DAYLIGHT
TZOFFSETFROM:+0100
TZOFFSETTO:+0200
TZNAME:CEST
DTSTART:20220327T010000
END:DAYLIGHT
BEGIN:STANDARD
TZOFFSETFROM:+0200
TZOFFSETTO:+0100
TZNAME:CET
DTSTART:20221030T010000
END:STANDARD
BEGIN:DAYLIGHT
TZOFFSETFROM:+0100
TZOFFSETTO:+0200
TZNAME:CEST
DTSTART:20230326T010000
END:DAYLIGHT
BEGIN:STANDARD
TZOFFSETFROM:+0200
TZOFFSETTO:+0100
TZNAME:CET
DTSTART:20231029T010000
END:STANDARD
BEGIN:DAYLIGHT
TZOFFSETFROM:+0100
TZOFFSETTO:+0200
TZNAME:CEST
DTSTART:20240331T010000
END:DAYLIGHT
BEGIN:STANDARD
TZOFFSETFROM:+0200
TZOFFSETTO:+0100
TZNAME:CET
DTSTART:20241027T010000
END:STANDARD
END:VTIMEZONE
BEGIN:VEVENT
DTSTART;TZID=Europe/Amsterdam:20230926T080000
DTEND;TZID=Europe/Amsterdam:20230926T170000
DTSTAMP:20260421T062203
CREATED:20230919T105139Z
LAST-MODIFIED:20230919T105139Z
UID:5722-1695715200-1695747600@www.maritiemcollegeijmuiden.nl
SUMMARY:Sportdag (onderbouw)
DESCRIPTION:
URL:https://www.maritiemcollegeijmuiden.nl/event/sportdag-onderbouw/
END:VEVENT
BEGIN:VEVENT
DTSTART;TZID=Europe/Amsterdam:20230925T080000
DTEND;TZID=Europe/Amsterdam:20230929T170000
DTSTAMP:20260421T062203
CREATED:20230907T074724Z
LAST-MODIFIED:20230907T074724Z
UID:5680-1695628800-1696006800@www.maritiemcollegeijmuiden.nl
SUMMARY:Week tegen het pesten
DESCRIPTION:
URL:https://www.maritiemcollegeijmuiden.nl/event/week-tegen-het-pesten/
END:VEVENT
BEGIN:VEVENT
DTSTART;TZID=Europe/Amsterdam:20230722T080000
DTEND;TZID=Europe/Amsterdam:20230903T170000
DTSTAMP:20260421T062203
CREATED:20220713T133505Z
LAST-MODIFIED:20220713T133505Z
UID:4765-1690012800-1693760400@www.maritiemcollegeijmuiden.nl
SUMMARY:Zomervakantie
DESCRIPTION:
URL:https://www.maritiemcollegeijmuiden.nl/event/zomervakantie-32/
END:VEVENT
BEGIN:VEVENT
DTSTART;VALUE=DATE:20230718
DTEND;VALUE=DATE:20230719
DTSTAMP:20260421T062203
CREATED:20220713T132412Z
LAST-MODIFIED:20220713T132412Z
UID:4763-1689638400-1689724799@www.maritiemcollegeijmuiden.nl
SUMMARY:Diploma-uitreiking
DESCRIPTION:
URL:https://www.maritiemcollegeijmuiden.nl/event/diploma-uitreiking-2/
END:VEVENT
BEGIN:VEVENT
DTSTART;VALUE=DATE:20230622
DTEND;VALUE=DATE:20230623
DTSTAMP:20260421T062203
CREATED:20220713T132338Z
LAST-MODIFIED:20220713T132338Z
UID:4761-1687392000-1687478399@www.maritiemcollegeijmuiden.nl
SUMMARY:Sportdag
DESCRIPTION:
URL:https://www.maritiemcollegeijmuiden.nl/event/sportdag-5/
END:VEVENT
BEGIN:VEVENT
DTSTART;TZID=Europe/Amsterdam:20230607T143000
DTEND;TZID=Europe/Amsterdam:20230607T170000
DTSTAMP:20260421T062203
CREATED:20220713T132257Z
LAST-MODIFIED:20220713T132312Z
UID:4759-1686148200-1686157200@www.maritiemcollegeijmuiden.nl
SUMMARY:Doemiddag voor groep 7
DESCRIPTION:
URL:https://www.maritiemcollegeijmuiden.nl/event/doemiddag-voor-groep-7/
END:VEVENT
BEGIN:VEVENT
DTSTART;TZID=Europe/Amsterdam:20230602T080000
DTEND;TZID=Europe/Amsterdam:20230602T170000
DTSTAMP:20260421T062203
CREATED:20230522T124633Z
LAST-MODIFIED:20230522T124633Z
UID:5271-1685692800-1685725200@www.maritiemcollegeijmuiden.nl
SUMMARY:Schoolreis (klas 2 en 3)
DESCRIPTION:
URL:https://www.maritiemcollegeijmuiden.nl/event/schoolreis-klas-2-en-3/
END:VEVENT
BEGIN:VEVENT
DTSTART;VALUE=DATE:20230529
DTEND;VALUE=DATE:20230530
DTSTAMP:20260421T062203
CREATED:20220713T132152Z
LAST-MODIFIED:20220713T132152Z
UID:4757-1685318400-1685404799@www.maritiemcollegeijmuiden.nl
SUMMARY:Pinksteren
DESCRIPTION:
URL:https://www.maritiemcollegeijmuiden.nl/event/pinksteren/
END:VEVENT
BEGIN:VEVENT
DTSTART;TZID=Europe/Amsterdam:20230526T083000
DTEND;TZID=Europe/Amsterdam:20230526T170000
DTSTAMP:20260421T062203
CREATED:20220713T132117Z
LAST-MODIFIED:20220713T132117Z
UID:4755-1685089800-1685120400@www.maritiemcollegeijmuiden.nl
SUMMARY:Studiedag
DESCRIPTION:
URL:https://www.maritiemcollegeijmuiden.nl/event/studiedag-4/
END:VEVENT
BEGIN:VEVENT
DTSTART;VALUE=DATE:20230519
DTEND;VALUE=DATE:20230520
DTSTAMP:20260421T062203
CREATED:20220713T132038Z
LAST-MODIFIED:20220713T132038Z
UID:4753-1684454400-1684540799@www.maritiemcollegeijmuiden.nl
SUMMARY:vrij
DESCRIPTION:
URL:https://www.maritiemcollegeijmuiden.nl/event/vrij/
END:VEVENT
BEGIN:VEVENT
DTSTART;VALUE=DATE:20230518
DTEND;VALUE=DATE:20230519
DTSTAMP:20260421T062203
CREATED:20220713T132009Z
LAST-MODIFIED:20220713T132009Z
UID:4751-1684368000-1684454399@www.maritiemcollegeijmuiden.nl
SUMMARY:Hemelvaartsdag
DESCRIPTION:
URL:https://www.maritiemcollegeijmuiden.nl/event/hemelvaartsdag-3/
END:VEVENT
BEGIN:VEVENT
DTSTART;VALUE=DATE:20230422
DTEND;VALUE=DATE:20230508
DTSTAMP:20260421T062203
CREATED:20220713T131937Z
LAST-MODIFIED:20220713T131937Z
UID:4749-1682121600-1683503999@www.maritiemcollegeijmuiden.nl
SUMMARY:Meivakantie
DESCRIPTION:
URL:https://www.maritiemcollegeijmuiden.nl/event/meivakantie-12/
END:VEVENT
BEGIN:VEVENT
DTSTART;TZID=Europe/Amsterdam:20230419T130000
DTEND;TZID=Europe/Amsterdam:20230419T143000
DTSTAMP:20260421T062203
CREATED:20220713T131850Z
LAST-MODIFIED:20220713T131850Z
UID:4747-1681909200-1681914600@www.maritiemcollegeijmuiden.nl
SUMMARY:Meidenmiddag TCV/MCIJ
DESCRIPTION:
URL:https://www.maritiemcollegeijmuiden.nl/event/meidenmiddag-tcv-mcij-3/
END:VEVENT
BEGIN:VEVENT
DTSTART;VALUE=DATE:20230410
DTEND;VALUE=DATE:20230411
DTSTAMP:20260421T062203
CREATED:20220713T131616Z
LAST-MODIFIED:20220713T131616Z
UID:4745-1681084800-1681171199@www.maritiemcollegeijmuiden.nl
SUMMARY:Pasen
DESCRIPTION:
URL:https://www.maritiemcollegeijmuiden.nl/event/pasen-2/
END:VEVENT
BEGIN:VEVENT
DTSTART;VALUE=DATE:20230407
DTEND;VALUE=DATE:20230408
DTSTAMP:20260421T062203
CREATED:20220713T131431Z
LAST-MODIFIED:20220713T131431Z
UID:4743-1680825600-1680911999@www.maritiemcollegeijmuiden.nl
SUMMARY:Goede Vrijdag = vrij
DESCRIPTION:
URL:https://www.maritiemcollegeijmuiden.nl/event/goede-vrijdag-vrij/
END:VEVENT
BEGIN:VEVENT
DTSTART;TZID=Europe/Amsterdam:20230406T140000
DTEND;TZID=Europe/Amsterdam:20230406T170000
DTSTAMP:20260421T062203
CREATED:20220713T131404Z
LAST-MODIFIED:20220713T131404Z
UID:4741-1680789600-1680800400@www.maritiemcollegeijmuiden.nl
SUMMARY:Kickoff IRun2BFit
DESCRIPTION:
URL:https://www.maritiemcollegeijmuiden.nl/event/kickoff-irun2bfit/
END:VEVENT
BEGIN:VEVENT
DTSTART;TZID=Europe/Amsterdam:20230406T070000
DTEND;TZID=Europe/Amsterdam:20230406T090000
DTSTAMP:20260421T062203
CREATED:20220713T131304Z
LAST-MODIFIED:20220713T131304Z
UID:4739-1680764400-1680771600@www.maritiemcollegeijmuiden.nl
SUMMARY:Ondernemersontbijt
DESCRIPTION:
URL:https://www.maritiemcollegeijmuiden.nl/event/ondernemersontbijt/
END:VEVENT
BEGIN:VEVENT
DTSTART;VALUE=DATE:20230330
DTEND;VALUE=DATE:20230331
DTSTAMP:20260421T062203
CREATED:20220713T131222Z
LAST-MODIFIED:20220713T131222Z
UID:4737-1680134400-1680220799@www.maritiemcollegeijmuiden.nl
SUMMARY:Girlsday Techport
DESCRIPTION:
URL:https://www.maritiemcollegeijmuiden.nl/event/girlsday-techport/
END:VEVENT
BEGIN:VEVENT
DTSTART;TZID=Europe/Amsterdam:20230323T130000
DTEND;TZID=Europe/Amsterdam:20230323T170000
DTSTAMP:20260421T062203
CREATED:20220713T131144Z
LAST-MODIFIED:20220713T131144Z
UID:4735-1679576400-1679590800@www.maritiemcollegeijmuiden.nl
SUMMARY:Studiemiddag
DESCRIPTION:
URL:https://www.maritiemcollegeijmuiden.nl/event/studiemiddag-14/
END:VEVENT
BEGIN:VEVENT
DTSTART;VALUE=DATE:20230225
DTEND;VALUE=DATE:20230306
DTSTAMP:20260421T062203
CREATED:20220713T131041Z
LAST-MODIFIED:20220713T131058Z
UID:4733-1677283200-1678060799@www.maritiemcollegeijmuiden.nl
SUMMARY:Voorjaarsvakantie
DESCRIPTION:
URL:https://www.maritiemcollegeijmuiden.nl/event/voorjaarsvakantie-2/
END:VEVENT
BEGIN:VEVENT
DTSTART;TZID=Europe/Amsterdam:20230215T143000
DTEND;TZID=Europe/Amsterdam:20230215T170000
DTSTAMP:20260421T062203
CREATED:20220713T131001Z
LAST-MODIFIED:20220713T131001Z
UID:4731-1676471400-1676480400@www.maritiemcollegeijmuiden.nl
SUMMARY:Doemiddag
DESCRIPTION:
URL:https://www.maritiemcollegeijmuiden.nl/event/doemiddag-5/
END:VEVENT
BEGIN:VEVENT
DTSTART;TZID=Europe/Amsterdam:20230214T130000
DTEND;TZID=Europe/Amsterdam:20230214T170000
DTSTAMP:20260421T062203
CREATED:20220713T130927Z
LAST-MODIFIED:20220713T130927Z
UID:4729-1676379600-1676394000@www.maritiemcollegeijmuiden.nl
SUMMARY:Studiemiddag
DESCRIPTION:
URL:https://www.maritiemcollegeijmuiden.nl/event/studiemiddag-13/
END:VEVENT
BEGIN:VEVENT
DTSTART;TZID=Europe/Amsterdam:20230210T180000
DTEND;TZID=Europe/Amsterdam:20230210T210000
DTSTAMP:20260421T062203
CREATED:20220713T130852Z
LAST-MODIFIED:20220713T130852Z
UID:4727-1676052000-1676062800@www.maritiemcollegeijmuiden.nl
SUMMARY:Open avond
DESCRIPTION:
URL:https://www.maritiemcollegeijmuiden.nl/event/open-avond-2/
END:VEVENT
BEGIN:VEVENT
DTSTART;TZID=Europe/Amsterdam:20230207T183000
DTEND;TZID=Europe/Amsterdam:20230207T210000
DTSTAMP:20260421T062203
CREATED:20220713T130818Z
LAST-MODIFIED:20220713T130818Z
UID:4725-1675794600-1675803600@www.maritiemcollegeijmuiden.nl
SUMMARY:Girls Night
DESCRIPTION:
URL:https://www.maritiemcollegeijmuiden.nl/event/girls-night/
END:VEVENT
BEGIN:VEVENT
DTSTART;VALUE=DATE:20230207
DTEND;VALUE=DATE:20230208
DTSTAMP:20260421T062203
CREATED:20220713T130747Z
LAST-MODIFIED:20220713T130747Z
UID:4723-1675728000-1675814399@www.maritiemcollegeijmuiden.nl
SUMMARY:Sportdag
DESCRIPTION:
URL:https://www.maritiemcollegeijmuiden.nl/event/sportdag-4/
END:VEVENT
BEGIN:VEVENT
DTSTART;TZID=Europe/Amsterdam:20230124T130000
DTEND;TZID=Europe/Amsterdam:20230124T170000
DTSTAMP:20260421T062203
CREATED:20220713T130713Z
LAST-MODIFIED:20220713T130713Z
UID:4721-1674565200-1674579600@www.maritiemcollegeijmuiden.nl
SUMMARY:Studiemiddag
DESCRIPTION:
URL:https://www.maritiemcollegeijmuiden.nl/event/studiemiddag-12/
END:VEVENT
BEGIN:VEVENT
DTSTART;TZID=Europe/Amsterdam:20230118T130000
DTEND;TZID=Europe/Amsterdam:20230118T140000
DTSTAMP:20260421T062203
CREATED:20220713T130649Z
LAST-MODIFIED:20220713T130649Z
UID:4719-1674046800-1674050400@www.maritiemcollegeijmuiden.nl
SUMMARY:Meidenmiddag TCV/MCIJ
DESCRIPTION:
URL:https://www.maritiemcollegeijmuiden.nl/event/meidenmiddag-tcv-mcij-2/
END:VEVENT
BEGIN:VEVENT
DTSTART;TZID=Europe/Amsterdam:20230111T130000
DTEND;TZID=Europe/Amsterdam:20230111T170000
DTSTAMP:20260421T062203
CREATED:20220713T130608Z
LAST-MODIFIED:20220713T130608Z
UID:4717-1673442000-1673456400@www.maritiemcollegeijmuiden.nl
SUMMARY:Debatwedstrijd leerjaar 2
DESCRIPTION:
URL:https://www.maritiemcollegeijmuiden.nl/event/debatwedstrijd-leerjaar-2/
END:VEVENT
BEGIN:VEVENT
DTSTART;VALUE=DATE:20221231
DTEND;VALUE=DATE:20230101
DTSTAMP:20260421T062203
CREATED:20210202T134949Z
LAST-MODIFIED:20210202T134949Z
UID:2822-1672444800-1672531199@www.maritiemcollegeijmuiden.nl
SUMMARY:Oudejaarsavond
DESCRIPTION:
URL:https://www.maritiemcollegeijmuiden.nl/event/oudejaarsavond-2/
END:VEVENT
BEGIN:VEVENT
DTSTART;VALUE=DATE:20221226
DTEND;VALUE=DATE:20221227
DTSTAMP:20260421T062203
CREATED:20210202T134948Z
LAST-MODIFIED:20210202T134948Z
UID:2820-1672012800-1672099199@www.maritiemcollegeijmuiden.nl
SUMMARY:Tweede Kerstdag
DESCRIPTION:
URL:https://www.maritiemcollegeijmuiden.nl/event/tweede-kerstdag-2/
END:VEVENT
END:VCALENDAR