BEGIN:VCALENDAR
VERSION:2.0
PRODID:-//Maritiem College IJmuiden - ECPv6.15.20//NONSGML v1.0//EN
CALSCALE:GREGORIAN
METHOD:PUBLISH
X-WR-CALNAME:Maritiem College IJmuiden
X-ORIGINAL-URL:https://www.maritiemcollegeijmuiden.nl
X-WR-CALDESC:Evenementen voor Maritiem College IJmuiden
REFRESH-INTERVAL;VALUE=DURATION:PT1H
X-Robots-Tag:noindex
X-PUBLISHED-TTL:PT1H
BEGIN:VTIMEZONE
TZID:Europe/Amsterdam
BEGIN:DAYLIGHT
TZOFFSETFROM:+0100
TZOFFSETTO:+0200
TZNAME:CEST
DTSTART:20250330T010000
END:DAYLIGHT
BEGIN:STANDARD
TZOFFSETFROM:+0200
TZOFFSETTO:+0100
TZNAME:CET
DTSTART:20251026T010000
END:STANDARD
BEGIN:DAYLIGHT
TZOFFSETFROM:+0100
TZOFFSETTO:+0200
TZNAME:CEST
DTSTART:20260329T010000
END:DAYLIGHT
BEGIN:STANDARD
TZOFFSETFROM:+0200
TZOFFSETTO:+0100
TZNAME:CET
DTSTART:20261025T010000
END:STANDARD
BEGIN:DAYLIGHT
TZOFFSETFROM:+0100
TZOFFSETTO:+0200
TZNAME:CEST
DTSTART:20270328T010000
END:DAYLIGHT
BEGIN:STANDARD
TZOFFSETFROM:+0200
TZOFFSETTO:+0100
TZNAME:CET
DTSTART:20271031T010000
END:STANDARD
END:VTIMEZONE
BEGIN:VEVENT
DTSTART;TZID=Europe/Amsterdam:20260325T080000
DTEND;TZID=Europe/Amsterdam:20260331T170000
DTSTAMP:20260420T064256
CREATED:20250617T114217Z
LAST-MODIFIED:20250617T114217Z
UID:7590-1774425600-1774976400@www.maritiemcollegeijmuiden.nl
SUMMARY:Landelijke aanmeldweek
DESCRIPTION:
URL:https://www.maritiemcollegeijmuiden.nl/event/landelijke-aanmeldweek-3/
END:VEVENT
BEGIN:VEVENT
DTSTART;TZID=Europe/Amsterdam:20260330T080000
DTEND;TZID=Europe/Amsterdam:20260330T170000
DTSTAMP:20260420T064256
CREATED:20250908T142728Z
LAST-MODIFIED:20250908T142728Z
UID:7757-1774857600-1774890000@www.maritiemcollegeijmuiden.nl
SUMMARY:Herkansing tentamen\, leerjaar 4
DESCRIPTION:
URL:https://www.maritiemcollegeijmuiden.nl/event/herkansing-tentamen-leerjaar-4-3/
END:VEVENT
BEGIN:VEVENT
DTSTART;TZID=Europe/Amsterdam:20260402T130000
DTEND;TZID=Europe/Amsterdam:20260402T170000
DTSTAMP:20260420T064256
CREATED:20250908T140928Z
LAST-MODIFIED:20250908T140928Z
UID:7753-1775134800-1775149200@www.maritiemcollegeijmuiden.nl
SUMMARY:Studiemiddag
DESCRIPTION:
URL:https://www.maritiemcollegeijmuiden.nl/event/studiemiddag-25/
END:VEVENT
BEGIN:VEVENT
DTSTART;VALUE=DATE:20260403
DTEND;VALUE=DATE:20260404
DTSTAMP:20260420T064256
CREATED:20250617T114637Z
LAST-MODIFIED:20250617T114637Z
UID:7592-1775174400-1775260799@www.maritiemcollegeijmuiden.nl
SUMMARY:Goede vrijdag (roostervrije dag leerlingen)
DESCRIPTION:
URL:https://www.maritiemcollegeijmuiden.nl/event/goede-vrijdag-roostervrije-dag-leerlingen/
END:VEVENT
BEGIN:VEVENT
DTSTART;TZID=Europe/Amsterdam:20260406T080000
DTEND;TZID=Europe/Amsterdam:20260406T170000
DTSTAMP:20260420T064256
CREATED:20250211T110555Z
LAST-MODIFIED:20250211T110555Z
UID:7188-1775462400-1775494800@www.maritiemcollegeijmuiden.nl
SUMMARY:2e paasdag
DESCRIPTION:
URL:https://www.maritiemcollegeijmuiden.nl/event/2e-paasdag-2/
END:VEVENT
BEGIN:VEVENT
DTSTART;TZID=Europe/Amsterdam:20260407T080000
DTEND;TZID=Europe/Amsterdam:20260421T170000
DTSTAMP:20260420T064256
CREATED:20250911T100110Z
LAST-MODIFIED:20260407T075142Z
UID:7764-1775548800-1776790800@www.maritiemcollegeijmuiden.nl
SUMMARY:CSPE\, leerjaar 3
DESCRIPTION:
URL:https://www.maritiemcollegeijmuiden.nl/event/cito-3-leerjaar-3/
END:VEVENT
BEGIN:VEVENT
DTSTART;TZID=Europe/Amsterdam:20260410T073000
DTEND;TZID=Europe/Amsterdam:20260410T090000
DTSTAMP:20260420T064256
CREATED:20260302T150337Z
LAST-MODIFIED:20260302T150337Z
UID:8189-1775806200-1775811600@www.maritiemcollegeijmuiden.nl
SUMMARY:Ondernemersontbijt
DESCRIPTION:
URL:https://www.maritiemcollegeijmuiden.nl/event/ondernemersontbijt-3/
END:VEVENT
BEGIN:VEVENT
DTSTART;TZID=Europe/Amsterdam:20260422T080000
DTEND;TZID=Europe/Amsterdam:20260505T170000
DTSTAMP:20260420T064256
CREATED:20250211T110633Z
LAST-MODIFIED:20250211T110633Z
UID:7190-1776844800-1778000400@www.maritiemcollegeijmuiden.nl
SUMMARY:Meivakantie
DESCRIPTION:
URL:https://www.maritiemcollegeijmuiden.nl/event/meivakantie-15/
END:VEVENT
BEGIN:VEVENT
DTSTART;TZID=Europe/Amsterdam:20260506T080000
DTEND;TZID=Europe/Amsterdam:20260513T170000
DTSTAMP:20260420T064256
CREATED:20260407T075345Z
LAST-MODIFIED:20260407T075345Z
UID:8219-1778054400-1778691600@www.maritiemcollegeijmuiden.nl
SUMMARY:CSPE\, leerjaar 3
DESCRIPTION:
URL:https://www.maritiemcollegeijmuiden.nl/event/cspe-leerjaar-3-3/
END:VEVENT
BEGIN:VEVENT
DTSTART;TZID=Europe/Amsterdam:20260507T080000
DTEND;TZID=Europe/Amsterdam:20260521T170000
DTSTAMP:20260420T064256
CREATED:20250617T115142Z
LAST-MODIFIED:20250617T115355Z
UID:7594-1778140800-1779382800@www.maritiemcollegeijmuiden.nl
SUMMARY:Centraal eindexamen\, leerjaar 4
DESCRIPTION:
URL:https://www.maritiemcollegeijmuiden.nl/event/centraal-eindexamen-leerjaar-4-3/
END:VEVENT
BEGIN:VEVENT
DTSTART;TZID=Europe/Amsterdam:20260511T080000
DTEND;TZID=Europe/Amsterdam:20260512T170000
DTSTAMP:20260420T064256
CREATED:20250902T144238Z
LAST-MODIFIED:20250902T144238Z
UID:7734-1778486400-1778605200@www.maritiemcollegeijmuiden.nl
SUMMARY:CITO 1\, leerjaar 1
DESCRIPTION:
URL:https://www.maritiemcollegeijmuiden.nl/event/cito-1-leerjaar-1/
END:VEVENT
BEGIN:VEVENT
DTSTART;TZID=Europe/Amsterdam:20260514T080000
DTEND;TZID=Europe/Amsterdam:20260515T170000
DTSTAMP:20260420T064256
CREATED:20250211T110704Z
LAST-MODIFIED:20250211T110704Z
UID:7192-1778745600-1778864400@www.maritiemcollegeijmuiden.nl
SUMMARY:Hemelvaart
DESCRIPTION:
URL:https://www.maritiemcollegeijmuiden.nl/event/hemelvaart/
END:VEVENT
BEGIN:VEVENT
DTSTART;TZID=Europe/Amsterdam:20260518T080000
DTEND;TZID=Europe/Amsterdam:20260520T170000
DTSTAMP:20260420T064256
CREATED:20251208T144106Z
LAST-MODIFIED:20251208T144807Z
UID:8028-1779091200-1779296400@www.maritiemcollegeijmuiden.nl
SUMMARY:CITO 3\, leerjaar 3
DESCRIPTION:
URL:https://www.maritiemcollegeijmuiden.nl/event/cito-3-leerjaar-3-2/
END:VEVENT
BEGIN:VEVENT
DTSTART;TZID=Europe/Amsterdam:20260525T080000
DTEND;TZID=Europe/Amsterdam:20260525T170000
DTSTAMP:20260420T064256
CREATED:20250211T110732Z
LAST-MODIFIED:20250211T110732Z
UID:7194-1779696000-1779728400@www.maritiemcollegeijmuiden.nl
SUMMARY:2e pinksterdag
DESCRIPTION:
URL:https://www.maritiemcollegeijmuiden.nl/event/2e-pinksterdag-2/
END:VEVENT
BEGIN:VEVENT
DTSTART;TZID=Europe/Amsterdam:20260526T080000
DTEND;TZID=Europe/Amsterdam:20260529T170000
DTSTAMP:20260420T064256
CREATED:20250630T113534Z
LAST-MODIFIED:20251208T143945Z
UID:7638-1779782400-1780074000@www.maritiemcollegeijmuiden.nl
SUMMARY:Tentamenweek\, leerjaar 3
DESCRIPTION:
URL:https://www.maritiemcollegeijmuiden.nl/event/tentamenweek-leerjaar-3/
END:VEVENT
BEGIN:VEVENT
DTSTART;TZID=Europe/Amsterdam:20260603T143000
DTEND;TZID=Europe/Amsterdam:20260603T170000
DTSTAMP:20260420T064256
CREATED:20250617T110850Z
LAST-MODIFIED:20250617T110850Z
UID:7575-1780497000-1780506000@www.maritiemcollegeijmuiden.nl
SUMMARY:Doe-middag (groep 7)
DESCRIPTION:
URL:https://www.maritiemcollegeijmuiden.nl/event/doe-middag-groep-7-2/
END:VEVENT
BEGIN:VEVENT
DTSTART;TZID=Europe/Amsterdam:20260605T080000
DTEND;TZID=Europe/Amsterdam:20260605T170000
DTSTAMP:20260420T064256
CREATED:20250908T143451Z
LAST-MODIFIED:20250908T143451Z
UID:7759-1780646400-1780678800@www.maritiemcollegeijmuiden.nl
SUMMARY:Schoolreis\, leerjaar 1+2+3
DESCRIPTION:
URL:https://www.maritiemcollegeijmuiden.nl/event/schoolreis-leerjaar-123/
END:VEVENT
BEGIN:VEVENT
DTSTART;TZID=Europe/Amsterdam:20260610T080000
DTEND;TZID=Europe/Amsterdam:20260610T170000
DTSTAMP:20260420T064256
CREATED:20250904T071858Z
LAST-MODIFIED:20260409T092428Z
UID:7742-1781078400-1781110800@www.maritiemcollegeijmuiden.nl
SUMMARY:Sportdag\, lj. 1+2+3
DESCRIPTION:
URL:https://www.maritiemcollegeijmuiden.nl/event/sportdag-lj-123/
END:VEVENT
BEGIN:VEVENT
DTSTART;VALUE=DATE:20260612
DTEND;VALUE=DATE:20260613
DTSTAMP:20260420T064256
CREATED:20250630T113702Z
LAST-MODIFIED:20250630T113702Z
UID:7640-1781222400-1781308799@www.maritiemcollegeijmuiden.nl
SUMMARY:Herkansing tentamen\, leerjaar 3
DESCRIPTION:
URL:https://www.maritiemcollegeijmuiden.nl/event/herkansing-tentamen-leerjaar-3-3/
END:VEVENT
BEGIN:VEVENT
DTSTART;TZID=Europe/Amsterdam:20260615T080000
DTEND;TZID=Europe/Amsterdam:20260626T170000
DTSTAMP:20260420T064256
CREATED:20250630T113153Z
LAST-MODIFIED:20250630T113215Z
UID:7633-1781510400-1782493200@www.maritiemcollegeijmuiden.nl
SUMMARY:Blokstage\, leerjaar 3 (alleen Scheeps- en Jachtbouw)
DESCRIPTION:
URL:https://www.maritiemcollegeijmuiden.nl/event/blokstage-leerjaar-3-3/
END:VEVENT
BEGIN:VEVENT
DTSTART;TZID=Europe/Amsterdam:20260619T180000
DTEND;TZID=Europe/Amsterdam:20260619T200000
DTSTAMP:20260420T064256
CREATED:20250908T143547Z
LAST-MODIFIED:20250908T143547Z
UID:7761-1781892000-1781899200@www.maritiemcollegeijmuiden.nl
SUMMARY:Grachtenloop
DESCRIPTION:
URL:https://www.maritiemcollegeijmuiden.nl/event/grachtenloop-2/
END:VEVENT
BEGIN:VEVENT
DTSTART;TZID=Europe/Amsterdam:20260622T080000
DTEND;TZID=Europe/Amsterdam:20260626T170000
DTSTAMP:20260420T064256
CREATED:20250707T125540Z
LAST-MODIFIED:20250707T125540Z
UID:7687-1782115200-1782493200@www.maritiemcollegeijmuiden.nl
SUMMARY:Portfolioweek
DESCRIPTION:
URL:https://www.maritiemcollegeijmuiden.nl/event/portfolioweek-11/
END:VEVENT
BEGIN:VEVENT
DTSTART;VALUE=DATE:20260630
DTEND;VALUE=DATE:20260701
DTSTAMP:20260420T064256
CREATED:20250630T113406Z
LAST-MODIFIED:20250630T113406Z
UID:7636-1782777600-1782863999@www.maritiemcollegeijmuiden.nl
SUMMARY:Diploma-uitreiking
DESCRIPTION:
URL:https://www.maritiemcollegeijmuiden.nl/event/diploma-uitreiking-4/
END:VEVENT
BEGIN:VEVENT
DTSTART;TZID=Europe/Amsterdam:20260706T080000
DTEND;TZID=Europe/Amsterdam:20260814T170000
DTSTAMP:20260420T064256
CREATED:20250211T110805Z
LAST-MODIFIED:20250211T110805Z
UID:7196-1783324800-1786726800@www.maritiemcollegeijmuiden.nl
SUMMARY:Zomervakantie
DESCRIPTION:
URL:https://www.maritiemcollegeijmuiden.nl/event/zomervakantie-35/
END:VEVENT
END:VCALENDAR