BEGIN:VCALENDAR
VERSION:2.0
PRODID:-//Maritiem College IJmuiden - ECPv6.15.20//NONSGML v1.0//EN
CALSCALE:GREGORIAN
METHOD:PUBLISH
X-WR-CALNAME:Maritiem College IJmuiden
X-ORIGINAL-URL:https://www.maritiemcollegeijmuiden.nl
X-WR-CALDESC:Evenementen voor Maritiem College IJmuiden
REFRESH-INTERVAL;VALUE=DURATION:PT1H
X-Robots-Tag:noindex
X-PUBLISHED-TTL:PT1H
BEGIN:VTIMEZONE
TZID:Europe/Amsterdam
BEGIN:DAYLIGHT
TZOFFSETFROM:+0100
TZOFFSETTO:+0200
TZNAME:CEST
DTSTART:20210328T010000
END:DAYLIGHT
BEGIN:STANDARD
TZOFFSETFROM:+0200
TZOFFSETTO:+0100
TZNAME:CET
DTSTART:20211031T010000
END:STANDARD
BEGIN:DAYLIGHT
TZOFFSETFROM:+0100
TZOFFSETTO:+0200
TZNAME:CEST
DTSTART:20220327T010000
END:DAYLIGHT
BEGIN:STANDARD
TZOFFSETFROM:+0200
TZOFFSETTO:+0100
TZNAME:CET
DTSTART:20221030T010000
END:STANDARD
BEGIN:DAYLIGHT
TZOFFSETFROM:+0100
TZOFFSETTO:+0200
TZNAME:CEST
DTSTART:20230326T010000
END:DAYLIGHT
BEGIN:STANDARD
TZOFFSETFROM:+0200
TZOFFSETTO:+0100
TZNAME:CET
DTSTART:20231029T010000
END:STANDARD
END:VTIMEZONE
BEGIN:VEVENT
DTSTART;VALUE=DATE:20220829
DTEND;VALUE=DATE:20220830
DTSTAMP:20260423T125306
CREATED:20220713T121301Z
LAST-MODIFIED:20220713T121301Z
UID:4676-1661731200-1661817599@www.maritiemcollegeijmuiden.nl
SUMMARY:Start schooljaar 2022-2023
DESCRIPTION:leerjaar 1: 12.30 uur \nleerjaar 2: 13.00 uur \nleerjaar 3: 13.00 uur \nleerjaar 4: 13.00 uur \n 
URL:https://www.maritiemcollegeijmuiden.nl/event/start-schooljaar-2022-2023/
END:VEVENT
BEGIN:VEVENT
DTSTART;VALUE=DATE:20220829
DTEND;VALUE=DATE:20220903
DTSTAMP:20260423T125306
CREATED:20220713T121426Z
LAST-MODIFIED:20220713T145104Z
UID:4680-1661731200-1662163199@www.maritiemcollegeijmuiden.nl
SUMMARY:Introductieprogramma leerjaar 1\, 2 en 3
DESCRIPTION:
URL:https://www.maritiemcollegeijmuiden.nl/event/introductieprogramma-leerjaar-1-2-en-3/
END:VEVENT
END:VCALENDAR