BEGIN:VCALENDAR
VERSION:2.0
PRODID:-//Maritiem College IJmuiden - ECPv6.15.20//NONSGML v1.0//EN
CALSCALE:GREGORIAN
METHOD:PUBLISH
X-WR-CALNAME:Maritiem College IJmuiden
X-ORIGINAL-URL:https://www.maritiemcollegeijmuiden.nl
X-WR-CALDESC:Evenementen voor Maritiem College IJmuiden
REFRESH-INTERVAL;VALUE=DURATION:PT1H
X-Robots-Tag:noindex
X-PUBLISHED-TTL:PT1H
BEGIN:VTIMEZONE
TZID:UTC
BEGIN:STANDARD
TZOFFSETFROM:+0000
TZOFFSETTO:+0000
TZNAME:UTC
DTSTART:20210101T000000
END:STANDARD
END:VTIMEZONE
BEGIN:VEVENT
DTSTART;VALUE=DATE:20220221
DTEND;VALUE=DATE:20220226
DTSTAMP:20260423T204348
CREATED:20210713T065933Z
LAST-MODIFIED:20210713T065933Z
UID:3578-1645401600-1645833599@www.maritiemcollegeijmuiden.nl
SUMMARY:Voorjaarsvakantie
DESCRIPTION:
URL:https://www.maritiemcollegeijmuiden.nl/event/voorjaarsvakantie/
END:VEVENT
END:VCALENDAR