BEGIN:VCALENDAR
VERSION:2.0
PRODID:-//Maritiem College IJmuiden - ECPv6.15.20//NONSGML v1.0//EN
CALSCALE:GREGORIAN
METHOD:PUBLISH
X-WR-CALNAME:Maritiem College IJmuiden
X-ORIGINAL-URL:https://www.maritiemcollegeijmuiden.nl
X-WR-CALDESC:Evenementen voor Maritiem College IJmuiden
REFRESH-INTERVAL;VALUE=DURATION:PT1H
X-Robots-Tag:noindex
X-PUBLISHED-TTL:PT1H
BEGIN:VTIMEZONE
TZID:UTC
BEGIN:STANDARD
TZOFFSETFROM:+0000
TZOFFSETTO:+0000
TZNAME:UTC
DTSTART:20200101T000000
END:STANDARD
END:VTIMEZONE
BEGIN:VEVENT
DTSTART;VALUE=DATE:20211101
DTEND;VALUE=DATE:20211106
DTSTAMP:20260424T013122
CREATED:20210713T060401Z
LAST-MODIFIED:20210713T060401Z
UID:3539-1635724800-1636156799@www.maritiemcollegeijmuiden.nl
SUMMARY:Maritieme Week
DESCRIPTION:
URL:https://www.maritiemcollegeijmuiden.nl/event/maritieme-week/
END:VEVENT
END:VCALENDAR